BEGIN:VCALENDAR
VERSION:2.0
PRODID:-//Motherlode Christian School - ECPv6.15.20//NONSGML v1.0//EN
CALSCALE:GREGORIAN
METHOD:PUBLISH
X-WR-CALNAME:Motherlode Christian School
X-ORIGINAL-URL:https://motherlodechristian.com
X-WR-CALDESC:Events for Motherlode Christian School
REFRESH-INTERVAL;VALUE=DURATION:PT1H
X-Robots-Tag:noindex
X-PUBLISHED-TTL:PT1H
BEGIN:VTIMEZONE
TZID:UTC
BEGIN:STANDARD
TZOFFSETFROM:+0000
TZOFFSETTO:+0000
TZNAME:UTC
DTSTART:20220101T000000
END:STANDARD
END:VTIMEZONE
BEGIN:VEVENT
DTSTART;VALUE=DATE:20231117
DTEND;VALUE=DATE:20231118
DTSTAMP:20260425T084538
CREATED:20230608T011718Z
LAST-MODIFIED:20230608T012345Z
UID:3692-1700179200-1700265599@motherlodechristian.com
SUMMARY:K-8th All School Thanksgiving w/Early Dismissal 1:30p.m.
DESCRIPTION:All school Thanksgiving Feast in the Gym for K-8th with an Early Release at 1:30p.m. \n 
URL:https://motherlodechristian.com/event/k-8th-all-school-thanksgiving-w-early-dismissal-130p-m/
END:VEVENT
END:VCALENDAR