BEGIN:VCALENDAR
VERSION:2.0
PRODID:-//Motherlode Christian School - ECPv6.15.20//NONSGML v1.0//EN
CALSCALE:GREGORIAN
METHOD:PUBLISH
X-ORIGINAL-URL:https://motherlodechristian.com
X-WR-CALDESC:Events for Motherlode Christian School
REFRESH-INTERVAL;VALUE=DURATION:PT1H
X-Robots-Tag:noindex
X-PUBLISHED-TTL:PT1H
BEGIN:VTIMEZONE
TZID:UTC
BEGIN:STANDARD
TZOFFSETFROM:+0000
TZOFFSETTO:+0000
TZNAME:UTC
DTSTART:20230101T000000
END:STANDARD
END:VTIMEZONE
BEGIN:VEVENT
DTSTART;VALUE=DATE:20240115
DTEND;VALUE=DATE:20240116
DTSTAMP:20260425T054748
CREATED:20230608T013734Z
LAST-MODIFIED:20230608T013734Z
UID:3709-1705276800-1705363199@motherlodechristian.com
SUMMARY:No School K-8th - Martin Luther King Day
DESCRIPTION:
URL:https://motherlodechristian.com/event/no-school-k-8th-martin-luther-king-day/
END:VEVENT
END:VCALENDAR