BEGIN:VCALENDAR
VERSION:2.0
PRODID:-//Motherlode Christian School - ECPv6.15.20//NONSGML v1.0//EN
CALSCALE:GREGORIAN
METHOD:PUBLISH
X-WR-CALNAME:Motherlode Christian School
X-ORIGINAL-URL:https://motherlodechristian.com
X-WR-CALDESC:Events for Motherlode Christian School
REFRESH-INTERVAL;VALUE=DURATION:PT1H
X-Robots-Tag:noindex
X-PUBLISHED-TTL:PT1H
BEGIN:VTIMEZONE
TZID:UTC
BEGIN:STANDARD
TZOFFSETFROM:+0000
TZOFFSETTO:+0000
TZNAME:UTC
DTSTART:20230101T000000
END:STANDARD
END:VTIMEZONE
BEGIN:VEVENT
DTSTART;TZID=UTC:20240125T154500
DTEND;TZID=UTC:20240125T170000
DTSTAMP:20260425T054544
CREATED:20240123T010422Z
LAST-MODIFIED:20240123T010422Z
UID:4135-1706197500-1706202000@motherlodechristian.com
SUMMARY:7th Grade Boys Basketball Game
DESCRIPTION:MLCS @ Sonora 7th grade only at 3:45p.m.
URL:https://motherlodechristian.com/event/7th-grade-boys-basketball-game/
END:VEVENT
END:VCALENDAR