BEGIN:VCALENDAR
VERSION:2.0
PRODID:-//Motherlode Christian School - ECPv6.15.20//NONSGML v1.0//EN
CALSCALE:GREGORIAN
METHOD:PUBLISH
X-WR-CALNAME:Motherlode Christian School
X-ORIGINAL-URL:https://motherlodechristian.com
X-WR-CALDESC:Events for Motherlode Christian School
REFRESH-INTERVAL;VALUE=DURATION:PT1H
X-Robots-Tag:noindex
X-PUBLISHED-TTL:PT1H
BEGIN:VTIMEZONE
TZID:UTC
BEGIN:STANDARD
TZOFFSETFROM:+0000
TZOFFSETTO:+0000
TZNAME:UTC
DTSTART:20230101T000000
END:STANDARD
END:VTIMEZONE
BEGIN:VEVENT
DTSTART;TZID=UTC:20240207T154500
DTEND;TZID=UTC:20240207T190000
DTSTAMP:20260425T035839
CREATED:20240123T011235Z
LAST-MODIFIED:20240123T011235Z
UID:4141-1707320700-1707332400@motherlodechristian.com
SUMMARY:Boys Basketball 6th\, 7th & 8th Grades
DESCRIPTION:MLCS @ Soulsbyville 6th\, 7th and 8th grades. \nGame times- 3:45 / 4:45 / 5:45.
URL:https://motherlodechristian.com/event/boys-basketball-6th-7th-8th-grades/
END:VEVENT
END:VCALENDAR