BEGIN:VCALENDAR
VERSION:2.0
PRODID:-//Motherlode Christian School - ECPv6.15.20//NONSGML v1.0//EN
CALSCALE:GREGORIAN
METHOD:PUBLISH
X-WR-CALNAME:Motherlode Christian School
X-ORIGINAL-URL:https://motherlodechristian.com
X-WR-CALDESC:Events for Motherlode Christian School
REFRESH-INTERVAL;VALUE=DURATION:PT1H
X-Robots-Tag:noindex
X-PUBLISHED-TTL:PT1H
BEGIN:VTIMEZONE
TZID:UTC
BEGIN:STANDARD
TZOFFSETFROM:+0000
TZOFFSETTO:+0000
TZNAME:UTC
DTSTART:20230101T000000
END:STANDARD
END:VTIMEZONE
BEGIN:VEVENT
DTSTART;TZID=UTC:20240213T154500
DTEND;TZID=UTC:20240213T190000
DTSTAMP:20260425T041533
CREATED:20240123T011407Z
LAST-MODIFIED:20240123T011407Z
UID:4143-1707839100-1707850800@motherlodechristian.com
SUMMARY:Boys Basketball 6th & 7th grade
DESCRIPTION:Columbia @ MLCS 6th & 7th grades. \nGame time – 3:45 / 4:45 .
URL:https://motherlodechristian.com/event/boys-basketball-6th-7th-grade/
END:VEVENT
BEGIN:VEVENT
DTSTART;TZID=UTC:20240213T163000
DTEND;TZID=UTC:20240213T173000
DTSTAMP:20260425T041533
CREATED:20231028T014302Z
LAST-MODIFIED:20231028T014302Z
UID:4092-1707841800-1707845400@motherlodechristian.com
SUMMARY:Board Meeting
DESCRIPTION:MLCS Board Meeting- open session at 4:30pm in the Chapel. \nPlease come and join us.
URL:https://motherlodechristian.com/event/board-meeting-6/
END:VEVENT
END:VCALENDAR