BEGIN:VCALENDAR
VERSION:2.0
PRODID:-//Motherlode Christian School - ECPv6.15.20//NONSGML v1.0//EN
CALSCALE:GREGORIAN
METHOD:PUBLISH
X-WR-CALNAME:Motherlode Christian School
X-ORIGINAL-URL:https://motherlodechristian.com
X-WR-CALDESC:Events for Motherlode Christian School
REFRESH-INTERVAL;VALUE=DURATION:PT1H
X-Robots-Tag:noindex
X-PUBLISHED-TTL:PT1H
BEGIN:VTIMEZONE
TZID:UTC
BEGIN:STANDARD
TZOFFSETFROM:+0000
TZOFFSETTO:+0000
TZNAME:UTC
DTSTART:20230101T000000
END:STANDARD
END:VTIMEZONE
BEGIN:VEVENT
DTSTART;VALUE=DATE:20240223
DTEND;VALUE=DATE:20240225
DTSTAMP:20260425T041427
CREATED:20230608T014728Z
LAST-MODIFIED:20230608T014728Z
UID:3717-1708646400-1708819199@motherlodechristian.com
SUMMARY:MLCS Annual Winter Jubilee/23rd Early Realase K-8th 11:30a.m.
DESCRIPTION:MLCS Winter Jubilee – Friday February 23rd is an Early Release for K-8th grade at 11:30a.m. \nThis is our Annual Fundraiser that helps support MLCS. It is held at the Sonora Fair Grounds on the 23rd and 24th and doors will open at 4p.m on Friday w/a dinner to help fundraise for 7th & 8th grade D.C. trip. Silent Auction and Book sale starts along with the Pie Booth and Preview the Live Auction items. \nDoors open Saturday at 9.am. and Live Auction starts at 11:3o.
URL:https://motherlodechristian.com/event/mlcs-annual-winter-jubilee-23rd-early-realase-k-8th-1130a-m/
END:VEVENT
END:VCALENDAR