BEGIN:VCALENDAR
VERSION:2.0
PRODID:-//Motherlode Christian School - ECPv6.15.20//NONSGML v1.0//EN
CALSCALE:GREGORIAN
METHOD:PUBLISH
X-WR-CALNAME:Motherlode Christian School
X-ORIGINAL-URL:https://motherlodechristian.com
X-WR-CALDESC:Events for Motherlode Christian School
REFRESH-INTERVAL;VALUE=DURATION:PT1H
X-Robots-Tag:noindex
X-PUBLISHED-TTL:PT1H
BEGIN:VTIMEZONE
TZID:UTC
BEGIN:STANDARD
TZOFFSETFROM:+0000
TZOFFSETTO:+0000
TZNAME:UTC
DTSTART:20230101T000000
END:STANDARD
END:VTIMEZONE
BEGIN:VEVENT
DTSTART;TZID=UTC:20240909T150000
DTEND;TZID=UTC:20240911T200000
DTSTAMP:20260424T165141
CREATED:20240903T223217Z
LAST-MODIFIED:20240903T223217Z
UID:4567-1725894000-1726084800@motherlodechristian.com
SUMMARY:6th Grade Girls Basketball Preseason Tournament @ MLCS
DESCRIPTION:6th Grade Girls Basketball Preseason Tournament @ MLCS   Game times TBA. \n 
URL:https://motherlodechristian.com/event/6th-grade-girls-basketball-preseason-tournament-mlcs/
END:VEVENT
BEGIN:VEVENT
DTSTART;TZID=UTC:20240910T140000
DTEND;TZID=UTC:20240910T150000
DTSTAMP:20260424T165141
CREATED:20240905T043923Z
LAST-MODIFIED:20240905T043923Z
UID:4681-1725976800-1725980400@motherlodechristian.com
SUMMARY:PTF Meeting 2p.m.
DESCRIPTION:PTF meets every 2nd Tuesday of the month at 2p.m. \nGet to know the school\, other families and be a part of making a difference here at MLCS.
URL:https://motherlodechristian.com/event/ptf-meeting-2p-m/
END:VEVENT
BEGIN:VEVENT
DTSTART;TZID=UTC:20240910T163000
DTEND;TZID=UTC:20240910T173000
DTSTAMP:20260424T165141
CREATED:20240905T041359Z
LAST-MODIFIED:20240905T041359Z
UID:4661-1725985800-1725989400@motherlodechristian.com
SUMMARY:MLCS Board Meeting 4:30p.m.
DESCRIPTION:The MLCS Board meets the 2nd Tuesday of every month in the Chapel.  Open Session starts at 4:30p.m. \nClosed Session will start at approximately 5:30p.m. \nEveryone is encouraged to come\, and agendas are emailed out to families before the scheduled meeting. \nPrevious Minutes can also be found on the website under “About”\, then click on “Board”.
URL:https://motherlodechristian.com/event/mlcs-board-meeting-430p-m/
END:VEVENT
END:VCALENDAR