BEGIN:VCALENDAR
VERSION:2.0
PRODID:-//Motherlode Christian School - ECPv6.15.20//NONSGML v1.0//EN
CALSCALE:GREGORIAN
METHOD:PUBLISH
X-ORIGINAL-URL:https://motherlodechristian.com
X-WR-CALDESC:Events for Motherlode Christian School
REFRESH-INTERVAL;VALUE=DURATION:PT1H
X-Robots-Tag:noindex
X-PUBLISHED-TTL:PT1H
BEGIN:VTIMEZONE
TZID:UTC
BEGIN:STANDARD
TZOFFSETFROM:+0000
TZOFFSETTO:+0000
TZNAME:UTC
DTSTART:20230101T000000
END:STANDARD
END:VTIMEZONE
BEGIN:VEVENT
DTSTART;VALUE=DATE:20241025
DTEND;VALUE=DATE:20241026
DTSTAMP:20260424T151120
CREATED:20240828T055229Z
LAST-MODIFIED:20240924T005418Z
UID:4473-1729814400-1729900799@motherlodechristian.com
SUMMARY:Early Release K-8th grade Jog - A- Thon
DESCRIPTION:PTF  Jog- A – Thon for Preschool  and K – 8th grade.     It is also an Early Release for K-8th grade at 11:30a.m  More information to come!
URL:https://motherlodechristian.com/event/ptf-jog-a-thon-early-release-k-8th-grade/
END:VEVENT
END:VCALENDAR