BEGIN:VCALENDAR
VERSION:2.0
PRODID:-//Motherlode Christian School - ECPv6.15.20//NONSGML v1.0//EN
CALSCALE:GREGORIAN
METHOD:PUBLISH
X-ORIGINAL-URL:https://motherlodechristian.com
X-WR-CALDESC:Events for Motherlode Christian School
REFRESH-INTERVAL;VALUE=DURATION:PT1H
X-Robots-Tag:noindex
X-PUBLISHED-TTL:PT1H
BEGIN:VTIMEZONE
TZID:America/Los_Angeles
BEGIN:DAYLIGHT
TZOFFSETFROM:-0800
TZOFFSETTO:-0700
TZNAME:PDT
DTSTART:20240310T100000
END:DAYLIGHT
BEGIN:STANDARD
TZOFFSETFROM:-0700
TZOFFSETTO:-0800
TZNAME:PST
DTSTART:20241103T090000
END:STANDARD
BEGIN:DAYLIGHT
TZOFFSETFROM:-0800
TZOFFSETTO:-0700
TZNAME:PDT
DTSTART:20250309T100000
END:DAYLIGHT
BEGIN:STANDARD
TZOFFSETFROM:-0700
TZOFFSETTO:-0800
TZNAME:PST
DTSTART:20251102T090000
END:STANDARD
BEGIN:DAYLIGHT
TZOFFSETFROM:-0800
TZOFFSETTO:-0700
TZNAME:PDT
DTSTART:20260308T100000
END:DAYLIGHT
BEGIN:STANDARD
TZOFFSETFROM:-0700
TZOFFSETTO:-0800
TZNAME:PST
DTSTART:20261101T090000
END:STANDARD
END:VTIMEZONE
BEGIN:VEVENT
DTSTART;TZID=America/Los_Angeles:20250204T083000
DTEND;TZID=America/Los_Angeles:20250204T113000
DTSTAMP:20260424T090354
CREATED:20250124T165719Z
LAST-MODIFIED:20250203T215627Z
UID:4926-1738657800-1738668600@motherlodechristian.com
SUMMARY:3rd Grade Field Trip
DESCRIPTION:Third Grade is going to the “Heart Health” with Adventist Health.
URL:https://motherlodechristian.com/event/3rd-grade-field-trip-2/
END:VEVENT
BEGIN:VEVENT
DTSTART;TZID=America/Los_Angeles:20250204T153000
DTEND;TZID=America/Los_Angeles:20250204T170000
DTSTAMP:20260424T090354
CREATED:20250113T193503Z
LAST-MODIFIED:20250116T164707Z
UID:4859-1738683000-1738688400@motherlodechristian.com
SUMMARY:7th Grade Boys Basketball Game
DESCRIPTION:7th Grade Boys Basketball Game at Belleview Ele.  Game starts at 3:45p.m.
URL:https://motherlodechristian.com/event/8th-grade-boys-basketball-game/
END:VEVENT
BEGIN:VEVENT
DTSTART;TZID=America/Los_Angeles:20250204T153000
DTEND;TZID=America/Los_Angeles:20250204T170000
DTSTAMP:20260424T090354
CREATED:20250116T164907Z
LAST-MODIFIED:20250116T164907Z
UID:4918-1738683000-1738688400@motherlodechristian.com
SUMMARY:6th Grade Boys Basketball
DESCRIPTION:6th Grade Boys Basketball @ MLCS with a 3:45 game time.
URL:https://motherlodechristian.com/event/6th-grade-boys-basketball/
END:VEVENT
END:VCALENDAR