BEGIN:VCALENDAR
VERSION:2.0
PRODID:-//Motherlode Christian School - ECPv6.15.20//NONSGML v1.0//EN
CALSCALE:GREGORIAN
METHOD:PUBLISH
X-WR-CALNAME:Motherlode Christian School
X-ORIGINAL-URL:https://motherlodechristian.com
X-WR-CALDESC:Events for Motherlode Christian School
REFRESH-INTERVAL;VALUE=DURATION:PT1H
X-Robots-Tag:noindex
X-PUBLISHED-TTL:PT1H
BEGIN:VTIMEZONE
TZID:America/Los_Angeles
BEGIN:DAYLIGHT
TZOFFSETFROM:-0800
TZOFFSETTO:-0700
TZNAME:PDT
DTSTART:20240310T100000
END:DAYLIGHT
BEGIN:STANDARD
TZOFFSETFROM:-0700
TZOFFSETTO:-0800
TZNAME:PST
DTSTART:20241103T090000
END:STANDARD
BEGIN:DAYLIGHT
TZOFFSETFROM:-0800
TZOFFSETTO:-0700
TZNAME:PDT
DTSTART:20250309T100000
END:DAYLIGHT
BEGIN:STANDARD
TZOFFSETFROM:-0700
TZOFFSETTO:-0800
TZNAME:PST
DTSTART:20251102T090000
END:STANDARD
BEGIN:DAYLIGHT
TZOFFSETFROM:-0800
TZOFFSETTO:-0700
TZNAME:PDT
DTSTART:20260308T100000
END:DAYLIGHT
BEGIN:STANDARD
TZOFFSETFROM:-0700
TZOFFSETTO:-0800
TZNAME:PST
DTSTART:20261101T090000
END:STANDARD
END:VTIMEZONE
BEGIN:VEVENT
DTSTART;TZID=America/Los_Angeles:20250508T083000
DTEND;TZID=America/Los_Angeles:20250508T120000
DTSTAMP:20260424T040653
CREATED:20250507T163629Z
LAST-MODIFIED:20250507T163629Z
UID:5159-1746693000-1746705600@motherlodechristian.com
SUMMARY:3rd Grade Field Trip
DESCRIPTION:3rd Grade Field Trip to Moccasin Fish Hatchery – learning about fish hatching and life cycles.
URL:https://motherlodechristian.com/event/3rd-grade-field-trip-4/
END:VEVENT
BEGIN:VEVENT
DTSTART;TZID=America/Los_Angeles:20250508T093000
DTEND;TZID=America/Los_Angeles:20250508T113000
DTSTAMP:20260424T040653
CREATED:20250415T173406Z
LAST-MODIFIED:20250415T173406Z
UID:5123-1746696600-1746703800@motherlodechristian.com
SUMMARY:Kinder Field Trip
DESCRIPTION:Ag Day at Summerville High School. \nScience – Farm / Animals
URL:https://motherlodechristian.com/event/kinder-field-trip-6/
END:VEVENT
END:VCALENDAR