BEGIN:VCALENDAR
VERSION:2.0
PRODID:-//Motherlode Christian School - ECPv6.15.20//NONSGML v1.0//EN
CALSCALE:GREGORIAN
METHOD:PUBLISH
X-WR-CALNAME:Motherlode Christian School
X-ORIGINAL-URL:https://motherlodechristian.com
X-WR-CALDESC:Events for Motherlode Christian School
REFRESH-INTERVAL;VALUE=DURATION:PT1H
X-Robots-Tag:noindex
X-PUBLISHED-TTL:PT1H
BEGIN:VTIMEZONE
TZID:America/Los_Angeles
BEGIN:DAYLIGHT
TZOFFSETFROM:-0800
TZOFFSETTO:-0700
TZNAME:PDT
DTSTART:20240310T100000
END:DAYLIGHT
BEGIN:STANDARD
TZOFFSETFROM:-0700
TZOFFSETTO:-0800
TZNAME:PST
DTSTART:20241103T090000
END:STANDARD
BEGIN:DAYLIGHT
TZOFFSETFROM:-0800
TZOFFSETTO:-0700
TZNAME:PDT
DTSTART:20250309T100000
END:DAYLIGHT
BEGIN:STANDARD
TZOFFSETFROM:-0700
TZOFFSETTO:-0800
TZNAME:PST
DTSTART:20251102T090000
END:STANDARD
BEGIN:DAYLIGHT
TZOFFSETFROM:-0800
TZOFFSETTO:-0700
TZNAME:PDT
DTSTART:20260308T100000
END:DAYLIGHT
BEGIN:STANDARD
TZOFFSETFROM:-0700
TZOFFSETTO:-0800
TZNAME:PST
DTSTART:20261101T090000
END:STANDARD
END:VTIMEZONE
BEGIN:VTIMEZONE
TZID:UTC
BEGIN:STANDARD
TZOFFSETFROM:+0000
TZOFFSETTO:+0000
TZNAME:UTC
DTSTART:20240101T000000
END:STANDARD
END:VTIMEZONE
BEGIN:VEVENT
DTSTART;TZID=America/Los_Angeles:20250515T083000
DTEND;TZID=America/Los_Angeles:20250515T143000
DTSTAMP:20260424T040709
CREATED:20250507T182415Z
LAST-MODIFIED:20250507T182415Z
UID:5167-1747297800-1747319400@motherlodechristian.com
SUMMARY:3rd Grade Field Trip
DESCRIPTION:3rd Grade will be going to New Melones Lake.   Learning fun: Science/Math Centers.
URL:https://motherlodechristian.com/event/3rd-grade-field-trip-5/
END:VEVENT
BEGIN:VEVENT
DTSTART;TZID=UTC:20250515T180000
DTEND;TZID=UTC:20250515T193000
DTSTAMP:20260424T040709
CREATED:20240903T233805Z
LAST-MODIFIED:20240903T233805Z
UID:4616-1747332000-1747337400@motherlodechristian.com
SUMMARY:K-8th Open House
DESCRIPTION:Open House for K-8th starts at 6p.m.  The student’s always enjoy showing you what they have done throughout the year.
URL:https://motherlodechristian.com/event/k-8th-open-house-2/
END:VEVENT
END:VCALENDAR