BEGIN:VCALENDAR
VERSION:2.0
PRODID:-//Motherlode Christian School - ECPv6.15.20//NONSGML v1.0//EN
CALSCALE:GREGORIAN
METHOD:PUBLISH
X-WR-CALNAME:Motherlode Christian School
X-ORIGINAL-URL:https://motherlodechristian.com
X-WR-CALDESC:Events for Motherlode Christian School
REFRESH-INTERVAL;VALUE=DURATION:PT1H
X-Robots-Tag:noindex
X-PUBLISHED-TTL:PT1H
BEGIN:VTIMEZONE
TZID:UTC
BEGIN:STANDARD
TZOFFSETFROM:+0000
TZOFFSETTO:+0000
TZNAME:UTC
DTSTART:20240101T000000
END:STANDARD
END:VTIMEZONE
BEGIN:VEVENT
DTSTART;VALUE=DATE:20250604
DTEND;VALUE=DATE:20250605
DTSTAMP:20260424T022843
CREATED:20240903T234255Z
LAST-MODIFIED:20240903T234255Z
UID:4622-1748995200-1749081599@motherlodechristian.com
SUMMARY:Last Day of School K-8th Early Release & Graduations
DESCRIPTION:Kinder Graduation @ 9a.m.  MLCS Gym \n8th Grade Graduation @ 6p.m  MLCS Gym \nEarly Dismissal for K-8th grades at 11:30a.m. \n 
URL:https://motherlodechristian.com/event/last-day-of-school-k-8th-early-release-graduations/
END:VEVENT
END:VCALENDAR