BEGIN:VCALENDAR
VERSION:2.0
PRODID:-//Motherlode Christian School - ECPv6.15.20//NONSGML v1.0//EN
CALSCALE:GREGORIAN
METHOD:PUBLISH
X-WR-CALNAME:Motherlode Christian School
X-ORIGINAL-URL:https://motherlodechristian.com
X-WR-CALDESC:Events for Motherlode Christian School
REFRESH-INTERVAL;VALUE=DURATION:PT1H
X-Robots-Tag:noindex
X-PUBLISHED-TTL:PT1H
BEGIN:VTIMEZONE
TZID:America/Los_Angeles
BEGIN:DAYLIGHT
TZOFFSETFROM:-0800
TZOFFSETTO:-0700
TZNAME:PDT
DTSTART:20240310T100000
END:DAYLIGHT
BEGIN:STANDARD
TZOFFSETFROM:-0700
TZOFFSETTO:-0800
TZNAME:PST
DTSTART:20241103T090000
END:STANDARD
BEGIN:DAYLIGHT
TZOFFSETFROM:-0800
TZOFFSETTO:-0700
TZNAME:PDT
DTSTART:20250309T100000
END:DAYLIGHT
BEGIN:STANDARD
TZOFFSETFROM:-0700
TZOFFSETTO:-0800
TZNAME:PST
DTSTART:20251102T090000
END:STANDARD
BEGIN:DAYLIGHT
TZOFFSETFROM:-0800
TZOFFSETTO:-0700
TZNAME:PDT
DTSTART:20260308T100000
END:DAYLIGHT
BEGIN:STANDARD
TZOFFSETFROM:-0700
TZOFFSETTO:-0800
TZNAME:PST
DTSTART:20261101T090000
END:STANDARD
END:VTIMEZONE
BEGIN:VEVENT
DTSTART;VALUE=DATE:20251001
DTEND;VALUE=DATE:20251004
DTSTAMP:20260423T192931
CREATED:20250730T165131Z
LAST-MODIFIED:20250730T165131Z
UID:5246-1759276800-1759535999@motherlodechristian.com
SUMMARY:Minimum Days - K-8th Parent-Teacher Conferences
DESCRIPTION:Parent-Teacher Conferences  – Early Release at 11:30a.m. for K- 8th Grades. \n  \n  \n 
URL:https://motherlodechristian.com/event/minimum-days-k-8th-parent-teacher-conferences/
END:VEVENT
BEGIN:VEVENT
DTSTART;TZID=America/Los_Angeles:20251001T153000
DTEND;TZID=America/Los_Angeles:20251001T170000
DTSTAMP:20260423T192931
CREATED:20250910T145624Z
LAST-MODIFIED:20250910T150133Z
UID:5363-1759332600-1759338000@motherlodechristian.com
SUMMARY:Cross Country Avery Middle School Run  @ Avery  3:30pm
DESCRIPTION:Run starts at 3:30pm Coach will send information on dismissal time.
URL:https://motherlodechristian.com/event/cross-country-avery-330pm/
END:VEVENT
BEGIN:VEVENT
DTSTART;TZID=America/Los_Angeles:20251001T153000
DTEND;TZID=America/Los_Angeles:20251001T170000
DTSTAMP:20260423T192931
CREATED:20250911T224353Z
LAST-MODIFIED:20250911T224353Z
UID:5392-1759332600-1759338000@motherlodechristian.com
SUMMARY:Girls Basketball @ Jamestown 3:45
DESCRIPTION:
URL:https://motherlodechristian.com/event/girls-basketball-jamestown-345/
END:VEVENT
END:VCALENDAR