BEGIN:VCALENDAR
VERSION:2.0
PRODID:-//Motherlode Christian School - ECPv6.15.20//NONSGML v1.0//EN
CALSCALE:GREGORIAN
METHOD:PUBLISH
X-WR-CALNAME:Motherlode Christian School
X-ORIGINAL-URL:https://motherlodechristian.com
X-WR-CALDESC:Events for Motherlode Christian School
REFRESH-INTERVAL;VALUE=DURATION:PT1H
X-Robots-Tag:noindex
X-PUBLISHED-TTL:PT1H
BEGIN:VTIMEZONE
TZID:America/Los_Angeles
BEGIN:DAYLIGHT
TZOFFSETFROM:-0800
TZOFFSETTO:-0700
TZNAME:PDT
DTSTART:20240310T100000
END:DAYLIGHT
BEGIN:STANDARD
TZOFFSETFROM:-0700
TZOFFSETTO:-0800
TZNAME:PST
DTSTART:20241103T090000
END:STANDARD
BEGIN:DAYLIGHT
TZOFFSETFROM:-0800
TZOFFSETTO:-0700
TZNAME:PDT
DTSTART:20250309T100000
END:DAYLIGHT
BEGIN:STANDARD
TZOFFSETFROM:-0700
TZOFFSETTO:-0800
TZNAME:PST
DTSTART:20251102T090000
END:STANDARD
BEGIN:DAYLIGHT
TZOFFSETFROM:-0800
TZOFFSETTO:-0700
TZNAME:PDT
DTSTART:20260308T100000
END:DAYLIGHT
BEGIN:STANDARD
TZOFFSETFROM:-0700
TZOFFSETTO:-0800
TZNAME:PST
DTSTART:20261101T090000
END:STANDARD
END:VTIMEZONE
BEGIN:VEVENT
DTSTART;TZID=America/Los_Angeles:20251008T153000
DTEND;TZID=America/Los_Angeles:20251008T170000
DTSTAMP:20260423T192904
CREATED:20250910T145741Z
LAST-MODIFIED:20250910T145741Z
UID:5365-1759937400-1759942800@motherlodechristian.com
SUMMARY:Cross Country - Libertas Run
DESCRIPTION:Place to run is yet to be determined.  Coach will send information to families.
URL:https://motherlodechristian.com/event/cross-country-libertas-run/
END:VEVENT
BEGIN:VEVENT
DTSTART;TZID=America/Los_Angeles:20251008T153000
DTEND;TZID=America/Los_Angeles:20251008T170000
DTSTAMP:20260423T192904
CREATED:20250911T224803Z
LAST-MODIFIED:20250911T224803Z
UID:5399-1759937400-1759942800@motherlodechristian.com
SUMMARY:Girls Basketball @ MLCS
DESCRIPTION:MLCS vs Twain Harte
URL:https://motherlodechristian.com/event/girls-basketball-mlcs/
END:VEVENT
END:VCALENDAR