BEGIN:VCALENDAR
VERSION:2.0
PRODID:-//Motherlode Christian School - ECPv6.15.20//NONSGML v1.0//EN
CALSCALE:GREGORIAN
METHOD:PUBLISH
X-WR-CALNAME:Motherlode Christian School
X-ORIGINAL-URL:https://motherlodechristian.com
X-WR-CALDESC:Events for Motherlode Christian School
REFRESH-INTERVAL;VALUE=DURATION:PT1H
X-Robots-Tag:noindex
X-PUBLISHED-TTL:PT1H
BEGIN:VTIMEZONE
TZID:America/Los_Angeles
BEGIN:DAYLIGHT
TZOFFSETFROM:-0800
TZOFFSETTO:-0700
TZNAME:PDT
DTSTART:20240310T100000
END:DAYLIGHT
BEGIN:STANDARD
TZOFFSETFROM:-0700
TZOFFSETTO:-0800
TZNAME:PST
DTSTART:20241103T090000
END:STANDARD
BEGIN:DAYLIGHT
TZOFFSETFROM:-0800
TZOFFSETTO:-0700
TZNAME:PDT
DTSTART:20250309T100000
END:DAYLIGHT
BEGIN:STANDARD
TZOFFSETFROM:-0700
TZOFFSETTO:-0800
TZNAME:PST
DTSTART:20251102T090000
END:STANDARD
BEGIN:DAYLIGHT
TZOFFSETFROM:-0800
TZOFFSETTO:-0700
TZNAME:PDT
DTSTART:20260308T100000
END:DAYLIGHT
BEGIN:STANDARD
TZOFFSETFROM:-0700
TZOFFSETTO:-0800
TZNAME:PST
DTSTART:20261101T090000
END:STANDARD
END:VTIMEZONE
BEGIN:VEVENT
DTSTART;TZID=America/Los_Angeles:20251022T080000
DTEND;TZID=America/Los_Angeles:20251022T140000
DTSTAMP:20260423T193017
CREATED:20250925T155513Z
LAST-MODIFIED:20250925T155513Z
UID:5420-1761120000-1761141600@motherlodechristian.com
SUMMARY:4th Grade Field Trip
DESCRIPTION:Big Trees – guided nature hike / science.  Learning about the natural local environment.
URL:https://motherlodechristian.com/event/4th-grade-field-trip-4/
END:VEVENT
BEGIN:VEVENT
DTSTART;TZID=America/Los_Angeles:20251022T153000
DTEND;TZID=America/Los_Angeles:20251022T170000
DTSTAMP:20260423T193017
CREATED:20250910T145949Z
LAST-MODIFIED:20250910T145949Z
UID:5369-1761147000-1761152400@motherlodechristian.com
SUMMARY:Cross Country Arnold Rim Trail @White Pines 3:30pm
DESCRIPTION:Coach will send out dismissal informatin.
URL:https://motherlodechristian.com/event/cross-country-arnold-rim-trail-white-pines-330pm/
END:VEVENT
END:VCALENDAR