BEGIN:VCALENDAR
VERSION:2.0
PRODID:-//Motherlode Christian School - ECPv6.15.20//NONSGML v1.0//EN
CALSCALE:GREGORIAN
METHOD:PUBLISH
X-ORIGINAL-URL:https://motherlodechristian.com
X-WR-CALDESC:Events for Motherlode Christian School
REFRESH-INTERVAL;VALUE=DURATION:PT1H
X-Robots-Tag:noindex
X-PUBLISHED-TTL:PT1H
BEGIN:VTIMEZONE
TZID:America/Los_Angeles
BEGIN:DAYLIGHT
TZOFFSETFROM:-0800
TZOFFSETTO:-0700
TZNAME:PDT
DTSTART:20250309T100000
END:DAYLIGHT
BEGIN:STANDARD
TZOFFSETFROM:-0700
TZOFFSETTO:-0800
TZNAME:PST
DTSTART:20251102T090000
END:STANDARD
BEGIN:DAYLIGHT
TZOFFSETFROM:-0800
TZOFFSETTO:-0700
TZNAME:PDT
DTSTART:20260308T100000
END:DAYLIGHT
BEGIN:STANDARD
TZOFFSETFROM:-0700
TZOFFSETTO:-0800
TZNAME:PST
DTSTART:20261101T090000
END:STANDARD
BEGIN:DAYLIGHT
TZOFFSETFROM:-0800
TZOFFSETTO:-0700
TZNAME:PDT
DTSTART:20270314T100000
END:DAYLIGHT
BEGIN:STANDARD
TZOFFSETFROM:-0700
TZOFFSETTO:-0800
TZNAME:PST
DTSTART:20271107T090000
END:STANDARD
END:VTIMEZONE
BEGIN:VEVENT
DTSTART;TZID=America/Los_Angeles:20260116T151500
DTEND;TZID=America/Los_Angeles:20260116T203000
DTSTAMP:20260423T143514
CREATED:20260115T205636Z
LAST-MODIFIED:20260115T205636Z
UID:5476-1768576500-1768595400@motherlodechristian.com
SUMMARY:8th Grade Boys Basketball Preseason Tournament @ Sonora Ele
DESCRIPTION:Games start at 3:15 and Coaches will notify families of game times.
URL:https://motherlodechristian.com/event/8th-grade-boys-basketball-preseason-tournament-sonora-ele/
END:VEVENT
BEGIN:VEVENT
DTSTART;TZID=America/Los_Angeles:20260116T153000
DTEND;TZID=America/Los_Angeles:20260116T200000
DTSTAMP:20260423T143514
CREATED:20260115T204945Z
LAST-MODIFIED:20260115T204945Z
UID:5469-1768577400-1768593600@motherlodechristian.com
SUMMARY:6th Grade Preseason Boys Basketball Tournament @ MLCS
DESCRIPTION:Friday  1/16 Games start at 3:30 and Brackets are posted and Coaches will notify players of game times. \nBrackets are updated Daily after games are played. \n 
URL:https://motherlodechristian.com/event/6th-grade-preseason-boys-basketball-tournament-mlcs/
END:VEVENT
END:VCALENDAR