BEGIN:VCALENDAR
VERSION:2.0
PRODID:-//Motherlode Christian School - ECPv6.15.20//NONSGML v1.0//EN
CALSCALE:GREGORIAN
METHOD:PUBLISH
X-ORIGINAL-URL:https://motherlodechristian.com
X-WR-CALDESC:Events for Motherlode Christian School
REFRESH-INTERVAL;VALUE=DURATION:PT1H
X-Robots-Tag:noindex
X-PUBLISHED-TTL:PT1H
BEGIN:VTIMEZONE
TZID:America/Los_Angeles
BEGIN:DAYLIGHT
TZOFFSETFROM:-0800
TZOFFSETTO:-0700
TZNAME:PDT
DTSTART:20250309T100000
END:DAYLIGHT
BEGIN:STANDARD
TZOFFSETFROM:-0700
TZOFFSETTO:-0800
TZNAME:PST
DTSTART:20251102T090000
END:STANDARD
BEGIN:DAYLIGHT
TZOFFSETFROM:-0800
TZOFFSETTO:-0700
TZNAME:PDT
DTSTART:20260308T100000
END:DAYLIGHT
BEGIN:STANDARD
TZOFFSETFROM:-0700
TZOFFSETTO:-0800
TZNAME:PST
DTSTART:20261101T090000
END:STANDARD
BEGIN:DAYLIGHT
TZOFFSETFROM:-0800
TZOFFSETTO:-0700
TZNAME:PDT
DTSTART:20270314T100000
END:DAYLIGHT
BEGIN:STANDARD
TZOFFSETFROM:-0700
TZOFFSETTO:-0800
TZNAME:PST
DTSTART:20271107T090000
END:STANDARD
END:VTIMEZONE
BEGIN:VEVENT
DTSTART;TZID=America/Los_Angeles:20260120T151500
DTEND;TZID=America/Los_Angeles:20260123T203000
DTSTAMP:20260423T143514
CREATED:20260115T205541Z
LAST-MODIFIED:20260115T205541Z
UID:5474-1768922100-1769200200@motherlodechristian.com
SUMMARY:7th Grade Boys Basketball Preseason Tournament @ Sonora Ele.
DESCRIPTION:Games start at 3:15 and Coaches will notify families of game times.
URL:https://motherlodechristian.com/event/7th-grade-boys-basketball-preseason-tournament-sonora-ele/
END:VEVENT
BEGIN:VEVENT
DTSTART;TZID=America/Los_Angeles:20260120T203000
DTEND;TZID=America/Los_Angeles:20260123T170000
DTSTAMP:20260423T143514
CREATED:20260115T205732Z
LAST-MODIFIED:20260115T205732Z
UID:5478-1768941000-1769187600@motherlodechristian.com
SUMMARY:8th Grade Boys Basketball Preseason Tournament @ Sonora Ele
DESCRIPTION:Games start at 3:15 and Coaches will notify families of game times.
URL:https://motherlodechristian.com/event/8th-grade-boys-basketball-preseason-tournament-sonora-ele-2/
END:VEVENT
BEGIN:VEVENT
DTSTART;TZID=America/Los_Angeles:20260123T080000
DTEND;TZID=America/Los_Angeles:20260123T160000
DTSTAMP:20260423T143514
CREATED:20260121T230641Z
LAST-MODIFIED:20260121T230641Z
UID:5511-1769155200-1769184000@motherlodechristian.com
SUMMARY:Ski Trip 3rd - 8th grades
DESCRIPTION:Regular school day for non skiers and K-2nd grades.
URL:https://motherlodechristian.com/event/ski-trip-3rd-8th-grades/
END:VEVENT
END:VCALENDAR