BEGIN:VCALENDAR
VERSION:2.0
PRODID:-//Motherlode Christian School - ECPv6.15.20//NONSGML v1.0//EN
CALSCALE:GREGORIAN
METHOD:PUBLISH
X-ORIGINAL-URL:https://motherlodechristian.com
X-WR-CALDESC:Events for Motherlode Christian School
REFRESH-INTERVAL;VALUE=DURATION:PT1H
X-Robots-Tag:noindex
X-PUBLISHED-TTL:PT1H
BEGIN:VTIMEZONE
TZID:America/Los_Angeles
BEGIN:DAYLIGHT
TZOFFSETFROM:-0800
TZOFFSETTO:-0700
TZNAME:PDT
DTSTART:20250309T100000
END:DAYLIGHT
BEGIN:STANDARD
TZOFFSETFROM:-0700
TZOFFSETTO:-0800
TZNAME:PST
DTSTART:20251102T090000
END:STANDARD
BEGIN:DAYLIGHT
TZOFFSETFROM:-0800
TZOFFSETTO:-0700
TZNAME:PDT
DTSTART:20260308T100000
END:DAYLIGHT
BEGIN:STANDARD
TZOFFSETFROM:-0700
TZOFFSETTO:-0800
TZNAME:PST
DTSTART:20261101T090000
END:STANDARD
BEGIN:DAYLIGHT
TZOFFSETFROM:-0800
TZOFFSETTO:-0700
TZNAME:PDT
DTSTART:20270314T100000
END:DAYLIGHT
BEGIN:STANDARD
TZOFFSETFROM:-0700
TZOFFSETTO:-0800
TZNAME:PST
DTSTART:20271107T090000
END:STANDARD
END:VTIMEZONE
BEGIN:VEVENT
DTSTART;TZID=America/Los_Angeles:20260210T154500
DTEND;TZID=America/Los_Angeles:20260210T180000
DTSTAMP:20260423T125055
CREATED:20260115T211241Z
LAST-MODIFIED:20260115T211241Z
UID:5488-1770738300-1770746400@motherlodechristian.com
SUMMARY:6th & 8th Boys Basketball @ MLCS
DESCRIPTION:Game start time are as follows: 6th at 3:45\, 8th at 4:45 \nJamestown vs MLCS
URL:https://motherlodechristian.com/event/6th-8th-boys-basketball-mlcs-2/
END:VEVENT
BEGIN:VEVENT
DTSTART;TZID=America/Los_Angeles:20260210T163000
DTEND;TZID=America/Los_Angeles:20260210T173000
DTSTAMP:20260423T125055
CREATED:20250804T220838Z
LAST-MODIFIED:20250804T220838Z
UID:5323-1770741000-1770744600@motherlodechristian.com
SUMMARY:MLCS Board Meeting @ 4:30pm
DESCRIPTION:The MLCS Board Meets the second Tuesday of the month. Open Session starts at 4:30pm in the MLCS Chapel and is followed by closed session after a brief break. \nAll are invited to join us.
URL:https://motherlodechristian.com/event/mlcs-board-meeting-430pm-5/
END:VEVENT
END:VCALENDAR