BEGIN:VCALENDAR
VERSION:2.0
PRODID:-//Motherlode Christian School - ECPv6.15.20//NONSGML v1.0//EN
CALSCALE:GREGORIAN
METHOD:PUBLISH
X-WR-CALNAME:Motherlode Christian School
X-ORIGINAL-URL:https://motherlodechristian.com
X-WR-CALDESC:Events for Motherlode Christian School
REFRESH-INTERVAL;VALUE=DURATION:PT1H
X-Robots-Tag:noindex
X-PUBLISHED-TTL:PT1H
BEGIN:VTIMEZONE
TZID:UTC
BEGIN:STANDARD
TZOFFSETFROM:+0000
TZOFFSETTO:+0000
TZNAME:UTC
DTSTART:20230101T000000
END:STANDARD
END:VTIMEZONE
BEGIN:VEVENT
DTSTART;TZID=UTC:20240611T163000
DTEND;TZID=UTC:20240611T173000
DTSTAMP:20260425T043403
CREATED:20231028T014639Z
LAST-MODIFIED:20231028T014639Z
UID:4100-1718123400-1718127000@motherlodechristian.com
SUMMARY:Board Meeting
DESCRIPTION:MLCS Board Meeting- open session at 4:30pm in the Chapel. \nPlease come and join us.
URL:https://motherlodechristian.com/event/board-meeting-10/
END:VEVENT
BEGIN:VEVENT
DTSTART;VALUE=DATE:20240531
DTEND;VALUE=DATE:20240605
DTSTAMP:20260425T043403
CREATED:20230608T021017Z
LAST-MODIFIED:20230608T021017Z
UID:3747-1717113600-1717545599@motherlodechristian.com
SUMMARY:Teacher In Service Days
DESCRIPTION:Times and schedules TBA
URL:https://motherlodechristian.com/event/teacher-in-service-days-3/
END:VEVENT
BEGIN:VEVENT
DTSTART;VALUE=DATE:20240530
DTEND;VALUE=DATE:20240531
DTSTAMP:20260425T043403
CREATED:20230608T020846Z
LAST-MODIFIED:20230608T020846Z
UID:3745-1717027200-1717113599@motherlodechristian.com
SUMMARY:Last Day of School K-8th w/ 11:30 Early Release and Graduations
DESCRIPTION:Kinder Graduation at 9a.m in the MLCS gym.  K-8th Early Release at 11:30a.m. \n8th Grade Graduation 6p.m. in the MLCS gym.
URL:https://motherlodechristian.com/event/last-day-of-school-k-8th-w-1130-early-release-and-graduations/
END:VEVENT
BEGIN:VEVENT
DTSTART;TZID=UTC:20240529T090000
DTEND;TZID=UTC:20240529T100000
DTSTAMP:20260425T043403
CREATED:20230608T020512Z
LAST-MODIFIED:20230608T020512Z
UID:3743-1716973200-1716976800@motherlodechristian.com
SUMMARY:Preschool Graduation 9a.m.
DESCRIPTION:
URL:https://motherlodechristian.com/event/preschool-graduation-9a-m/
END:VEVENT
BEGIN:VEVENT
DTSTART;TZID=UTC:20240528T103000
DTEND;TZID=UTC:20240528T143000
DTSTAMP:20260425T043403
CREATED:20240507T010541Z
LAST-MODIFIED:20240507T010541Z
UID:4403-1716892200-1716906600@motherlodechristian.com
SUMMARY:1st Grade Field Trip
DESCRIPTION:The 1st grade classes will be going to Twain Harte for the final end of the year field trip!
URL:https://motherlodechristian.com/event/1st-grade-field-trip-4/
END:VEVENT
BEGIN:VEVENT
DTSTART;VALUE=DATE:20240527
DTEND;VALUE=DATE:20240528
DTSTAMP:20260425T043403
CREATED:20230608T020411Z
LAST-MODIFIED:20230608T020411Z
UID:3741-1716768000-1716854399@motherlodechristian.com
SUMMARY:No School  K-8th Grade- Memorial Day
DESCRIPTION:
URL:https://motherlodechristian.com/event/no-school-k-8th-grade-memorial-day/
END:VEVENT
BEGIN:VEVENT
DTSTART;VALUE=DATE:20240524
DTEND;VALUE=DATE:20240525
DTSTAMP:20260425T043403
CREATED:20230608T020331Z
LAST-MODIFIED:20230608T020331Z
UID:3739-1716508800-1716595199@motherlodechristian.com
SUMMARY:3rd Trimester Grading Ends K-8th
DESCRIPTION:
URL:https://motherlodechristian.com/event/3rd-trimester-grading-ends-k-8th/
END:VEVENT
BEGIN:VEVENT
DTSTART;VALUE=DATE:20240522
DTEND;VALUE=DATE:20240525
DTSTAMP:20260425T043403
CREATED:20230609T235145Z
LAST-MODIFIED:20230609T235145Z
UID:3752-1716336000-1716595199@motherlodechristian.com
SUMMARY:4th Grade 49er Camp
DESCRIPTION:
URL:https://motherlodechristian.com/event/4th-grade-49er-camp/
END:VEVENT
BEGIN:VEVENT
DTSTART;TZID=UTC:20240520T114500
DTEND;TZID=UTC:20240520T180000
DTSTAMP:20260425T043403
CREATED:20240315T005422Z
LAST-MODIFIED:20240315T005540Z
UID:4221-1716205500-1716228000@motherlodechristian.com
SUMMARY:6th - 8th Grade: All County Track Meet @ Summerville High School
DESCRIPTION:The 6th-8th grade students will be participating in the ALL County Track Meet at Summerville High School. The meet will start at 1pm and go into early evening.  \nStudents will be dismissed for lunch early at 11:45. (Please send a sack lunch\, water bottle and a snack) After the student’s eat and are changed we will leave the school by 12:10 to be at Summerville by 12:15. If you want to help or have questions please contact Coach Wright.
URL:https://motherlodechristian.com/event/6th-8th-grade-all-county-track-meet-summerville-high-school/
END:VEVENT
BEGIN:VEVENT
DTSTART;TZID=UTC:20240517T093000
DTEND;TZID=UTC:20240517T130000
DTSTAMP:20260425T043403
CREATED:20240507T010417Z
LAST-MODIFIED:20240507T010417Z
UID:4401-1715938200-1715950800@motherlodechristian.com
SUMMARY:1st Grade Field Trip
DESCRIPTION:The 1st grade classes will be going to Columbia to see the Cal Fire Air base.
URL:https://motherlodechristian.com/event/1st-grade-field-trip-3/
END:VEVENT
BEGIN:VEVENT
DTSTART;TZID=UTC:20240516T180000
DTEND;TZID=UTC:20240516T193000
DTSTAMP:20260425T043403
CREATED:20230608T020242Z
LAST-MODIFIED:20230608T021626Z
UID:3737-1715882400-1715887800@motherlodechristian.com
SUMMARY:K-8th Open House
DESCRIPTION:Please come and join us as our student’s are always so proud to show off their great work. This is also a good time to share our school with friends and family.
URL:https://motherlodechristian.com/event/k-8th-open-house/
END:VEVENT
BEGIN:VEVENT
DTSTART;TZID=UTC:20240514T163000
DTEND;TZID=UTC:20240514T173000
DTSTAMP:20260425T043403
CREATED:20231028T014556Z
LAST-MODIFIED:20240124T001257Z
UID:4098-1715704200-1715707800@motherlodechristian.com
SUMMARY:Board Meeting
DESCRIPTION:MLCS Board Meeting- open session at 4:30pm in the Chapel. \nPlease come and join us.
URL:https://motherlodechristian.com/event/board-meeting-9/
END:VEVENT
BEGIN:VEVENT
DTSTART;TZID=UTC:20240507T083000
DTEND;TZID=UTC:20240507T143000
DTSTAMP:20260425T043403
CREATED:20240410T005253Z
LAST-MODIFIED:20240410T005309Z
UID:4230-1715070600-1715092200@motherlodechristian.com
SUMMARY:2nd Grade Field Trip
DESCRIPTION:Mrs. Bowly’s  2nd grade class will be going to Micke Grove Zoo – learning about animals
URL:https://motherlodechristian.com/event/2nd-grade-field-trip-3/
END:VEVENT
BEGIN:VEVENT
DTSTART;VALUE=DATE:20240427
DTEND;VALUE=DATE:20240428
DTSTAMP:20260425T043403
CREATED:20230608T015914Z
LAST-MODIFIED:20230608T021523Z
UID:3733-1714176000-1714262399@motherlodechristian.com
SUMMARY:PTF Campus Clean-Up
DESCRIPTION:PTF Spring Campus Clean-Up – time and needs TBA
URL:https://motherlodechristian.com/event/ptf-campus-clean-up/
END:VEVENT
BEGIN:VEVENT
DTSTART;TZID=UTC:20240426T100000
DTEND;TZID=UTC:20240426T140000
DTSTAMP:20260425T043403
CREATED:20240410T005009Z
LAST-MODIFIED:20240410T005009Z
UID:4228-1714125600-1714140000@motherlodechristian.com
SUMMARY:4th Grade Field Trip
DESCRIPTION:Mrs. Petrey and Mrs. Federman 4th grade class – Angles Camp Gold Rush Museum.
URL:https://motherlodechristian.com/event/4th-grade-field-trip/
END:VEVENT
BEGIN:VEVENT
DTSTART;VALUE=DATE:20240421
DTEND;VALUE=DATE:20240428
DTSTAMP:20260425T043403
CREATED:20230608T015807Z
LAST-MODIFIED:20230608T015807Z
UID:3731-1713657600-1714262399@motherlodechristian.com
SUMMARY:7th/8th Washington D.C. Trip
DESCRIPTION:
URL:https://motherlodechristian.com/event/7th-8th-washington-d-c-trip/
END:VEVENT
BEGIN:VEVENT
DTSTART;VALUE=DATE:20240417
DTEND;VALUE=DATE:20240418
DTSTAMP:20260425T043403
CREATED:20230608T015704Z
LAST-MODIFIED:20230608T015704Z
UID:3729-1713312000-1713398399@motherlodechristian.com
SUMMARY:No School - Parent Teacher Conferences K-8th Grade
DESCRIPTION:
URL:https://motherlodechristian.com/event/no-school-parent-teacher-conferences-k-8th-grade/
END:VEVENT
BEGIN:VEVENT
DTSTART;TZID=UTC:20240416T095000
DTEND;TZID=UTC:20240416T110000
DTSTAMP:20260425T043403
CREATED:20240410T004802Z
LAST-MODIFIED:20240410T004802Z
UID:4226-1713261000-1713265200@motherlodechristian.com
SUMMARY:Evans K/1 Field Trip
DESCRIPTION:Mrs. Evans K/1 walking Field Trip to Tuolumne Market.
URL:https://motherlodechristian.com/event/evans-k-1-field-trip/
END:VEVENT
BEGIN:VEVENT
DTSTART;VALUE=DATE:20240415
DTEND;VALUE=DATE:20240420
DTSTAMP:20260425T043403
CREATED:20240124T004358Z
LAST-MODIFIED:20240124T004358Z
UID:4148-1713139200-1713571199@motherlodechristian.com
SUMMARY:5th & 6th Grade Science Camp
DESCRIPTION:5th & 6th Grade Science Camp at Hume Lake. \n 
URL:https://motherlodechristian.com/event/5th-6th-grade-science-camp/
END:VEVENT
BEGIN:VEVENT
DTSTART;TZID=UTC:20240412T154500
DTEND;TZID=UTC:20240412T190000
DTSTAMP:20260425T043403
CREATED:20240306T021145Z
LAST-MODIFIED:20240306T021145Z
UID:4214-1712936700-1712948400@motherlodechristian.com
SUMMARY:6th - 8th Girls Volleyball Games
DESCRIPTION:MLCS @ Soulsbyville   3:45/4:45/5:45 game times.
URL:https://motherlodechristian.com/event/6th-8th-girls-volleyball-games/
END:VEVENT
BEGIN:VEVENT
DTSTART;VALUE=DATE:20240412
DTEND;VALUE=DATE:20240413
DTSTAMP:20260425T043403
CREATED:20230608T015546Z
LAST-MODIFIED:20230608T015546Z
UID:3727-1712880000-1712966399@motherlodechristian.com
SUMMARY:3rd Trimester Progress Report Grading ends for K-8th grade
DESCRIPTION:
URL:https://motherlodechristian.com/event/3rd-trimester-progress-report-grading-ends-for-k-8th-grade/
END:VEVENT
BEGIN:VEVENT
DTSTART;TZID=UTC:20240411T154500
DTEND;TZID=UTC:20240411T190000
DTSTAMP:20260425T043403
CREATED:20240306T021054Z
LAST-MODIFIED:20240306T021054Z
UID:4212-1712850300-1712862000@motherlodechristian.com
SUMMARY:6th - 8th Grade Girls Volleyball
DESCRIPTION:Summerville @ MLCS   3:45/4:45/5:45 game times.
URL:https://motherlodechristian.com/event/6th-8th-grade-girls-volleyball-2/
END:VEVENT
BEGIN:VEVENT
DTSTART;TZID=UTC:20240409T163000
DTEND;TZID=UTC:20240409T173000
DTSTAMP:20260425T043403
CREATED:20231028T014515Z
LAST-MODIFIED:20231028T014515Z
UID:4096-1712680200-1712683800@motherlodechristian.com
SUMMARY:Board Meeting
DESCRIPTION:MLCS Board Meeting- open session at 4:30pm in the Chapel. \nPlease come and join us.
URL:https://motherlodechristian.com/event/board-meeting-8/
END:VEVENT
BEGIN:VEVENT
DTSTART;TZID=UTC:20240409T154500
DTEND;TZID=UTC:20240409T190000
DTSTAMP:20260425T043403
CREATED:20240306T020938Z
LAST-MODIFIED:20240306T020938Z
UID:4210-1712677500-1712689200@motherlodechristian.com
SUMMARY:6th - 8th Grade Girls Volleyball
DESCRIPTION:MLCS @ Curtis Creek Ele.   3:45/4:45/5:45 game times.
URL:https://motherlodechristian.com/event/6th-8th-grade-girls-volleyball/
END:VEVENT
BEGIN:VEVENT
DTSTART;TZID=UTC:20240408T154500
DTEND;TZID=UTC:20240408T164500
DTSTAMP:20260425T043403
CREATED:20240306T020633Z
LAST-MODIFIED:20240306T020823Z
UID:4208-1712591100-1712594700@motherlodechristian.com
SUMMARY:6th Grade Girls Volleyball Game
DESCRIPTION:Soulsbyville B @ MLCS  3:45 game times.
URL:https://motherlodechristian.com/event/6th-grade-girls-volleyball-game/
END:VEVENT
BEGIN:VEVENT
DTSTART;TZID=UTC:20240405T154500
DTEND;TZID=UTC:20240405T164500
DTSTAMP:20260425T043403
CREATED:20240306T020500Z
LAST-MODIFIED:20240306T020500Z
UID:4206-1712331900-1712335500@motherlodechristian.com
SUMMARY:7th Grade Girls Volleyball Game
DESCRIPTION:Summerville B @ MLCS  3:45 game times.
URL:https://motherlodechristian.com/event/7th-grade-girls-volleyball-game/
END:VEVENT
BEGIN:VEVENT
DTSTART;TZID=UTC:20240404T154500
DTEND;TZID=UTC:20240404T180000
DTSTAMP:20260425T043403
CREATED:20240306T020322Z
LAST-MODIFIED:20240306T020322Z
UID:4204-1712245500-1712253600@motherlodechristian.com
SUMMARY:6th & 8th Grade Girls Volleyball Games
DESCRIPTION:Gold Rush @ MLCS  3:45/4:45 game times.
URL:https://motherlodechristian.com/event/6th-8th-grade-girls-volleyball-games/
END:VEVENT
BEGIN:VEVENT
DTSTART;TZID=UTC:20240403T153000
DTEND;TZID=UTC:20240403T190000
DTSTAMP:20260425T043403
CREATED:20240306T020204Z
LAST-MODIFIED:20240306T020204Z
UID:4202-1712158200-1712170800@motherlodechristian.com
SUMMARY:6th - 8th Grade Girls Volleyball Game
DESCRIPTION:MLCS @ Sonora Ele.  3:45/4:45/5:45 game times.
URL:https://motherlodechristian.com/event/6th-8th-grade-girls-volleyball-game/
END:VEVENT
BEGIN:VEVENT
DTSTART;VALUE=DATE:20240325
DTEND;VALUE=DATE:20240402
DTSTAMP:20260425T043403
CREATED:20230608T015325Z
LAST-MODIFIED:20230608T015325Z
UID:3725-1711324800-1712015999@motherlodechristian.com
SUMMARY:No School K-8th - Spring Break
DESCRIPTION:
URL:https://motherlodechristian.com/event/no-school-k-8th-spring-break/
END:VEVENT
BEGIN:VEVENT
DTSTART;TZID=UTC:20240321T154500
DTEND;TZID=UTC:20240321T180000
DTSTAMP:20260425T043403
CREATED:20240306T020036Z
LAST-MODIFIED:20240306T020036Z
UID:4200-1711035900-1711044000@motherlodechristian.com
SUMMARY:7th & 8th Grade Girls Volleyball Game
DESCRIPTION:Tenaya @ MLCS   3:45/4:45 game times.
URL:https://motherlodechristian.com/event/7th-8th-grade-girls-volleyball-game/
END:VEVENT
END:VCALENDAR