BEGIN:VCALENDAR
VERSION:2.0
PRODID:-//Motherlode Christian School - ECPv6.15.20//NONSGML v1.0//EN
CALSCALE:GREGORIAN
METHOD:PUBLISH
X-WR-CALNAME:Motherlode Christian School
X-ORIGINAL-URL:https://motherlodechristian.com
X-WR-CALDESC:Events for Motherlode Christian School
REFRESH-INTERVAL;VALUE=DURATION:PT1H
X-Robots-Tag:noindex
X-PUBLISHED-TTL:PT1H
BEGIN:VTIMEZONE
TZID:UTC
BEGIN:STANDARD
TZOFFSETFROM:+0000
TZOFFSETTO:+0000
TZNAME:UTC
DTSTART:20230101T000000
END:STANDARD
END:VTIMEZONE
BEGIN:VEVENT
DTSTART;TZID=UTC:20240514T163000
DTEND;TZID=UTC:20240514T173000
DTSTAMP:20260425T042901
CREATED:20231028T014556Z
LAST-MODIFIED:20240124T001257Z
UID:4098-1715704200-1715707800@motherlodechristian.com
SUMMARY:Board Meeting
DESCRIPTION:MLCS Board Meeting- open session at 4:30pm in the Chapel. \nPlease come and join us.
URL:https://motherlodechristian.com/event/board-meeting-9/
END:VEVENT
BEGIN:VEVENT
DTSTART;TZID=UTC:20240516T180000
DTEND;TZID=UTC:20240516T193000
DTSTAMP:20260425T042901
CREATED:20230608T020242Z
LAST-MODIFIED:20230608T021626Z
UID:3737-1715882400-1715887800@motherlodechristian.com
SUMMARY:K-8th Open House
DESCRIPTION:Please come and join us as our student’s are always so proud to show off their great work. This is also a good time to share our school with friends and family.
URL:https://motherlodechristian.com/event/k-8th-open-house/
END:VEVENT
BEGIN:VEVENT
DTSTART;TZID=UTC:20240517T093000
DTEND;TZID=UTC:20240517T130000
DTSTAMP:20260425T042901
CREATED:20240507T010417Z
LAST-MODIFIED:20240507T010417Z
UID:4401-1715938200-1715950800@motherlodechristian.com
SUMMARY:1st Grade Field Trip
DESCRIPTION:The 1st grade classes will be going to Columbia to see the Cal Fire Air base.
URL:https://motherlodechristian.com/event/1st-grade-field-trip-3/
END:VEVENT
BEGIN:VEVENT
DTSTART;TZID=UTC:20240520T114500
DTEND;TZID=UTC:20240520T180000
DTSTAMP:20260425T042901
CREATED:20240315T005422Z
LAST-MODIFIED:20240315T005540Z
UID:4221-1716205500-1716228000@motherlodechristian.com
SUMMARY:6th - 8th Grade: All County Track Meet @ Summerville High School
DESCRIPTION:The 6th-8th grade students will be participating in the ALL County Track Meet at Summerville High School. The meet will start at 1pm and go into early evening.  \nStudents will be dismissed for lunch early at 11:45. (Please send a sack lunch\, water bottle and a snack) After the student’s eat and are changed we will leave the school by 12:10 to be at Summerville by 12:15. If you want to help or have questions please contact Coach Wright.
URL:https://motherlodechristian.com/event/6th-8th-grade-all-county-track-meet-summerville-high-school/
END:VEVENT
BEGIN:VEVENT
DTSTART;VALUE=DATE:20240522
DTEND;VALUE=DATE:20240525
DTSTAMP:20260425T042901
CREATED:20230609T235145Z
LAST-MODIFIED:20230609T235145Z
UID:3752-1716336000-1716595199@motherlodechristian.com
SUMMARY:4th Grade 49er Camp
DESCRIPTION:
URL:https://motherlodechristian.com/event/4th-grade-49er-camp/
END:VEVENT
BEGIN:VEVENT
DTSTART;VALUE=DATE:20240524
DTEND;VALUE=DATE:20240525
DTSTAMP:20260425T042901
CREATED:20230608T020331Z
LAST-MODIFIED:20230608T020331Z
UID:3739-1716508800-1716595199@motherlodechristian.com
SUMMARY:3rd Trimester Grading Ends K-8th
DESCRIPTION:
URL:https://motherlodechristian.com/event/3rd-trimester-grading-ends-k-8th/
END:VEVENT
BEGIN:VEVENT
DTSTART;VALUE=DATE:20240527
DTEND;VALUE=DATE:20240528
DTSTAMP:20260425T042901
CREATED:20230608T020411Z
LAST-MODIFIED:20230608T020411Z
UID:3741-1716768000-1716854399@motherlodechristian.com
SUMMARY:No School  K-8th Grade- Memorial Day
DESCRIPTION:
URL:https://motherlodechristian.com/event/no-school-k-8th-grade-memorial-day/
END:VEVENT
BEGIN:VEVENT
DTSTART;TZID=UTC:20240528T103000
DTEND;TZID=UTC:20240528T143000
DTSTAMP:20260425T042901
CREATED:20240507T010541Z
LAST-MODIFIED:20240507T010541Z
UID:4403-1716892200-1716906600@motherlodechristian.com
SUMMARY:1st Grade Field Trip
DESCRIPTION:The 1st grade classes will be going to Twain Harte for the final end of the year field trip!
URL:https://motherlodechristian.com/event/1st-grade-field-trip-4/
END:VEVENT
BEGIN:VEVENT
DTSTART;TZID=UTC:20240529T090000
DTEND;TZID=UTC:20240529T100000
DTSTAMP:20260425T042901
CREATED:20230608T020512Z
LAST-MODIFIED:20230608T020512Z
UID:3743-1716973200-1716976800@motherlodechristian.com
SUMMARY:Preschool Graduation 9a.m.
DESCRIPTION:
URL:https://motherlodechristian.com/event/preschool-graduation-9a-m/
END:VEVENT
BEGIN:VEVENT
DTSTART;VALUE=DATE:20240530
DTEND;VALUE=DATE:20240531
DTSTAMP:20260425T042901
CREATED:20230608T020846Z
LAST-MODIFIED:20230608T020846Z
UID:3745-1717027200-1717113599@motherlodechristian.com
SUMMARY:Last Day of School K-8th w/ 11:30 Early Release and Graduations
DESCRIPTION:Kinder Graduation at 9a.m in the MLCS gym.  K-8th Early Release at 11:30a.m. \n8th Grade Graduation 6p.m. in the MLCS gym.
URL:https://motherlodechristian.com/event/last-day-of-school-k-8th-w-1130-early-release-and-graduations/
END:VEVENT
BEGIN:VEVENT
DTSTART;VALUE=DATE:20240531
DTEND;VALUE=DATE:20240605
DTSTAMP:20260425T042901
CREATED:20230608T021017Z
LAST-MODIFIED:20230608T021017Z
UID:3747-1717113600-1717545599@motherlodechristian.com
SUMMARY:Teacher In Service Days
DESCRIPTION:Times and schedules TBA
URL:https://motherlodechristian.com/event/teacher-in-service-days-3/
END:VEVENT
BEGIN:VEVENT
DTSTART;TZID=UTC:20240611T163000
DTEND;TZID=UTC:20240611T173000
DTSTAMP:20260425T042901
CREATED:20231028T014639Z
LAST-MODIFIED:20231028T014639Z
UID:4100-1718123400-1718127000@motherlodechristian.com
SUMMARY:Board Meeting
DESCRIPTION:MLCS Board Meeting- open session at 4:30pm in the Chapel. \nPlease come and join us.
URL:https://motherlodechristian.com/event/board-meeting-10/
END:VEVENT
BEGIN:VEVENT
DTSTART;TZID=UTC:20240723T163000
DTEND;TZID=UTC:20240723T173000
DTSTAMP:20260425T042901
CREATED:20231028T014731Z
LAST-MODIFIED:20240702T020818Z
UID:4102-1721752200-1721755800@motherlodechristian.com
SUMMARY:Board Meeting
DESCRIPTION:MLCS Board Meeting- open session at 4:30pm in the Chapel. \nPlease come and join us.
URL:https://motherlodechristian.com/event/board-meeting-11/
END:VEVENT
BEGIN:VEVENT
DTSTART;TZID=UTC:20240813T163000
DTEND;TZID=UTC:20240813T173000
DTSTAMP:20260425T042901
CREATED:20231028T014816Z
LAST-MODIFIED:20231028T014816Z
UID:4104-1723566600-1723570200@motherlodechristian.com
SUMMARY:Board Meeting
DESCRIPTION:MLCS Board Meeting- open session at 4:30pm in the Chapel. \nPlease come and join us.
URL:https://motherlodechristian.com/event/board-meeting-12/
END:VEVENT
BEGIN:VEVENT
DTSTART;VALUE=DATE:20240821
DTEND;VALUE=DATE:20240822
DTSTAMP:20260425T042901
CREATED:20240828T042915Z
LAST-MODIFIED:20240828T042915Z
UID:4452-1724198400-1724284799@motherlodechristian.com
SUMMARY:First Day of School
DESCRIPTION:
URL:https://motherlodechristian.com/event/first-day-of-school-2/
END:VEVENT
BEGIN:VEVENT
DTSTART;TZID=UTC:20240829T180000
DTEND;TZID=UTC:20240829T193000
DTSTAMP:20260425T042901
CREATED:20240828T043208Z
LAST-MODIFIED:20240828T043208Z
UID:4454-1724954400-1724959800@motherlodechristian.com
SUMMARY:K-3rd Grade Back to School Night
DESCRIPTION:6:00-6:25:  Presentation #1 in Classrooms. Go directly to your child’s classroom to meet with the teacher for a run-down on the\ngoals\, special events\, and “need-to-know” protocol for your child’s grade this year. \n6:30-7:00:  All K-3 parents meet in the Chapel for whole school info – and a little fun! \n7:05-7:30:  Presentation #2: Teachers repeat their presentations a second time so that parents with multiple siblings can attend\ntwo different class sessions.
URL:https://motherlodechristian.com/event/k-3rd-grade-back-to-school-night-2/
END:VEVENT
BEGIN:VEVENT
DTSTART;VALUE=DATE:20240902
DTEND;VALUE=DATE:20240903
DTSTAMP:20260425T042901
CREATED:20240828T043246Z
LAST-MODIFIED:20240828T043246Z
UID:4456-1725235200-1725321599@motherlodechristian.com
SUMMARY:Labor Day - No School
DESCRIPTION:
URL:https://motherlodechristian.com/event/labor-day-no-school/
END:VEVENT
BEGIN:VEVENT
DTSTART;TZID=UTC:20240905T180000
DTEND;TZID=UTC:20240905T193000
DTSTAMP:20260425T042901
CREATED:20240828T043335Z
LAST-MODIFIED:20240828T043335Z
UID:4458-1725559200-1725564600@motherlodechristian.com
SUMMARY:4th - 8th Grade Back to School Night
DESCRIPTION:6:00-6:25:  Presentation #1 in Classrooms. Go directly to your child’s classroom to meet with the teacher for a run-down on the\ngoals\, special events\, and “need-to-know” protocol for your child’s grade this year. \n6:30-7:00:  All K-3 parents meet in the Chapel for whole school info – and a little fun! \n7:05-7:30:  Presentation #2: Teachers repeat their presentations a second time so that parents with multiple siblings can attend\ntwo different class sessions.
URL:https://motherlodechristian.com/event/4th-8th-grade-back-to-school-night-2/
END:VEVENT
BEGIN:VEVENT
DTSTART;TZID=UTC:20240909T150000
DTEND;TZID=UTC:20240911T200000
DTSTAMP:20260425T042901
CREATED:20240903T223217Z
LAST-MODIFIED:20240903T223217Z
UID:4567-1725894000-1726084800@motherlodechristian.com
SUMMARY:6th Grade Girls Basketball Preseason Tournament @ MLCS
DESCRIPTION:6th Grade Girls Basketball Preseason Tournament @ MLCS   Game times TBA. \n 
URL:https://motherlodechristian.com/event/6th-grade-girls-basketball-preseason-tournament-mlcs/
END:VEVENT
BEGIN:VEVENT
DTSTART;TZID=UTC:20240910T140000
DTEND;TZID=UTC:20240910T150000
DTSTAMP:20260425T042901
CREATED:20240905T043923Z
LAST-MODIFIED:20240905T043923Z
UID:4681-1725976800-1725980400@motherlodechristian.com
SUMMARY:PTF Meeting 2p.m.
DESCRIPTION:PTF meets every 2nd Tuesday of the month at 2p.m. \nGet to know the school\, other families and be a part of making a difference here at MLCS.
URL:https://motherlodechristian.com/event/ptf-meeting-2p-m/
END:VEVENT
BEGIN:VEVENT
DTSTART;TZID=UTC:20240910T163000
DTEND;TZID=UTC:20240910T173000
DTSTAMP:20260425T042901
CREATED:20240905T041359Z
LAST-MODIFIED:20240905T041359Z
UID:4661-1725985800-1725989400@motherlodechristian.com
SUMMARY:MLCS Board Meeting 4:30p.m.
DESCRIPTION:The MLCS Board meets the 2nd Tuesday of every month in the Chapel.  Open Session starts at 4:30p.m. \nClosed Session will start at approximately 5:30p.m. \nEveryone is encouraged to come\, and agendas are emailed out to families before the scheduled meeting. \nPrevious Minutes can also be found on the website under “About”\, then click on “Board”.
URL:https://motherlodechristian.com/event/mlcs-board-meeting-430p-m/
END:VEVENT
BEGIN:VEVENT
DTSTART;VALUE=DATE:20240918
DTEND;VALUE=DATE:20240919
DTSTAMP:20260425T042901
CREATED:20240828T043806Z
LAST-MODIFIED:20240828T043806Z
UID:4460-1726617600-1726703999@motherlodechristian.com
SUMMARY:Fall Picture Day Preschool / K-2nd
DESCRIPTION:Fall Picture Day- Preschool and Kinder – 2nd grade.   Pictures start at 8a.m. with the Preschool and will then continue through 2nd grade. \n 
URL:https://motherlodechristian.com/event/fall-picture-day-preschool-k-2nd/
END:VEVENT
BEGIN:VEVENT
DTSTART;TZID=UTC:20240918T150000
DTEND;TZID=UTC:20240918T170000
DTSTAMP:20260425T042901
CREATED:20240830T013352Z
LAST-MODIFIED:20240830T013352Z
UID:4520-1726671600-1726678800@motherlodechristian.com
SUMMARY:Cross Country Rapp's Run @ Sonora Ele
DESCRIPTION:Cross Country at Sonora Elementary 3:30p.m.  start time.
URL:https://motherlodechristian.com/event/cross-country-rapps-run-sonora-ele/
END:VEVENT
BEGIN:VEVENT
DTSTART;VALUE=DATE:20240920
DTEND;VALUE=DATE:20240921
DTSTAMP:20260425T042901
CREATED:20240828T043931Z
LAST-MODIFIED:20240828T043931Z
UID:4462-1726790400-1726876799@motherlodechristian.com
SUMMARY:Fall Picture Day 3rd grade - 8th grade
DESCRIPTION:Pictures for the 3rd grade – 8th grades will start at 8a.m.
URL:https://motherlodechristian.com/event/fall-picture-day-3rd-grade-8th-grade/
END:VEVENT
BEGIN:VEVENT
DTSTART;TZID=UTC:20240923T154500
DTEND;TZID=UTC:20240923T170000
DTSTAMP:20260425T042901
CREATED:20240924T004729Z
LAST-MODIFIED:20240924T004729Z
UID:4722-1727106300-1727110800@motherlodechristian.com
SUMMARY:6th Grade Girls Basketball @ Sonora 3:45
DESCRIPTION:
URL:https://motherlodechristian.com/event/6th-grade-girls-basketball-sonora-345/
END:VEVENT
BEGIN:VEVENT
DTSTART;TZID=UTC:20240924T154500
DTEND;TZID=UTC:20240924T170000
DTSTAMP:20260425T042901
CREATED:20240924T004826Z
LAST-MODIFIED:20240924T004826Z
UID:4724-1727192700-1727197200@motherlodechristian.com
SUMMARY:6th Grade Girls Basketball @ MLCS 3:45
DESCRIPTION:
URL:https://motherlodechristian.com/event/6th-grade-girls-basketball-mlcs-345/
END:VEVENT
BEGIN:VEVENT
DTSTART;TZID=UTC:20240925T153000
DTEND;TZID=UTC:20240925T173000
DTSTAMP:20260425T042901
CREATED:20240830T013536Z
LAST-MODIFIED:20240830T013536Z
UID:4522-1727278200-1727285400@motherlodechristian.com
SUMMARY:Cross Country - Arnold Rim Trail Run @ White Pines
DESCRIPTION:Cross Country – Arnold Rim Trail Run @ White Pines 3:30p.m. start time
URL:https://motherlodechristian.com/event/cross-country-arnold-rim-trail-run-white-pines/
END:VEVENT
BEGIN:VEVENT
DTSTART;TZID=UTC:20240926T154500
DTEND;TZID=UTC:20240926T170000
DTSTAMP:20260425T042901
CREATED:20240924T004925Z
LAST-MODIFIED:20240924T004925Z
UID:4726-1727365500-1727370000@motherlodechristian.com
SUMMARY:6th Grade Girls Basketball @ Soulsbyville 3:45
DESCRIPTION:
URL:https://motherlodechristian.com/event/6th-grade-girls-basketball-soulsbyville-345/
END:VEVENT
BEGIN:VEVENT
DTSTART;VALUE=DATE:20240927
DTEND;VALUE=DATE:20240928
DTSTAMP:20260425T042901
CREATED:20240828T044128Z
LAST-MODIFIED:20240828T044225Z
UID:4464-1727395200-1727481599@motherlodechristian.com
SUMMARY:1st Progress Report Grading Period Ends
DESCRIPTION:
URL:https://motherlodechristian.com/event/1st-progress-report-grading-period-ends-4th-8th-grades/
END:VEVENT
BEGIN:VEVENT
DTSTART;VALUE=DATE:20241002
DTEND;VALUE=DATE:20241005
DTSTAMP:20260425T042901
CREATED:20240828T054853Z
LAST-MODIFIED:20240828T054853Z
UID:4469-1727827200-1728086399@motherlodechristian.com
SUMMARY:Parent Teacher Conferences - Early Release K-8th  11:30a.m.
DESCRIPTION:Parent Teacher Conferences – Early Release K-8th 11:30a.m.
URL:https://motherlodechristian.com/event/parent-teacher-conferences-early-release-k-8th-1130a-m/
END:VEVENT
END:VCALENDAR