BEGIN:VCALENDAR
VERSION:2.0
PRODID:-//Motherlode Christian School - ECPv6.15.20//NONSGML v1.0//EN
CALSCALE:GREGORIAN
METHOD:PUBLISH
X-ORIGINAL-URL:https://motherlodechristian.com
X-WR-CALDESC:Events for Motherlode Christian School
REFRESH-INTERVAL;VALUE=DURATION:PT1H
X-Robots-Tag:noindex
X-PUBLISHED-TTL:PT1H
BEGIN:VTIMEZONE
TZID:America/Los_Angeles
BEGIN:DAYLIGHT
TZOFFSETFROM:-0800
TZOFFSETTO:-0700
TZNAME:PDT
DTSTART:20250309T100000
END:DAYLIGHT
BEGIN:STANDARD
TZOFFSETFROM:-0700
TZOFFSETTO:-0800
TZNAME:PST
DTSTART:20251102T090000
END:STANDARD
BEGIN:DAYLIGHT
TZOFFSETFROM:-0800
TZOFFSETTO:-0700
TZNAME:PDT
DTSTART:20260308T100000
END:DAYLIGHT
BEGIN:STANDARD
TZOFFSETFROM:-0700
TZOFFSETTO:-0800
TZNAME:PST
DTSTART:20261101T090000
END:STANDARD
BEGIN:DAYLIGHT
TZOFFSETFROM:-0800
TZOFFSETTO:-0700
TZNAME:PDT
DTSTART:20270314T100000
END:DAYLIGHT
BEGIN:STANDARD
TZOFFSETFROM:-0700
TZOFFSETTO:-0800
TZNAME:PST
DTSTART:20271107T090000
END:STANDARD
END:VTIMEZONE
BEGIN:VEVENT
DTSTART;TZID=America/Los_Angeles:20260223T153000
DTEND;TZID=America/Los_Angeles:20260228T200000
DTSTAMP:20260423T144557
CREATED:20260115T212253Z
LAST-MODIFIED:20260115T212253Z
UID:5500-1771860600-1772308800@motherlodechristian.com
SUMMARY:Post Season Boys Basketball Tournament
DESCRIPTION:Post Season Boys Basketball Tournament @ Summerville Ele. Coach Wright and Coaches will send out information as it gets closer.
URL:https://motherlodechristian.com/event/post-season-boys-basketball-tournament/
END:VEVENT
BEGIN:VEVENT
DTSTART;VALUE=DATE:20260226
DTEND;VALUE=DATE:20260227
DTSTAMP:20260423T144557
CREATED:20250730T173709Z
LAST-MODIFIED:20250730T173709Z
UID:5276-1772064000-1772150399@motherlodechristian.com
SUMMARY:2nd Trimester Ends K-8th
DESCRIPTION:
URL:https://motherlodechristian.com/event/2nd-trimester-ends-k-8th/
END:VEVENT
BEGIN:VEVENT
DTSTART;VALUE=DATE:20260227
DTEND;VALUE=DATE:20260301
DTSTAMP:20260423T144557
CREATED:20250730T180814Z
LAST-MODIFIED:20250730T181020Z
UID:5278-1772150400-1772323199@motherlodechristian.com
SUMMARY:MLCS Jubilee Fundraiser
DESCRIPTION:MLCS Winter Jubilee Fundraiser- this is our Main Fundraiser for the school and  is held at the Sonora Fairgrounds. \nFriday doors open at 4p.m  with a dinner\, book sale\, kid’s game room and pie booth are all open and the preview of the Live Auction items and Silent Auction bidding starts. \nSaturday doors open at 9a.m. \nHope to see you all there.
URL:https://motherlodechristian.com/event/mlcs-jubilee-fundraiser/
END:VEVENT
BEGIN:VEVENT
DTSTART;VALUE=DATE:20260302
DTEND;VALUE=DATE:20260303
DTSTAMP:20260423T144557
CREATED:20250730T182309Z
LAST-MODIFIED:20250730T182309Z
UID:5280-1772409600-1772495999@motherlodechristian.com
SUMMARY:No School K-8th
DESCRIPTION:Teacher/Staff In-Service Day
URL:https://motherlodechristian.com/event/no-school-k-8th/
END:VEVENT
BEGIN:VEVENT
DTSTART;TZID=America/Los_Angeles:20260306T130000
DTEND;TZID=America/Los_Angeles:20260306T140000
DTSTAMP:20260423T144557
CREATED:20260107T190739Z
LAST-MODIFIED:20260107T190739Z
UID:5458-1772802000-1772805600@motherlodechristian.com
SUMMARY:4th Grade Field Trip
DESCRIPTION:California Gold Rush Tour of Columbia – with hands on experiences.
URL:https://motherlodechristian.com/event/4th-grade-field-trip-6/
END:VEVENT
BEGIN:VEVENT
DTSTART;TZID=America/Los_Angeles:20260309T100000
DTEND;TZID=America/Los_Angeles:20260309T120000
DTSTAMP:20260423T144557
CREATED:20260121T230103Z
LAST-MODIFIED:20260226T153536Z
UID:5507-1773050400-1773057600@motherlodechristian.com
SUMMARY:Kindergarten & 2nd Grade Field Trip
DESCRIPTION:Roller Skating – High Country Arena
URL:https://motherlodechristian.com/event/kindergarten-2nd-grade-field-trip/
END:VEVENT
BEGIN:VEVENT
DTSTART;TZID=America/Los_Angeles:20260310T163000
DTEND;TZID=America/Los_Angeles:20260310T173000
DTSTAMP:20260423T144557
CREATED:20250804T220918Z
LAST-MODIFIED:20250804T220918Z
UID:5325-1773160200-1773163800@motherlodechristian.com
SUMMARY:MLCS Board Meeting @ 4:30pm
DESCRIPTION:The MLCS Board Meets the second Tuesday of the month. Open Session starts at 4:30pm in the MLCS Chapel and is followed by closed session after a brief break. \nAll are invited to join us.
URL:https://motherlodechristian.com/event/mlcs-board-meeting-430pm-6/
END:VEVENT
BEGIN:VEVENT
DTSTART;VALUE=DATE:20260327
DTEND;VALUE=DATE:20260328
DTSTAMP:20260423T144557
CREATED:20250730T182514Z
LAST-MODIFIED:20250730T182514Z
UID:5282-1774569600-1774655999@motherlodechristian.com
SUMMARY:Grandparents' Day w/ Early Release K-8th
DESCRIPTION:MLCS Grandparents’ Day starts in the MLCS gym and then go visit the classrooms. \nThere will also be an Early Release – TBD
URL:https://motherlodechristian.com/event/grandparents-day-w-early-release-k-8th/
END:VEVENT
BEGIN:VEVENT
DTSTART;VALUE=DATE:20260330
DTEND;VALUE=DATE:20260407
DTSTAMP:20260423T144557
CREATED:20250730T182716Z
LAST-MODIFIED:20250730T182716Z
UID:5284-1774828800-1775519999@motherlodechristian.com
SUMMARY:No School K-8th Spring Break
DESCRIPTION:No School for Spring Break! We will see student’s on Tuesday\, April 7th!
URL:https://motherlodechristian.com/event/no-school-k-8th-spring-break-2/
END:VEVENT
BEGIN:VEVENT
DTSTART;TZID=America/Los_Angeles:20260409T080000
DTEND;TZID=America/Los_Angeles:20260409T150000
DTSTAMP:20260423T144557
CREATED:20260324T155855Z
LAST-MODIFIED:20260324T155855Z
UID:5549-1775721600-1775746800@motherlodechristian.com
SUMMARY:3rd & 4th Grades Field Trip
DESCRIPTION:Educational and Nature trip to Yosemite.
URL:https://motherlodechristian.com/event/3rd-4th-grades-field-trip/
END:VEVENT
BEGIN:VEVENT
DTSTART;VALUE=DATE:20260412
DTEND;VALUE=DATE:20260418
DTSTAMP:20260423T144557
CREATED:20250730T182808Z
LAST-MODIFIED:20250730T182808Z
UID:5286-1775952000-1776470399@motherlodechristian.com
SUMMARY:7th/8th Washington D.C. Trip
DESCRIPTION:
URL:https://motherlodechristian.com/event/7th-8th-washington-d-c-trip-2/
END:VEVENT
BEGIN:VEVENT
DTSTART;TZID=America/Los_Angeles:20260414T163000
DTEND;TZID=America/Los_Angeles:20260414T173000
DTSTAMP:20260423T144557
CREATED:20250804T221016Z
LAST-MODIFIED:20250804T221016Z
UID:5327-1776184200-1776187800@motherlodechristian.com
SUMMARY:MLCS Board Meeting @ 4:30pm
DESCRIPTION:The MLCS Board Meets the second Tuesday of the month. Open Session starts at 4:30pm in the MLCS Chapel and is followed by closed session after a brief break. \nAll are invited to join us.
URL:https://motherlodechristian.com/event/mlcs-board-meeting-430pm-7/
END:VEVENT
BEGIN:VEVENT
DTSTART;VALUE=DATE:20260417
DTEND;VALUE=DATE:20260418
DTSTAMP:20260423T144557
CREATED:20250730T182853Z
LAST-MODIFIED:20250730T182853Z
UID:5288-1776384000-1776470399@motherlodechristian.com
SUMMARY:3rd Trimester Progress Grading Ends
DESCRIPTION:
URL:https://motherlodechristian.com/event/3rd-trimester-progress-grading-ends/
END:VEVENT
BEGIN:VEVENT
DTSTART;TZID=America/Los_Angeles:20260424T113000
DTEND;TZID=America/Los_Angeles:20260424T160000
DTSTAMP:20260423T144557
CREATED:20250730T183120Z
LAST-MODIFIED:20250730T183120Z
UID:5290-1777030200-1777046400@motherlodechristian.com
SUMMARY:Parent Conferences K-8th with Early Release
DESCRIPTION:11:30a.m. Early Release for K-8th grades for Parent Teacher Conferences only as needed.
URL:https://motherlodechristian.com/event/parent-conferences-k-8th-with-early-release/
END:VEVENT
BEGIN:VEVENT
DTSTART;VALUE=DATE:20260504
DTEND;VALUE=DATE:20260509
DTSTAMP:20260423T144557
CREATED:20250804T215622Z
LAST-MODIFIED:20250804T215622Z
UID:5310-1777852800-1778284799@motherlodechristian.com
SUMMARY:PTF - Teacher Appreciation Week
DESCRIPTION:PTF will put out information for ways to bless the Techer’s each day. \n 
URL:https://motherlodechristian.com/event/ptf-teacher-appreciation-week/
END:VEVENT
BEGIN:VEVENT
DTSTART;TZID=America/Los_Angeles:20260512T163000
DTEND;TZID=America/Los_Angeles:20260512T173000
DTSTAMP:20260423T144557
CREATED:20250804T221111Z
LAST-MODIFIED:20250804T221111Z
UID:5329-1778603400-1778607000@motherlodechristian.com
SUMMARY:MLCS Board Meeting @ 4:30pm
DESCRIPTION:The MLCS Board Meets the second Tuesday of the month. Open Session starts at 4:30pm in the MLCS Chapel and is followed by closed session after a brief break. \nAll are invited to join us.
URL:https://motherlodechristian.com/event/mlcs-board-meeting-430pm-8/
END:VEVENT
BEGIN:VEVENT
DTSTART;VALUE=DATE:20260514
DTEND;VALUE=DATE:20260515
DTSTAMP:20260423T144557
CREATED:20250730T183218Z
LAST-MODIFIED:20250730T183218Z
UID:5292-1778716800-1778803199@motherlodechristian.com
SUMMARY:K-8th Open House at 6p.m.
DESCRIPTION:
URL:https://motherlodechristian.com/event/k-8th-open-house-at-6p-m/
END:VEVENT
BEGIN:VEVENT
DTSTART;TZID=America/Los_Angeles:20260517T120000
DTEND;TZID=America/Los_Angeles:20260517T200000
DTSTAMP:20260423T144557
CREATED:20260324T160611Z
LAST-MODIFIED:20260324T160611Z
UID:5551-1779019200-1779048000@motherlodechristian.com
SUMMARY:Cougar Shootout Golf Tournament
DESCRIPTION:Teleli Golf Course – sign up by May 1st.  Scramble format\, 18 holes w/cart\, T-shirt\, Dinner\,  Drink Ticket\, and Hole Games.   If you don’t golf dinner tickets can be purchased seperatly. \nCome enjoy a day of fun! \n 
URL:https://motherlodechristian.com/event/cougar-shootout-golf-tournament/
END:VEVENT
BEGIN:VEVENT
DTSTART;TZID=America/Los_Angeles:20260519T083000
DTEND;TZID=America/Los_Angeles:20260519T151500
DTSTAMP:20260423T144557
CREATED:20260422T161436Z
LAST-MODIFIED:20260422T161436Z
UID:5588-1779179400-1779203700@motherlodechristian.com
SUMMARY:2nd Grade Field Trip
DESCRIPTION:The second grade will be going to the Fresno Zoo to learn about animals and their habitats.
URL:https://motherlodechristian.com/event/2nd-grade-field-trip-7/
END:VEVENT
BEGIN:VEVENT
DTSTART;VALUE=DATE:20260520
DTEND;VALUE=DATE:20260523
DTSTAMP:20260423T144557
CREATED:20260311T200059Z
LAST-MODIFIED:20260311T200423Z
UID:5535-1779235200-1779494399@motherlodechristian.com
SUMMARY:4th Grade 49er Camp Field Trip
DESCRIPTION:
URL:https://motherlodechristian.com/event/4th-grade-49er-camp-field-trip/
END:VEVENT
BEGIN:VEVENT
DTSTART;VALUE=DATE:20260525
DTEND;VALUE=DATE:20260526
DTSTAMP:20260423T144557
CREATED:20250730T183254Z
LAST-MODIFIED:20250730T183254Z
UID:5294-1779667200-1779753599@motherlodechristian.com
SUMMARY:No School K-8th - Memorial Day
DESCRIPTION:
URL:https://motherlodechristian.com/event/no-school-k-8th-memorial-day/
END:VEVENT
BEGIN:VEVENT
DTSTART;VALUE=DATE:20260529
DTEND;VALUE=DATE:20260530
DTSTAMP:20260423T144557
CREATED:20250730T183353Z
LAST-MODIFIED:20250730T183353Z
UID:5296-1780012800-1780099199@motherlodechristian.com
SUMMARY:3rd Trimester Grading Period Ends K-8th
DESCRIPTION:
URL:https://motherlodechristian.com/event/3rd-trimester-grading-period-ends-k-8th/
END:VEVENT
BEGIN:VEVENT
DTSTART;TZID=America/Los_Angeles:20260529T093000
DTEND;TZID=America/Los_Angeles:20260529T150000
DTSTAMP:20260423T144557
CREATED:20260311T195818Z
LAST-MODIFIED:20260311T195818Z
UID:5532-1780047000-1780066800@motherlodechristian.com
SUMMARY:5th Grade Field Trip
DESCRIPTION:State Capitol – more information will go home.
URL:https://motherlodechristian.com/event/5th-grade-field-trip-4/
END:VEVENT
BEGIN:VEVENT
DTSTART;VALUE=DATE:20260603
DTEND;VALUE=DATE:20260604
DTSTAMP:20260423T144557
CREATED:20250730T183633Z
LAST-MODIFIED:20250730T183633Z
UID:5300-1780444800-1780531199@motherlodechristian.com
SUMMARY:Kinder Graduation @ 9a.m. in MLCS Gym
DESCRIPTION:Graduation in the MLCS Gym and early release at 11:30.
URL:https://motherlodechristian.com/event/kinder-graduation-9a-m-in-mlcs-gym/
END:VEVENT
BEGIN:VEVENT
DTSTART;VALUE=DATE:20260603
DTEND;VALUE=DATE:20260604
DTSTAMP:20260423T144557
CREATED:20250730T183736Z
LAST-MODIFIED:20250730T183736Z
UID:5302-1780444800-1780531199@motherlodechristian.com
SUMMARY:8th Grade Graduation @ 6p.m. in MLCS Gym
DESCRIPTION:
URL:https://motherlodechristian.com/event/8th-grade-graduation-6p-m-in-mlcs-gym/
END:VEVENT
BEGIN:VEVENT
DTSTART;VALUE=DATE:20260603
DTEND;VALUE=DATE:20260604
DTSTAMP:20260423T144557
CREATED:20250730T184325Z
LAST-MODIFIED:20250730T184325Z
UID:5307-1780444800-1780531199@motherlodechristian.com
SUMMARY:Last Day of School K-8th Early Release 11:30a.m.
DESCRIPTION:
URL:https://motherlodechristian.com/event/last-day-of-school-k-8th-early-release-1130a-m-2/
END:VEVENT
BEGIN:VEVENT
DTSTART;VALUE=DATE:20260609
DTEND;VALUE=DATE:20260610
DTSTAMP:20260423T144557
CREATED:20250730T183841Z
LAST-MODIFIED:20250730T183841Z
UID:5304-1780963200-1781049599@motherlodechristian.com
SUMMARY:MLCS Board Meeting @ 4:30
DESCRIPTION:
URL:https://motherlodechristian.com/event/mlcs-board-meeting-430/
END:VEVENT
BEGIN:VEVENT
DTSTART;TZID=America/Los_Angeles:20260609T163000
DTEND;TZID=America/Los_Angeles:20260609T173000
DTSTAMP:20260423T144557
CREATED:20250804T221151Z
LAST-MODIFIED:20250804T221151Z
UID:5331-1781022600-1781026200@motherlodechristian.com
SUMMARY:MLCS Board Meeting @ 4:30pm
DESCRIPTION:The MLCS Board Meets the second Tuesday of the month. Open Session starts at 4:30pm in the MLCS Chapel and is followed by closed session after a brief break. \nAll are invited to join us.
URL:https://motherlodechristian.com/event/mlcs-board-meeting-430pm-9/
END:VEVENT
END:VCALENDAR