BEGIN:VCALENDAR
VERSION:2.0
PRODID:-//Motherlode Christian School - ECPv6.15.20//NONSGML v1.0//EN
CALSCALE:GREGORIAN
METHOD:PUBLISH
X-WR-CALNAME:Motherlode Christian School
X-ORIGINAL-URL:https://motherlodechristian.com
X-WR-CALDESC:Events for Motherlode Christian School
REFRESH-INTERVAL;VALUE=DURATION:PT1H
X-Robots-Tag:noindex
X-PUBLISHED-TTL:PT1H
BEGIN:VTIMEZONE
TZID:America/Los_Angeles
BEGIN:DAYLIGHT
TZOFFSETFROM:-0800
TZOFFSETTO:-0700
TZNAME:PDT
DTSTART:20240310T100000
END:DAYLIGHT
BEGIN:STANDARD
TZOFFSETFROM:-0700
TZOFFSETTO:-0800
TZNAME:PST
DTSTART:20241103T090000
END:STANDARD
BEGIN:DAYLIGHT
TZOFFSETFROM:-0800
TZOFFSETTO:-0700
TZNAME:PDT
DTSTART:20250309T100000
END:DAYLIGHT
BEGIN:STANDARD
TZOFFSETFROM:-0700
TZOFFSETTO:-0800
TZNAME:PST
DTSTART:20251102T090000
END:STANDARD
BEGIN:DAYLIGHT
TZOFFSETFROM:-0800
TZOFFSETTO:-0700
TZNAME:PDT
DTSTART:20260308T100000
END:DAYLIGHT
BEGIN:STANDARD
TZOFFSETFROM:-0700
TZOFFSETTO:-0800
TZNAME:PST
DTSTART:20261101T090000
END:STANDARD
BEGIN:DAYLIGHT
TZOFFSETFROM:-0800
TZOFFSETTO:-0700
TZNAME:PDT
DTSTART:20270314T100000
END:DAYLIGHT
BEGIN:STANDARD
TZOFFSETFROM:-0700
TZOFFSETTO:-0800
TZNAME:PST
DTSTART:20271107T090000
END:STANDARD
END:VTIMEZONE
BEGIN:VEVENT
DTSTART;TZID=America/Los_Angeles:20260223T153000
DTEND;TZID=America/Los_Angeles:20260228T200000
DTSTAMP:20260423T125322
CREATED:20260115T212253Z
LAST-MODIFIED:20260115T212253Z
UID:5500-1771860600-1772308800@motherlodechristian.com
SUMMARY:Post Season Boys Basketball Tournament
DESCRIPTION:Post Season Boys Basketball Tournament @ Summerville Ele. Coach Wright and Coaches will send out information as it gets closer.
URL:https://motherlodechristian.com/event/post-season-boys-basketball-tournament/
END:VEVENT
BEGIN:VEVENT
DTSTART;TZID=America/Los_Angeles:20260220T170000
DTEND;TZID=America/Los_Angeles:20260220T170000
DTSTAMP:20260423T125322
CREATED:20260115T212052Z
LAST-MODIFIED:20260115T212052Z
UID:5498-1771606800-1771606800@motherlodechristian.com
SUMMARY:8th Grade Boys Basketball @ MLCS
DESCRIPTION:Game starts at 3:45. \nTenaya vs MLCS
URL:https://motherlodechristian.com/event/8th-grade-boys-basketball-mlcs/
END:VEVENT
BEGIN:VEVENT
DTSTART;TZID=America/Los_Angeles:20260219T154500
DTEND;TZID=America/Los_Angeles:20260219T180000
DTSTAMP:20260423T125322
CREATED:20260115T211925Z
LAST-MODIFIED:20260115T211925Z
UID:5496-1771515900-1771524000@motherlodechristian.com
SUMMARY:6th - 8th Grade Boys Basketball @ Gold Rush
DESCRIPTION:Game start time are as follows: 6th at 3:45\, 7th at 4:45 and 8th at 5:45. \nMLCS vs Gold Rush
URL:https://motherlodechristian.com/event/6th-8th-grade-boys-basketball-gold-rush/
END:VEVENT
BEGIN:VEVENT
DTSTART;TZID=America/Los_Angeles:20260218T094500
DTEND;TZID=America/Los_Angeles:20260218T114500
DTSTAMP:20260423T125322
CREATED:20260203T161453Z
LAST-MODIFIED:20260203T161453Z
UID:5516-1771407900-1771415100@motherlodechristian.com
SUMMARY:1st Grade Field Trip
DESCRIPTION:“Jumping” @ Elevate – concluding our unit on bones and muscles
URL:https://motherlodechristian.com/event/1st-grade-field-trip-10/
END:VEVENT
BEGIN:VEVENT
DTSTART;TZID=America/Los_Angeles:20260217T154500
DTEND;TZID=America/Los_Angeles:20260217T190000
DTSTAMP:20260423T125322
CREATED:20260115T211813Z
LAST-MODIFIED:20260115T211813Z
UID:5494-1771343100-1771354800@motherlodechristian.com
SUMMARY:6th - 8th Grade Boys Basketball @ Summerville Ele
DESCRIPTION:Game start time are as follows: 6th at 3:45\, 7th at 4:45 and 8th at 5:45. \nMLCS vs Summerville A
URL:https://motherlodechristian.com/event/6th-8th-grade-boys-basketball-summerville-ele/
END:VEVENT
BEGIN:VEVENT
DTSTART;VALUE=DATE:20260216
DTEND;VALUE=DATE:20260217
DTSTAMP:20260423T125322
CREATED:20250730T173630Z
LAST-MODIFIED:20250730T173630Z
UID:5274-1771200000-1771286399@motherlodechristian.com
SUMMARY:No School K- 8th - President's Day
DESCRIPTION:
URL:https://motherlodechristian.com/event/no-school-k-8th-presidents-day-2/
END:VEVENT
BEGIN:VEVENT
DTSTART;VALUE=DATE:20260213
DTEND;VALUE=DATE:20260214
DTSTAMP:20260423T125322
CREATED:20250730T173532Z
LAST-MODIFIED:20250730T173532Z
UID:5272-1770940800-1771027199@motherlodechristian.com
SUMMARY:PTF Balloon-a-Gram
DESCRIPTION:Preschool – 8th Grade Balloon-a-Grams! The student’s all love this day. Forms will go home with students as well as PTF volunteers selling them during the school day. So watch for info!
URL:https://motherlodechristian.com/event/ptf-balloon-a-gram/
END:VEVENT
BEGIN:VEVENT
DTSTART;TZID=America/Los_Angeles:20260212T154500
DTEND;TZID=America/Los_Angeles:20260212T180000
DTSTAMP:20260423T125322
CREATED:20260115T211603Z
LAST-MODIFIED:20260115T211603Z
UID:5492-1770911100-1770919200@motherlodechristian.com
SUMMARY:6th & 8th Grade Boys Basketball @ MLCS
DESCRIPTION:Game start time are as follows: 6th at 3:45 and  8th at 4:45 \nColumbia vs MLCS
URL:https://motherlodechristian.com/event/6th-8th-grade-boys-basketball-mlcs-2/
END:VEVENT
BEGIN:VEVENT
DTSTART;TZID=America/Los_Angeles:20260211T154500
DTEND;TZID=America/Los_Angeles:20260211T170000
DTSTAMP:20260423T125322
CREATED:20260115T211416Z
LAST-MODIFIED:20260115T211416Z
UID:5490-1770824700-1770829200@motherlodechristian.com
SUMMARY:7th Grade Boys Basketball @Sonoa Ele
DESCRIPTION:Game start time are as follows: 7th at 3:45 \nMLCS vs Sonora Gold
URL:https://motherlodechristian.com/event/7th-grade-boys-basketball-sonoa-ele/
END:VEVENT
BEGIN:VEVENT
DTSTART;TZID=America/Los_Angeles:20260211T132000
DTEND;TZID=America/Los_Angeles:20260211T145500
DTSTAMP:20260423T125322
CREATED:20260121T230010Z
LAST-MODIFIED:20260121T230010Z
UID:5505-1770816000-1770821700@motherlodechristian.com
SUMMARY:Kindergarten Field Trip
DESCRIPTION:Post Office – community workers / Mail system
URL:https://motherlodechristian.com/event/kindergarten-field-trip-4/
END:VEVENT
BEGIN:VEVENT
DTSTART;TZID=America/Los_Angeles:20260210T163000
DTEND;TZID=America/Los_Angeles:20260210T173000
DTSTAMP:20260423T125322
CREATED:20250804T220838Z
LAST-MODIFIED:20250804T220838Z
UID:5323-1770741000-1770744600@motherlodechristian.com
SUMMARY:MLCS Board Meeting @ 4:30pm
DESCRIPTION:The MLCS Board Meets the second Tuesday of the month. Open Session starts at 4:30pm in the MLCS Chapel and is followed by closed session after a brief break. \nAll are invited to join us.
URL:https://motherlodechristian.com/event/mlcs-board-meeting-430pm-5/
END:VEVENT
BEGIN:VEVENT
DTSTART;TZID=America/Los_Angeles:20260210T154500
DTEND;TZID=America/Los_Angeles:20260210T180000
DTSTAMP:20260423T125322
CREATED:20260115T211241Z
LAST-MODIFIED:20260115T211241Z
UID:5488-1770738300-1770746400@motherlodechristian.com
SUMMARY:6th & 8th Boys Basketball @ MLCS
DESCRIPTION:Game start time are as follows: 6th at 3:45\, 8th at 4:45 \nJamestown vs MLCS
URL:https://motherlodechristian.com/event/6th-8th-boys-basketball-mlcs-2/
END:VEVENT
BEGIN:VEVENT
DTSTART;VALUE=DATE:20260209
DTEND;VALUE=DATE:20260210
DTSTAMP:20260423T125322
CREATED:20260121T230343Z
LAST-MODIFIED:20260121T230832Z
UID:5509-1770595200-1770681599@motherlodechristian.com
SUMMARY:No School Lincoln's Day K - 8th Grades
DESCRIPTION:
URL:https://motherlodechristian.com/event/no-school-lincolns-day/
END:VEVENT
BEGIN:VEVENT
DTSTART;TZID=America/Los_Angeles:20260205T154500
DTEND;TZID=America/Los_Angeles:20260205T170000
DTSTAMP:20260423T125322
CREATED:20260115T211013Z
LAST-MODIFIED:20260115T211013Z
UID:5486-1770306300-1770310800@motherlodechristian.com
SUMMARY:7th Grade Boys Basketball @MLCS
DESCRIPTION:Game start time are as follows: 7th at 3:45 \nSummerville Blue Team @ MLCS
URL:https://motherlodechristian.com/event/7th-grade-boys-basketball-mlcs/
END:VEVENT
BEGIN:VEVENT
DTSTART;TZID=America/Los_Angeles:20260204T154500
DTEND;TZID=America/Los_Angeles:20260204T190000
DTSTAMP:20260423T125322
CREATED:20260115T210846Z
LAST-MODIFIED:20260115T210846Z
UID:5484-1770219900-1770231600@motherlodechristian.com
SUMMARY:6th - 8th Boys Basketball @MLCS
DESCRIPTION:Game start time are as follows: 6th at 3:45\, 7th at 4:45 and 8th at 5:45. \nSoulsbyville B team @ MLCS
URL:https://motherlodechristian.com/event/6th-8th-boys-basketball-mlcs/
END:VEVENT
BEGIN:VEVENT
DTSTART;TZID=America/Los_Angeles:20260202T154500
DTEND;TZID=America/Los_Angeles:20260202T190000
DTSTAMP:20260423T125322
CREATED:20260115T210724Z
LAST-MODIFIED:20260115T210724Z
UID:5482-1770047100-1770058800@motherlodechristian.com
SUMMARY:6th - 8th Boys Basketball @ Curtis Creek
DESCRIPTION:Game start time are as follows: 6th at 3:45\, 7th at 4:45 and 8th at 5:45. \nMLCS vs Curtis Creek
URL:https://motherlodechristian.com/event/6th-8th-boys-basketball-curtis-creek/
END:VEVENT
BEGIN:VEVENT
DTSTART;TZID=America/Los_Angeles:20260129T154500
DTEND;TZID=America/Los_Angeles:20260129T190000
DTSTAMP:20260423T125322
CREATED:20260115T210557Z
LAST-MODIFIED:20260115T210557Z
UID:5480-1769701500-1769713200@motherlodechristian.com
SUMMARY:6-8th Boys Basketball @ MLCS 3:45
DESCRIPTION:Game start time are as follows: 6th at 3:45\, 7th at 4:45 and 8th at 5:45. \nSonora vs MLCS @ MLCS
URL:https://motherlodechristian.com/event/6-8th-boys-basketball-mlcs-345/
END:VEVENT
BEGIN:VEVENT
DTSTART;TZID=America/Los_Angeles:20260127T153000
DTEND;TZID=America/Los_Angeles:20260127T170000
DTSTAMP:20260423T125322
CREATED:20260115T172519Z
LAST-MODIFIED:20260115T172519Z
UID:5467-1769527800-1769533200@motherlodechristian.com
SUMMARY:6th & 8th Grade Boys Basketball @ MLCS
DESCRIPTION:6th (3:45) & 8th Grade (4:45) Boys Basketball Belleview @ MLCS
URL:https://motherlodechristian.com/event/6th-8th-grade-boys-basketball-mlcs/
END:VEVENT
BEGIN:VEVENT
DTSTART;TZID=America/Los_Angeles:20260123T080000
DTEND;TZID=America/Los_Angeles:20260123T160000
DTSTAMP:20260423T125322
CREATED:20260121T230641Z
LAST-MODIFIED:20260121T230641Z
UID:5511-1769155200-1769184000@motherlodechristian.com
SUMMARY:Ski Trip 3rd - 8th grades
DESCRIPTION:Regular school day for non skiers and K-2nd grades.
URL:https://motherlodechristian.com/event/ski-trip-3rd-8th-grades/
END:VEVENT
BEGIN:VEVENT
DTSTART;TZID=America/Los_Angeles:20260120T203000
DTEND;TZID=America/Los_Angeles:20260123T170000
DTSTAMP:20260423T125322
CREATED:20260115T205732Z
LAST-MODIFIED:20260115T205732Z
UID:5478-1768941000-1769187600@motherlodechristian.com
SUMMARY:8th Grade Boys Basketball Preseason Tournament @ Sonora Ele
DESCRIPTION:Games start at 3:15 and Coaches will notify families of game times.
URL:https://motherlodechristian.com/event/8th-grade-boys-basketball-preseason-tournament-sonora-ele-2/
END:VEVENT
BEGIN:VEVENT
DTSTART;TZID=America/Los_Angeles:20260120T163000
DTEND;TZID=America/Los_Angeles:20260120T173000
DTSTAMP:20260423T125322
CREATED:20250804T220426Z
LAST-MODIFIED:20251210T173154Z
UID:5319-1768926600-1768930200@motherlodechristian.com
SUMMARY:MLCS Board Meeting @ 4:30pm
DESCRIPTION:The MLCS Board Meets the second Tuesday of the month. Open Session starts at 4:30pm in the MLCS Chapel and is followed by closed session after a brief break. \nAll are invited to join us.
URL:https://motherlodechristian.com/event/mlcs-board-meeting-430pm-3/
END:VEVENT
BEGIN:VEVENT
DTSTART;TZID=America/Los_Angeles:20260120T153000
DTEND;TZID=America/Los_Angeles:20260122T200000
DTSTAMP:20260423T125322
CREATED:20260115T205251Z
LAST-MODIFIED:20260115T205251Z
UID:5472-1768923000-1769112000@motherlodechristian.com
SUMMARY:6th Grade Boys Basketball Preseason Tournament @ MLCS
DESCRIPTION:1/20-1/22 Games start at 3:30 \nBrackets are posted and Coaches will notify players of game times. \n  \n 
URL:https://motherlodechristian.com/event/6th-grade-boys-basketball-preseason-tournament-mlcs/
END:VEVENT
BEGIN:VEVENT
DTSTART;TZID=America/Los_Angeles:20260120T151500
DTEND;TZID=America/Los_Angeles:20260123T203000
DTSTAMP:20260423T125322
CREATED:20260115T205541Z
LAST-MODIFIED:20260115T205541Z
UID:5474-1768922100-1769200200@motherlodechristian.com
SUMMARY:7th Grade Boys Basketball Preseason Tournament @ Sonora Ele.
DESCRIPTION:Games start at 3:15 and Coaches will notify families of game times.
URL:https://motherlodechristian.com/event/7th-grade-boys-basketball-preseason-tournament-sonora-ele/
END:VEVENT
BEGIN:VEVENT
DTSTART;VALUE=DATE:20260119
DTEND;VALUE=DATE:20260120
DTSTAMP:20260423T125322
CREATED:20250730T173148Z
LAST-MODIFIED:20250730T173148Z
UID:5270-1768780800-1768867199@motherlodechristian.com
SUMMARY:No School K-8th - Martin Luther Kind Day
DESCRIPTION:
URL:https://motherlodechristian.com/event/no-school-k-8th-martin-luther-kind-day/
END:VEVENT
BEGIN:VEVENT
DTSTART;TZID=America/Los_Angeles:20260116T153000
DTEND;TZID=America/Los_Angeles:20260116T200000
DTSTAMP:20260423T125322
CREATED:20260115T204945Z
LAST-MODIFIED:20260115T204945Z
UID:5469-1768577400-1768593600@motherlodechristian.com
SUMMARY:6th Grade Preseason Boys Basketball Tournament @ MLCS
DESCRIPTION:Friday  1/16 Games start at 3:30 and Brackets are posted and Coaches will notify players of game times. \nBrackets are updated Daily after games are played. \n 
URL:https://motherlodechristian.com/event/6th-grade-preseason-boys-basketball-tournament-mlcs/
END:VEVENT
BEGIN:VEVENT
DTSTART;TZID=America/Los_Angeles:20260116T151500
DTEND;TZID=America/Los_Angeles:20260116T203000
DTSTAMP:20260423T125322
CREATED:20260115T205636Z
LAST-MODIFIED:20260115T205636Z
UID:5476-1768576500-1768595400@motherlodechristian.com
SUMMARY:8th Grade Boys Basketball Preseason Tournament @ Sonora Ele
DESCRIPTION:Games start at 3:15 and Coaches will notify families of game times.
URL:https://motherlodechristian.com/event/8th-grade-boys-basketball-preseason-tournament-sonora-ele/
END:VEVENT
BEGIN:VEVENT
DTSTART;TZID=America/Los_Angeles:20260113T133000
DTEND;TZID=America/Los_Angeles:20260113T144500
DTSTAMP:20260423T125322
CREATED:20260107T220311Z
LAST-MODIFIED:20260107T220311Z
UID:5460-1768311000-1768315500@motherlodechristian.com
SUMMARY:Kindergarten Field Trip
DESCRIPTION:Walking to Fire House to learn about Community workers.
URL:https://motherlodechristian.com/event/kindergarten-field-trip-3/
END:VEVENT
BEGIN:VEVENT
DTSTART;VALUE=DATE:20260109
DTEND;VALUE=DATE:20260110
DTSTAMP:20260423T125322
CREATED:20250730T173102Z
LAST-MODIFIED:20250730T173102Z
UID:5268-1767916800-1768003199@motherlodechristian.com
SUMMARY:2nd Trimester Progress Report Ends K-8th
DESCRIPTION:
URL:https://motherlodechristian.com/event/2nd-trimester-progress-report-ends-k-8th/
END:VEVENT
BEGIN:VEVENT
DTSTART;VALUE=DATE:20251222
DTEND;VALUE=DATE:20260106
DTSTAMP:20260423T125322
CREATED:20250730T170735Z
LAST-MODIFIED:20250730T170735Z
UID:5266-1766361600-1767657599@motherlodechristian.com
SUMMARY:No School K-8th Christmas Vacation
DESCRIPTION:No School K-8th Christmas Vacation: December 22nd – January 2nd and No School for Staff In-Service Day on Monday\, January 5th. \nWe will see Student’s back on campus on January 6th!
URL:https://motherlodechristian.com/event/no-school-k-8th-christmas-vacation/
END:VEVENT
BEGIN:VEVENT
DTSTART;VALUE=DATE:20251219
DTEND;VALUE=DATE:20251220
DTSTAMP:20260423T125322
CREATED:20250730T170350Z
LAST-MODIFIED:20250730T170350Z
UID:5264-1766102400-1766188799@motherlodechristian.com
SUMMARY:Early Dismissal K-8th 11:30a.m.
DESCRIPTION:
URL:https://motherlodechristian.com/event/early-dismissal-k-8th-1130a-m/
END:VEVENT
END:VCALENDAR