BEGIN:VCALENDAR
VERSION:2.0
PRODID:-//Motherlode Christian School - ECPv6.15.20//NONSGML v1.0//EN
CALSCALE:GREGORIAN
METHOD:PUBLISH
X-WR-CALNAME:Motherlode Christian School
X-ORIGINAL-URL:https://motherlodechristian.com
X-WR-CALDESC:Events for Motherlode Christian School
REFRESH-INTERVAL;VALUE=DURATION:PT1H
X-Robots-Tag:noindex
X-PUBLISHED-TTL:PT1H
BEGIN:VTIMEZONE
TZID:UTC
BEGIN:STANDARD
TZOFFSETFROM:+0000
TZOFFSETTO:+0000
TZNAME:UTC
DTSTART:20220101T000000
END:STANDARD
END:VTIMEZONE
BEGIN:VEVENT
DTSTART;TZID=UTC:20230601T090000
DTEND;TZID=UTC:20230601T100000
DTSTAMP:20260425T095608
CREATED:20220806T051735Z
LAST-MODIFIED:20220929T224730Z
UID:2855-1685610000-1685613600@motherlodechristian.com
SUMMARY:Kindergarten Graduation
DESCRIPTION:Kindergarten Graduation 9am – Also early dismissal at 11:30 for K-8th grades \n 
URL:https://motherlodechristian.com/event/kindergarten-graduation-2/
END:VEVENT
BEGIN:VEVENT
DTSTART;VALUE=DATE:20230601
DTEND;VALUE=DATE:20230602
DTSTAMP:20260425T095608
CREATED:20220806T052001Z
LAST-MODIFIED:20220929T223720Z
UID:2862-1685577600-1685663999@motherlodechristian.com
SUMMARY:Last Day of School - Early Release K-8th
DESCRIPTION:Last Day of School with an Early Release at 11:30am K-8th Grade
URL:https://motherlodechristian.com/event/last-day-of-school-early-release/
END:VEVENT
BEGIN:VEVENT
DTSTART;TZID=UTC:20230530T080000
DTEND;TZID=UTC:20230530T170000
DTSTAMP:20260425T095608
CREATED:20220806T051234Z
LAST-MODIFIED:20220806T051234Z
UID:2851-1685433600-1685466000@motherlodechristian.com
SUMMARY:3rd Trimester Grading Ends
DESCRIPTION:3rd Trimester Grading period ends
URL:https://motherlodechristian.com/event/3rd-trimester-grading-ends/
END:VEVENT
BEGIN:VEVENT
DTSTART;VALUE=DATE:20230529
DTEND;VALUE=DATE:20230530
DTSTAMP:20260425T095608
CREATED:20220806T051133Z
LAST-MODIFIED:20220929T224254Z
UID:2849-1685318400-1685404799@motherlodechristian.com
SUMMARY:No School K-8th grade
DESCRIPTION:Memorial Day – No School K-8th Grade
URL:https://motherlodechristian.com/event/no-school-7/
END:VEVENT
BEGIN:VEVENT
DTSTART;VALUE=DATE:20230524
DTEND;VALUE=DATE:20230525
DTSTAMP:20260425T095608
CREATED:20230215T004621Z
LAST-MODIFIED:20230215T004621Z
UID:3521-1684886400-1684972799@motherlodechristian.com
SUMMARY:5th Grade Field Trip
DESCRIPTION:Ship Trip – ” Life on The Barbary Coast . \nWe will leave at 6am more information will go home with students. \n 
URL:https://motherlodechristian.com/event/5th-grade-field-trip-2/
END:VEVENT
BEGIN:VEVENT
DTSTART;TZID=UTC:20230523T153000
DTEND;TZID=UTC:20230523T163000
DTSTAMP:20260425T095608
CREATED:20220810T033019Z
LAST-MODIFIED:20220810T033019Z
UID:2944-1684855800-1684859400@motherlodechristian.com
SUMMARY:Parent Teacher Fellowship Meeting
DESCRIPTION:
URL:https://motherlodechristian.com/event/parent-teacher-fellowship-meeting-10/
END:VEVENT
BEGIN:VEVENT
DTSTART;VALUE=DATE:20230513
DTEND;VALUE=DATE:20230514
DTSTAMP:20260425T095608
CREATED:20220806T051051Z
LAST-MODIFIED:20220806T051051Z
UID:2846-1683936000-1684022399@motherlodechristian.com
SUMMARY:Mother's Day Parade - Band
DESCRIPTION:MLCS Band will be performing in the Mother’s Day Parade in Sonora .
URL:https://motherlodechristian.com/event/mothers-day-parade-band/
END:VEVENT
BEGIN:VEVENT
DTSTART;TZID=UTC:20230510T163000
DTEND;TZID=UTC:20230510T173000
DTSTAMP:20260425T095608
CREATED:20220806T041009Z
LAST-MODIFIED:20230204T054015Z
UID:2781-1683736200-1683739800@motherlodechristian.com
SUMMARY:MLCS Board Meeting
DESCRIPTION:MLCS Board Meeting @4:30pm. \nOpen Session 4:30pm-5:30pm. Followed by closed session meeting.  Agendas are emailed before each meeting\, and we welcome all visitors.
URL:https://motherlodechristian.com/event/mlcs-board-meeting-9/
END:VEVENT
BEGIN:VEVENT
DTSTART;TZID=UTC:20230504T180000
DTEND;TZID=UTC:20230504T193000
DTSTAMP:20260425T095608
CREATED:20220806T050949Z
LAST-MODIFIED:20220806T050949Z
UID:2844-1683223200-1683228600@motherlodechristian.com
SUMMARY:Open House
DESCRIPTION:Open House at 6pm
URL:https://motherlodechristian.com/event/open-house/
END:VEVENT
BEGIN:VEVENT
DTSTART;TZID=UTC:20230429T080000
DTEND;TZID=UTC:20230429T120000
DTSTAMP:20260425T095608
CREATED:20220806T050846Z
LAST-MODIFIED:20220806T050846Z
UID:2842-1682755200-1682769600@motherlodechristian.com
SUMMARY:PTF Spring Campus Cleanup
DESCRIPTION:
URL:https://motherlodechristian.com/event/ptf-spring-campus-cleanup/
END:VEVENT
BEGIN:VEVENT
DTSTART;TZID=UTC:20230427T073000
DTEND;TZID=UTC:20230427T160000
DTSTAMP:20260425T095608
CREATED:20221109T031238Z
LAST-MODIFIED:20221109T031238Z
UID:3269-1682580600-1682611200@motherlodechristian.com
SUMMARY:All School Field Trip - Fresno Zoo
DESCRIPTION:All school Fresno Zoo Field Trip for K-8th grades. \nWe will depart at 7:30am and return at approximately 4pm. \nWe are so excited for this  fun and educational trip. \n 
URL:https://motherlodechristian.com/event/all-school-field-trip-fresno-zoo/
END:VEVENT
BEGIN:VEVENT
DTSTART;VALUE=DATE:20230427
DTEND;VALUE=DATE:20230428
DTSTAMP:20260425T095608
CREATED:20230204T054830Z
LAST-MODIFIED:20230204T054830Z
UID:3514-1682553600-1682639999@motherlodechristian.com
SUMMARY:All School Field Trip K-8th
DESCRIPTION:Fresno Zoo – info will go home with students.
URL:https://motherlodechristian.com/event/all-school-field-trip-k-8th/
END:VEVENT
BEGIN:VEVENT
DTSTART;TZID=UTC:20230426T154500
DTEND;TZID=UTC:20230426T184500
DTSTAMP:20260425T095608
CREATED:20230309T011057Z
LAST-MODIFIED:20230309T011057Z
UID:3570-1682523900-1682534700@motherlodechristian.com
SUMMARY:Girls Volleyball 6th\, 7th & 8th
DESCRIPTION:Girls VB 6th 3:34pm\, 7th 4:45pm  & 8th 5:45pm   Curtis Creek @ MLCS
URL:https://motherlodechristian.com/event/girls-volleyball-6th-7th-8th-6/
END:VEVENT
BEGIN:VEVENT
DTSTART;TZID=UTC:20230425T153000
DTEND;TZID=UTC:20230425T163000
DTSTAMP:20260425T095608
CREATED:20220810T032949Z
LAST-MODIFIED:20220810T032949Z
UID:2942-1682436600-1682440200@motherlodechristian.com
SUMMARY:Parent Teacher Fellowship Meeting
DESCRIPTION:
URL:https://motherlodechristian.com/event/parent-teacher-fellowship-meeting-9/
END:VEVENT
BEGIN:VEVENT
DTSTART;TZID=UTC:20230424T154500
DTEND;TZID=UTC:20230424T184500
DTSTAMP:20260425T095608
CREATED:20230309T010914Z
LAST-MODIFIED:20230309T010914Z
UID:3568-1682351100-1682361900@motherlodechristian.com
SUMMARY:Girls Volleyball 6th\, 7th & 8th
DESCRIPTION:Girls VB –  6th 3:45pm\, 7th 4:45pm  & 8th 5:45pm      MLCS  @ Columbia Ele.
URL:https://motherlodechristian.com/event/girls-volleyball-6th-7th-8th-5/
END:VEVENT
BEGIN:VEVENT
DTSTART;VALUE=DATE:20230424
DTEND;VALUE=DATE:20230429
DTSTAMP:20260425T095608
CREATED:20220810T001902Z
LAST-MODIFIED:20220810T001902Z
UID:2911-1682294400-1682726399@motherlodechristian.com
SUMMARY:Girl's Volleyball Postseason Tournament
DESCRIPTION:Girl’s Volleyball Postseason Tournament 4/24-4/28. Game schedule and place TBA
URL:https://motherlodechristian.com/event/girls-volleyball-postseason-tournament/
END:VEVENT
BEGIN:VEVENT
DTSTART;VALUE=DATE:20230419
DTEND;VALUE=DATE:20230420
DTSTAMP:20260425T095608
CREATED:20220806T050718Z
LAST-MODIFIED:20220929T224921Z
UID:2839-1681862400-1681948799@motherlodechristian.com
SUMMARY:No School - Parent Teacher Conferences K-8th
DESCRIPTION:Parent Teacher Conferences – No School K-8th grade \nPreschool regular day.
URL:https://motherlodechristian.com/event/parent-teacher-conferences-no-school/
END:VEVENT
BEGIN:VEVENT
DTSTART;TZID=UTC:20230418T154500
DTEND;TZID=UTC:20230418T184500
DTSTAMP:20260425T095608
CREATED:20230309T010732Z
LAST-MODIFIED:20230321T230020Z
UID:3566-1681832700-1681843500@motherlodechristian.com
SUMMARY:Girls Volleyball 6th\, 7th & 8th
DESCRIPTION:Girls VB –  6th 3:45pm \, 7th 4:45pm  & 8th 5:45pm   Soulsbyville @MLCS
URL:https://motherlodechristian.com/event/girls-volleyball-6th-7th-8th-4/
END:VEVENT
BEGIN:VEVENT
DTSTART;TZID=UTC:20230417T154500
DTEND;TZID=UTC:20230417T184500
DTSTAMP:20260425T095608
CREATED:20230309T010545Z
LAST-MODIFIED:20230309T010545Z
UID:3564-1681746300-1681757100@motherlodechristian.com
SUMMARY:Girls Volleyball 6th\, 7th & 8th
DESCRIPTION:Girls VB-  6th at 3:45pm  \, 7th at 4:45pm  & 8th at 5:45pm     MLCS @ Sonora Ele. vs Sonora A
URL:https://motherlodechristian.com/event/girls-volleyball-6th-7th-8th-3/
END:VEVENT
BEGIN:VEVENT
DTSTART;VALUE=DATE:20230414
DTEND;VALUE=DATE:20230415
DTSTAMP:20260425T095608
CREATED:20220806T050558Z
LAST-MODIFIED:20220806T050558Z
UID:2837-1681430400-1681516799@motherlodechristian.com
SUMMARY:3rd Trimester Progress Report Grading Ends
DESCRIPTION:
URL:https://motherlodechristian.com/event/3rd-trimester-progress-report-grading-ends/
END:VEVENT
BEGIN:VEVENT
DTSTART;TZID=UTC:20230412T163000
DTEND;TZID=UTC:20230412T173000
DTSTAMP:20260425T095608
CREATED:20220806T040923Z
LAST-MODIFIED:20230204T054118Z
UID:2779-1681317000-1681320600@motherlodechristian.com
SUMMARY:MLCS Board Meeting
DESCRIPTION:MLCS Board Meeting @4:30pm. \nOpen Session 4:30pm-5:30pm. Followed by closed session meeting.  Agendas are emailed before each meeting\, and we welcome all visitors.
URL:https://motherlodechristian.com/event/mlcs-board-meeting-8/
END:VEVENT
BEGIN:VEVENT
DTSTART;TZID=UTC:20230412T154500
DTEND;TZID=UTC:20230412T184500
DTSTAMP:20260425T095608
CREATED:20230309T010249Z
LAST-MODIFIED:20230309T010249Z
UID:3562-1681314300-1681325100@motherlodechristian.com
SUMMARY:Girls Volleyball 6th\, 7th & 8th
DESCRIPTION:Girls VB 6th at 3:45pm\,  7th at 4:45pm  & 8th at 5:45pm MLCS @ Summerville Ele.
URL:https://motherlodechristian.com/event/girls-volleyball-6th-7th-8th-2/
END:VEVENT
BEGIN:VEVENT
DTSTART;TZID=UTC:20230411T154500
DTEND;TZID=UTC:20230411T184500
DTSTAMP:20260425T095608
CREATED:20230309T010011Z
LAST-MODIFIED:20230309T010011Z
UID:3560-1681227900-1681238700@motherlodechristian.com
SUMMARY:Girls Volleyball 6th\, 7th & 8th
DESCRIPTION:Girls VB  6th at 3:45pm \, 7th at 4:45pm  & 8th at 5:45pm   Sonora B @ MLCS
URL:https://motherlodechristian.com/event/girls-volleyball-6th-7th-8th/
END:VEVENT
BEGIN:VEVENT
DTSTART;TZID=UTC:20230407T080000
DTEND;TZID=UTC:20230410T170000
DTSTAMP:20260425T095608
CREATED:20220806T050500Z
LAST-MODIFIED:20220806T050500Z
UID:2835-1680854400-1681146000@motherlodechristian.com
SUMMARY:Easter Weekend - No School
DESCRIPTION:No school for Good Friday and Monday after Easter – K-8th grade
URL:https://motherlodechristian.com/event/easter-weekend-no-school/
END:VEVENT
BEGIN:VEVENT
DTSTART;TZID=UTC:20230405T154500
DTEND;TZID=UTC:20230405T174500
DTSTAMP:20260425T095608
CREATED:20230309T005720Z
LAST-MODIFIED:20230316T234314Z
UID:3558-1680709500-1680716700@motherlodechristian.com
SUMMARY:Girls Volleyball 8th & 7th
DESCRIPTION:Girls VB – 8th grade at 3:45pm   Gold Rush @ MLCS \n7th grade at 4:45pm  Waldorf @ MLCS
URL:https://motherlodechristian.com/event/girls-volleyball-8th-only/
END:VEVENT
BEGIN:VEVENT
DTSTART;TZID=UTC:20230403T154500
DTEND;TZID=UTC:20230403T184500
DTSTAMP:20260425T095608
CREATED:20230309T005519Z
LAST-MODIFIED:20230316T234142Z
UID:3556-1680536700-1680547500@motherlodechristian.com
SUMMARY:Girls Volleyball
DESCRIPTION:Girls VB Game-  7th 3:45pm & 8th 4:45pm  Tenya @ MLCS \n6th grade game at 5:45pm  Waldorf @ MLCS
URL:https://motherlodechristian.com/event/girls-volleyball-7th-8th/
END:VEVENT
BEGIN:VEVENT
DTSTART;VALUE=DATE:20230327
DTEND;VALUE=DATE:20230401
DTSTAMP:20260425T095608
CREATED:20220806T050345Z
LAST-MODIFIED:20220806T050345Z
UID:2833-1679875200-1680307199@motherlodechristian.com
SUMMARY:Spring Break - No School
DESCRIPTION:Spring Break – No School K-8th grade
URL:https://motherlodechristian.com/event/spring-break-no-school/
END:VEVENT
BEGIN:VEVENT
DTSTART;VALUE=DATE:20230321
DTEND;VALUE=DATE:20230322
DTSTAMP:20260425T095608
CREATED:20230309T012531Z
LAST-MODIFIED:20230309T012531Z
UID:3574-1679356800-1679443199@motherlodechristian.com
SUMMARY:K-8th Ski Day & Regular School day for non-skiers
DESCRIPTION:K-8th grade Ski Day at Dodge Ridge and it will also be a regular School day for students not skiing.
URL:https://motherlodechristian.com/event/k-8th-ski-day-regular-school-day-for-non-skiers/
END:VEVENT
BEGIN:VEVENT
DTSTART;VALUE=DATE:20230320
DTEND;VALUE=DATE:20230325
DTSTAMP:20260425T095608
CREATED:20220810T032101Z
LAST-MODIFIED:20220810T032101Z
UID:2921-1679270400-1679702399@motherlodechristian.com
SUMMARY:Teacher Appreciation Week
DESCRIPTION:
URL:https://motherlodechristian.com/event/teacher-appreciation-week/
END:VEVENT
BEGIN:VEVENT
DTSTART;VALUE=DATE:20230320
DTEND;VALUE=DATE:20230325
DTSTAMP:20260425T095608
CREATED:20220810T001728Z
LAST-MODIFIED:20230309T012100Z
UID:2909-1679270400-1679702399@motherlodechristian.com
SUMMARY:Girl's Volleyball Preseason Tournament 6th Grade @ MLCS / 7th & 8th @ Sonora Ele
DESCRIPTION:Girl’s Volleyball Preseason Tournament  6th grade only 3/20-3/24  @ MLCS \n7th & 8th Grade Tournament will be at Sonora Ele. – more information will go home once received with players.
URL:https://motherlodechristian.com/event/girls-volleyball-preseason-tournament/
END:VEVENT
END:VCALENDAR