BEGIN:VCALENDAR
VERSION:2.0
PRODID:-//Motherlode Christian School - ECPv6.15.20//NONSGML v1.0//EN
CALSCALE:GREGORIAN
METHOD:PUBLISH
X-WR-CALNAME:Motherlode Christian School
X-ORIGINAL-URL:https://motherlodechristian.com
X-WR-CALDESC:Events for Motherlode Christian School
REFRESH-INTERVAL;VALUE=DURATION:PT1H
X-Robots-Tag:noindex
X-PUBLISHED-TTL:PT1H
BEGIN:VTIMEZONE
TZID:UTC
BEGIN:STANDARD
TZOFFSETFROM:+0000
TZOFFSETTO:+0000
TZNAME:UTC
DTSTART:20230101T000000
END:STANDARD
END:VTIMEZONE
BEGIN:VTIMEZONE
TZID:America/Los_Angeles
BEGIN:DAYLIGHT
TZOFFSETFROM:-0800
TZOFFSETTO:-0700
TZNAME:PDT
DTSTART:20230312T100000
END:DAYLIGHT
BEGIN:STANDARD
TZOFFSETFROM:-0700
TZOFFSETTO:-0800
TZNAME:PST
DTSTART:20231105T090000
END:STANDARD
BEGIN:DAYLIGHT
TZOFFSETFROM:-0800
TZOFFSETTO:-0700
TZNAME:PDT
DTSTART:20240310T100000
END:DAYLIGHT
BEGIN:STANDARD
TZOFFSETFROM:-0700
TZOFFSETTO:-0800
TZNAME:PST
DTSTART:20241103T090000
END:STANDARD
BEGIN:DAYLIGHT
TZOFFSETFROM:-0800
TZOFFSETTO:-0700
TZNAME:PDT
DTSTART:20250309T100000
END:DAYLIGHT
BEGIN:STANDARD
TZOFFSETFROM:-0700
TZOFFSETTO:-0800
TZNAME:PST
DTSTART:20251102T090000
END:STANDARD
BEGIN:DAYLIGHT
TZOFFSETFROM:-0800
TZOFFSETTO:-0700
TZNAME:PDT
DTSTART:20260308T100000
END:DAYLIGHT
BEGIN:STANDARD
TZOFFSETFROM:-0700
TZOFFSETTO:-0800
TZNAME:PST
DTSTART:20261101T090000
END:STANDARD
END:VTIMEZONE
BEGIN:VEVENT
DTSTART;TZID=UTC:20241010T103000
DTEND;TZID=UTC:20241010T121500
DTSTAMP:20260425T044952
CREATED:20240928T034511Z
LAST-MODIFIED:20240928T034511Z
UID:4754-1728556200-1728562500@motherlodechristian.com
SUMMARY:1st Grade Field Trip
DESCRIPTION:1st Grade Field Trip to Covers – Learning about Apples\, Animals and a Train Ride.
URL:https://motherlodechristian.com/event/1st-grade-field-trip-5/
END:VEVENT
BEGIN:VEVENT
DTSTART;TZID=UTC:20241011T083000
DTEND;TZID=UTC:20241011T150000
DTSTAMP:20260425T044952
CREATED:20240926T043448Z
LAST-MODIFIED:20240926T043448Z
UID:4748-1728635400-1728658800@motherlodechristian.com
SUMMARY:6th Grade Field Trip
DESCRIPTION:6th Grade Field Trip to Pinecrest for a Hike and team building fun!
URL:https://motherlodechristian.com/event/6th-grade-field-trip/
END:VEVENT
BEGIN:VEVENT
DTSTART;TZID=UTC:20241015T163000
DTEND;TZID=UTC:20241015T173000
DTSTAMP:20260425T044952
CREATED:20240905T041458Z
LAST-MODIFIED:20241003T234045Z
UID:4663-1729009800-1729013400@motherlodechristian.com
SUMMARY:MLCS Board Meeting 4:30p.m.
DESCRIPTION:The MLCS Board meets the 2nd Tuesday of every month in the Chapel.  Open Session starts at 4:30p.m. \nClosed Session will start at approximately 5:30p.m. \nEveryone is encouraged to come\, and agendas are emailed out to families before the scheduled meeting. \nPrevious Minutes can also be found on the website under “About”\, then click on “Board”.
URL:https://motherlodechristian.com/event/mlcs-board-meeting-430p-m-2/
END:VEVENT
BEGIN:VEVENT
DTSTART;TZID=UTC:20241016T153000
DTEND;TZID=UTC:20241016T173000
DTSTAMP:20260425T044952
CREATED:20240830T013909Z
LAST-MODIFIED:20240830T013909Z
UID:4526-1729092600-1729099800@motherlodechristian.com
SUMMARY:Cross Country - Avery Middle School Run @ Avery
DESCRIPTION:Cross Country – Avery Middle School Run @ Avery\,  start time is 3:30p.m.
URL:https://motherlodechristian.com/event/cross-country-avery-middle-school-run-avery/
END:VEVENT
BEGIN:VEVENT
DTSTART;VALUE=DATE:20241018
DTEND;VALUE=DATE:20241019
DTSTAMP:20260425T044952
CREATED:20240828T055010Z
LAST-MODIFIED:20240828T055010Z
UID:4471-1729209600-1729295999@motherlodechristian.com
SUMMARY:Picture Retakes - Preschool and K - 8th Grade
DESCRIPTION:Picture retakes will begin at 8a.m.
URL:https://motherlodechristian.com/event/picture-retakes-preschool-and-k-8th-grade/
END:VEVENT
BEGIN:VEVENT
DTSTART;TZID=UTC:20241021T083000
DTEND;TZID=UTC:20241021T140000
DTSTAMP:20260425T044952
CREATED:20240926T043806Z
LAST-MODIFIED:20240926T043806Z
UID:4750-1729499400-1729519200@motherlodechristian.com
SUMMARY:4th Grade Field Trip
DESCRIPTION:4th Grade Field Trip to Calaveras Big Trees! A fun day of Earth Science learning.
URL:https://motherlodechristian.com/event/4th-grade-field-trip-2/
END:VEVENT
BEGIN:VEVENT
DTSTART;TZID=UTC:20241023T153000
DTEND;TZID=UTC:20241023T173000
DTSTAMP:20260425T044952
CREATED:20240830T014101Z
LAST-MODIFIED:20240830T014101Z
UID:4528-1729697400-1729704600@motherlodechristian.com
SUMMARY:Cross Country - Tuolumne County Meet @ Wildcat Ranch
DESCRIPTION:Cross Country – Tuolumne County Meet @ Wildcat Ranch \, start time 3:30p.m.
URL:https://motherlodechristian.com/event/cross-country-tuolumne-county-meet-wildcat-ranch/
END:VEVENT
BEGIN:VEVENT
DTSTART;VALUE=DATE:20241025
DTEND;VALUE=DATE:20241026
DTSTAMP:20260425T044952
CREATED:20240828T055229Z
LAST-MODIFIED:20240924T005418Z
UID:4473-1729814400-1729900799@motherlodechristian.com
SUMMARY:Early Release K-8th grade Jog - A- Thon
DESCRIPTION:PTF  Jog- A – Thon for Preschool  and K – 8th grade.     It is also an Early Release for K-8th grade at 11:30a.m  More information to come!
URL:https://motherlodechristian.com/event/ptf-jog-a-thon-early-release-k-8th-grade/
END:VEVENT
BEGIN:VEVENT
DTSTART;TZID=America/Los_Angeles:20241029T073000
DTEND;TZID=America/Los_Angeles:20241029T213000
DTSTAMP:20260425T044952
CREATED:20241017T214049Z
LAST-MODIFIED:20241017T214049Z
UID:4775-1730187000-1730237400@motherlodechristian.com
SUMMARY:5th Grade Ships Trip
DESCRIPTION:5th Grade Ships Trip – Information on exact times to meet will be sent home. Please contact Mrs. McDaniel with any questions.  This is a wonderful learning adventure.
URL:https://motherlodechristian.com/event/5th-grade-ships-trip-2/
END:VEVENT
BEGIN:VEVENT
DTSTART;TZID=UTC:20241030T100000
DTEND;TZID=UTC:20241030T130000
DTSTAMP:20260425T044952
CREATED:20240926T044015Z
LAST-MODIFIED:20240926T044015Z
UID:4752-1730282400-1730293200@motherlodechristian.com
SUMMARY:Kindergarten Field Trip
DESCRIPTION:Kindergarten Field Trip to Indigeny  – pumpkins and apple fun!
URL:https://motherlodechristian.com/event/kindergarten-field-trip-2/
END:VEVENT
BEGIN:VEVENT
DTSTART;TZID=UTC:20241030T153000
DTEND;TZID=UTC:20241030T173000
DTSTAMP:20260425T044952
CREATED:20240830T014220Z
LAST-MODIFIED:20240830T014220Z
UID:4530-1730302200-1730309400@motherlodechristian.com
SUMMARY:Cross Country - Black Creek Run @ Copperopolis
DESCRIPTION:Cross Country – Black Creek Run @ Copperopolis \, start time 3:30p.m.
URL:https://motherlodechristian.com/event/cross-country-black-creek-run-copperopolis/
END:VEVENT
BEGIN:VEVENT
DTSTART;VALUE=DATE:20241101
DTEND;VALUE=DATE:20241102
DTSTAMP:20260425T044952
CREATED:20240830T014639Z
LAST-MODIFIED:20240924T005503Z
UID:4538-1730419200-1730505599@motherlodechristian.com
SUMMARY:No School K-8th -Teacher / Staff In-Service Day
DESCRIPTION:
URL:https://motherlodechristian.com/event/teacher-staff-in-service-day-no-school-k-8th/
END:VEVENT
BEGIN:VEVENT
DTSTART;VALUE=DATE:20241108
DTEND;VALUE=DATE:20241109
DTSTAMP:20260425T044952
CREATED:20240830T014827Z
LAST-MODIFIED:20240830T014827Z
UID:4541-1731024000-1731110399@motherlodechristian.com
SUMMARY:End of 1st Trimester
DESCRIPTION:
URL:https://motherlodechristian.com/event/end-of-1st-trimester-2/
END:VEVENT
BEGIN:VEVENT
DTSTART;TZID=UTC:20241108T143000
DTEND;TZID=UTC:20241108T180000
DTSTAMP:20260425T044952
CREATED:20240830T014403Z
LAST-MODIFIED:20240830T014403Z
UID:4533-1731076200-1731088800@motherlodechristian.com
SUMMARY:Cross Country Tri-County Finals Meet @ Frogtown
DESCRIPTION:Cross Country Tri-County Finals Meet @ Frogtown\, start time at 2:30p.m.
URL:https://motherlodechristian.com/event/cross-country-tri-county-finals-meet-frogtown/
END:VEVENT
BEGIN:VEVENT
DTSTART;VALUE=DATE:20241111
DTEND;VALUE=DATE:20241112
DTSTAMP:20260425T044952
CREATED:20240903T224536Z
LAST-MODIFIED:20240924T005920Z
UID:4571-1731283200-1731369599@motherlodechristian.com
SUMMARY:NO School K-8th Veteran's Day
DESCRIPTION:
URL:https://motherlodechristian.com/event/veterans-day-no-school-k-8th/
END:VEVENT
BEGIN:VEVENT
DTSTART;TZID=UTC:20241112T140000
DTEND;TZID=UTC:20241112T150000
DTSTAMP:20260425T044952
CREATED:20240905T044127Z
LAST-MODIFIED:20240905T044127Z
UID:4688-1731420000-1731423600@motherlodechristian.com
SUMMARY:PTF Meeting 2p.m.
DESCRIPTION:PTF meets every 2nd Tuesday of the month at 2p.m. \nGet to know the school\, other families and be a part of making a difference here at MLCS.
URL:https://motherlodechristian.com/event/ptf-meeting-2p-m-3/
END:VEVENT
BEGIN:VEVENT
DTSTART;TZID=UTC:20241112T163000
DTEND;TZID=UTC:20241112T173000
DTSTAMP:20260425T044952
CREATED:20240905T041551Z
LAST-MODIFIED:20240905T041551Z
UID:4665-1731429000-1731432600@motherlodechristian.com
SUMMARY:MLCS Board Meeting @ 4:30p.m.
DESCRIPTION:The MLCS Board meets the 2nd Tuesday of every month in the Chapel.  Open Session starts at 4:30p.m. \nClosed Session will start at approximately 5:30p.m. \nEveryone is encouraged to come\, and agendas are emailed out to families before the scheduled meeting. \nPrevious Minutes can also be found on the website under “About”\, then click on “Board”.
URL:https://motherlodechristian.com/event/mlcs-board-meeting-430p-m-3/
END:VEVENT
BEGIN:VEVENT
DTSTART;VALUE=DATE:20241122
DTEND;VALUE=DATE:20241123
DTSTAMP:20260425T044952
CREATED:20240903T224900Z
LAST-MODIFIED:20240903T224900Z
UID:4573-1732233600-1732319999@motherlodechristian.com
SUMMARY:K-8th grades All Thanksgiving Meal - Early Release 1:30pm
DESCRIPTION:K-8th grades All Thanksgiving Meal – Early Release at 1:30pm. \nThis is a wonderful time of fellowship with students and staff.
URL:https://motherlodechristian.com/event/k-8th-grades-all-thanksgiving-meal-early-release-130pm/
END:VEVENT
BEGIN:VEVENT
DTSTART;VALUE=DATE:20241125
DTEND;VALUE=DATE:20241130
DTSTAMP:20260425T044952
CREATED:20240903T225019Z
LAST-MODIFIED:20240903T225019Z
UID:4575-1732492800-1732924799@motherlodechristian.com
SUMMARY:No School- K-8th Thanksgiving Break
DESCRIPTION:
URL:https://motherlodechristian.com/event/no-school-k-8th-thanksgiving-break/
END:VEVENT
BEGIN:VEVENT
DTSTART;TZID=UTC:20241210T140000
DTEND;TZID=UTC:20241210T150000
DTSTAMP:20260425T044952
CREATED:20240905T044209Z
LAST-MODIFIED:20240905T044209Z
UID:4690-1733839200-1733842800@motherlodechristian.com
SUMMARY:PTF Meeting 2p.m.
DESCRIPTION:PTF meets every 2nd Tuesday of the month at 2p.m. \nGet to know the school\, other families and be a part of making a difference here at MLCS.
URL:https://motherlodechristian.com/event/ptf-meeting-2p-m-4/
END:VEVENT
BEGIN:VEVENT
DTSTART;TZID=UTC:20241210T163000
DTEND;TZID=UTC:20241210T173000
DTSTAMP:20260425T044952
CREATED:20240905T041803Z
LAST-MODIFIED:20240905T041803Z
UID:4667-1733848200-1733851800@motherlodechristian.com
SUMMARY:MLCS Board Meeting 4:30p.m.
DESCRIPTION:The MLCS Board meets the 2nd Tuesday of every month in the Chapel.  Open Session starts at 4:30p.m. \nClosed Session will start at approximately 5:30p.m. \nEveryone is encouraged to come\, and agendas are emailed out to families before the scheduled meeting. \nPrevious Minutes can also be found on the website under “About”\, then click on “Board”.
URL:https://motherlodechristian.com/event/mlcs-board-meeting-430p-m-4/
END:VEVENT
BEGIN:VEVENT
DTSTART;TZID=UTC:20241219T180000
DTEND;TZID=UTC:20241219T200000
DTSTAMP:20260425T044952
CREATED:20240903T225137Z
LAST-MODIFIED:20240903T225250Z
UID:4577-1734631200-1734638400@motherlodechristian.com
SUMMARY:Christmas Program K-8th @ 6pm
DESCRIPTION:Watch for more information to go home!
URL:https://motherlodechristian.com/event/christmas-program-k-8th/
END:VEVENT
BEGIN:VEVENT
DTSTART;VALUE=DATE:20241220
DTEND;VALUE=DATE:20241221
DTSTAMP:20260425T044952
CREATED:20240903T225435Z
LAST-MODIFIED:20240903T225435Z
UID:4581-1734652800-1734739199@motherlodechristian.com
SUMMARY:K- 8th Early Release @ 11:30a.m.
DESCRIPTION:Early Release for K- 8th grades at 11:30a.m. and the start of Christmas vacation begins.
URL:https://motherlodechristian.com/event/k-8th-early-release-1130a-m/
END:VEVENT
BEGIN:VEVENT
DTSTART;VALUE=DATE:20241223
DTEND;VALUE=DATE:20250107
DTSTAMP:20260425T044952
CREATED:20240903T225756Z
LAST-MODIFIED:20240903T225756Z
UID:4583-1734912000-1736207999@motherlodechristian.com
SUMMARY:Christmas Vacation K-8th
DESCRIPTION:Enjoy the Christmas break and have a Happy New Year! See you back on Tuesday\, January 7th.  \nJanuary 6th is a Teacher /Staff  In-Service Day – No School  
URL:https://motherlodechristian.com/event/christmas-vacation-k-8th/
END:VEVENT
BEGIN:VEVENT
DTSTART;VALUE=DATE:20250110
DTEND;VALUE=DATE:20250111
DTSTAMP:20260425T044952
CREATED:20240903T230208Z
LAST-MODIFIED:20240903T230308Z
UID:4585-1736467200-1736553599@motherlodechristian.com
SUMMARY:2nd Trimester Progress Report Period  Ends.
DESCRIPTION:2nd Trimester Progress Report Period  Ends.
URL:https://motherlodechristian.com/event/2nd-trimester-progress-report-period-ends/
END:VEVENT
BEGIN:VEVENT
DTSTART;TZID=UTC:20250114T140000
DTEND;TZID=UTC:20250114T150000
DTSTAMP:20260425T044952
CREATED:20240905T044250Z
LAST-MODIFIED:20240905T044250Z
UID:4692-1736863200-1736866800@motherlodechristian.com
SUMMARY:PTF Meeting 2p.m.
DESCRIPTION:PTF meets every 2nd Tuesday of the month at 2p.m. \nGet to know the school\, other families and be a part of making a difference here at MLCS.
URL:https://motherlodechristian.com/event/ptf-meeting-2p-m-5/
END:VEVENT
BEGIN:VEVENT
DTSTART;TZID=UTC:20250114T163000
DTEND;TZID=UTC:20250114T173000
DTSTAMP:20260425T044952
CREATED:20240905T041902Z
LAST-MODIFIED:20240905T041902Z
UID:4669-1736872200-1736875800@motherlodechristian.com
SUMMARY:MLCS Board Meeting 4:30p.m.
DESCRIPTION:The MLCS Board meets the 2nd Tuesday of every month in the Chapel.  Open Session starts at 4:30p.m. \nClosed Session will start at approximately 5:30p.m. \nEveryone is encouraged to come\, and agendas are emailed out to families before the scheduled meeting. \nPrevious Minutes can also be found on the website under “About”\, then click on “Board”.
URL:https://motherlodechristian.com/event/mlcs-board-meeting-430p-m-5/
END:VEVENT
BEGIN:VEVENT
DTSTART;VALUE=DATE:20250117
DTEND;VALUE=DATE:20250125
DTSTAMP:20260425T044952
CREATED:20250113T192658Z
LAST-MODIFIED:20250113T192946Z
UID:4850-1737072000-1737763199@motherlodechristian.com
SUMMARY:6th Grade Boys Preseason BB Tournament
DESCRIPTION:6th Grade Boys Preseason BB Tournament will be held at Columbia Elementary. Coach Wright and the team coaches will keep you informed of the Tournament schedule and game times. \nThere will be fees for entry to the games.
URL:https://motherlodechristian.com/event/6th-grade-boys-preseason-bb-tournament/
END:VEVENT
BEGIN:VEVENT
DTSTART;VALUE=DATE:20250117
DTEND;VALUE=DATE:20250125
DTSTAMP:20260425T044952
CREATED:20250113T192843Z
LAST-MODIFIED:20250113T192843Z
UID:4852-1737072000-1737763199@motherlodechristian.com
SUMMARY:8th Grade Boys Preseason BB Tournament
DESCRIPTION:8th Grade Boys Preseason BB Tournament will be held at Sonora Elementary. Coach Wright and the team coaches will keep you informed of game times and the schedule. \nThere will be game entry fees.
URL:https://motherlodechristian.com/event/8th-grade-boys-preseason-bb-tournament/
END:VEVENT
BEGIN:VEVENT
DTSTART;VALUE=DATE:20250120
DTEND;VALUE=DATE:20250121
DTSTAMP:20260425T044952
CREATED:20240903T230350Z
LAST-MODIFIED:20240924T010042Z
UID:4588-1737331200-1737417599@motherlodechristian.com
SUMMARY:NO School K-8th Martin Luther King Day
DESCRIPTION:
URL:https://motherlodechristian.com/event/martin-luther-king-day-no-school-k-8th/
END:VEVENT
END:VCALENDAR