BEGIN:VCALENDAR
VERSION:2.0
PRODID:-//Motherlode Christian School - ECPv6.15.20//NONSGML v1.0//EN
CALSCALE:GREGORIAN
METHOD:PUBLISH
X-WR-CALNAME:Motherlode Christian School
X-ORIGINAL-URL:https://motherlodechristian.com
X-WR-CALDESC:Events for Motherlode Christian School
REFRESH-INTERVAL;VALUE=DURATION:PT1H
X-Robots-Tag:noindex
X-PUBLISHED-TTL:PT1H
BEGIN:VTIMEZONE
TZID:America/Los_Angeles
BEGIN:DAYLIGHT
TZOFFSETFROM:-0800
TZOFFSETTO:-0700
TZNAME:PDT
DTSTART:20240310T100000
END:DAYLIGHT
BEGIN:STANDARD
TZOFFSETFROM:-0700
TZOFFSETTO:-0800
TZNAME:PST
DTSTART:20241103T090000
END:STANDARD
BEGIN:DAYLIGHT
TZOFFSETFROM:-0800
TZOFFSETTO:-0700
TZNAME:PDT
DTSTART:20250309T100000
END:DAYLIGHT
BEGIN:STANDARD
TZOFFSETFROM:-0700
TZOFFSETTO:-0800
TZNAME:PST
DTSTART:20251102T090000
END:STANDARD
BEGIN:DAYLIGHT
TZOFFSETFROM:-0800
TZOFFSETTO:-0700
TZNAME:PDT
DTSTART:20260308T100000
END:DAYLIGHT
BEGIN:STANDARD
TZOFFSETFROM:-0700
TZOFFSETTO:-0800
TZNAME:PST
DTSTART:20261101T090000
END:STANDARD
END:VTIMEZONE
BEGIN:VTIMEZONE
TZID:UTC
BEGIN:STANDARD
TZOFFSETFROM:+0000
TZOFFSETTO:+0000
TZNAME:UTC
DTSTART:20240101T000000
END:STANDARD
END:VTIMEZONE
BEGIN:VEVENT
DTSTART;TZID=America/Los_Angeles:20251014T163000
DTEND;TZID=America/Los_Angeles:20251014T173000
DTSTAMP:20260423T234523
CREATED:20250804T220248Z
LAST-MODIFIED:20250804T220248Z
UID:5317-1760459400-1760463000@motherlodechristian.com
SUMMARY:MLCS Board Meeting @ 4:30pm
DESCRIPTION:The MLCS Board Meets the second Tuesday of the month. Open Session starts at 4:30pm in the MLCS Chapel and is followed by closed session after a brief break. \nAll are invited to join us.
URL:https://motherlodechristian.com/event/mlcs-board-meeting-430pm-2/
END:VEVENT
BEGIN:VEVENT
DTSTART;VALUE=DATE:20251013
DTEND;VALUE=DATE:20251018
DTSTAMP:20260423T234523
CREATED:20251007T161828Z
LAST-MODIFIED:20251007T161844Z
UID:5425-1760313600-1760745599@motherlodechristian.com
SUMMARY:Hume Lake Science Camp 5th - 6th Grades
DESCRIPTION:
URL:https://motherlodechristian.com/event/hume-lake-science-camp-5th-6th-grades/
END:VEVENT
BEGIN:VEVENT
DTSTART;VALUE=DATE:20251013
DTEND;VALUE=DATE:20251018
DTSTAMP:20260423T234523
CREATED:20250915T154757Z
LAST-MODIFIED:20250915T154757Z
UID:5409-1760313600-1760745599@motherlodechristian.com
SUMMARY:Girls Basketball Postseason Tournament @ Curtis Creek
DESCRIPTION:Times and Schedule to be determined.  Information for the Tournament will go home to families.
URL:https://motherlodechristian.com/event/girls-basketball-postseason-tournament-curtis-creek/
END:VEVENT
BEGIN:VEVENT
DTSTART;TZID=America/Los_Angeles:20251010T153000
DTEND;TZID=America/Los_Angeles:20251010T170000
DTSTAMP:20260423T234523
CREATED:20250911T224853Z
LAST-MODIFIED:20250911T224853Z
UID:5401-1760110200-1760115600@motherlodechristian.com
SUMMARY:Girls Basketball @ MLCS 3:45pm
DESCRIPTION:MLCS vs Soulsbyville
URL:https://motherlodechristian.com/event/girls-basketball-mlcs-345pm/
END:VEVENT
BEGIN:VEVENT
DTSTART;VALUE=DATE:20251009
DTEND;VALUE=DATE:20251010
DTSTAMP:20260423T234523
CREATED:20250924T155105Z
LAST-MODIFIED:20250924T155105Z
UID:5418-1759968000-1760054399@motherlodechristian.com
SUMMARY:2nd Grade Field Trip
DESCRIPTION:The 2nd Grade will be going to Dutch Hollow Farms for their Fall and Plants section.  Will return to school before dismissal time. \n  \n 
URL:https://motherlodechristian.com/event/2nd-grade-field-trip-6/
END:VEVENT
BEGIN:VEVENT
DTSTART;TZID=America/Los_Angeles:20251008T153000
DTEND;TZID=America/Los_Angeles:20251008T170000
DTSTAMP:20260423T234523
CREATED:20250911T224803Z
LAST-MODIFIED:20250911T224803Z
UID:5399-1759937400-1759942800@motherlodechristian.com
SUMMARY:Girls Basketball @ MLCS
DESCRIPTION:MLCS vs Twain Harte
URL:https://motherlodechristian.com/event/girls-basketball-mlcs/
END:VEVENT
BEGIN:VEVENT
DTSTART;TZID=America/Los_Angeles:20251008T153000
DTEND;TZID=America/Los_Angeles:20251008T170000
DTSTAMP:20260423T234523
CREATED:20250910T145741Z
LAST-MODIFIED:20250910T145741Z
UID:5365-1759937400-1759942800@motherlodechristian.com
SUMMARY:Cross Country - Libertas Run
DESCRIPTION:Place to run is yet to be determined.  Coach will send information to families.
URL:https://motherlodechristian.com/event/cross-country-libertas-run/
END:VEVENT
BEGIN:VEVENT
DTSTART;TZID=America/Los_Angeles:20251007T100000
DTEND;TZID=America/Los_Angeles:20251007T140000
DTSTAMP:20260423T234523
CREATED:20250911T152234Z
LAST-MODIFIED:20250911T152514Z
UID:5377-1759831200-1759845600@motherlodechristian.com
SUMMARY:Kinder Field Trip
DESCRIPTION:Apple picking at Word of Life Orchard….. It’s All About Apples.
URL:https://motherlodechristian.com/event/kinder-field-trip-8/
END:VEVENT
BEGIN:VEVENT
DTSTART;TZID=America/Los_Angeles:20251006T153000
DTEND;TZID=America/Los_Angeles:20251006T170000
DTSTAMP:20260423T234523
CREATED:20250911T224607Z
LAST-MODIFIED:20250911T224607Z
UID:5396-1759764600-1759770000@motherlodechristian.com
SUMMARY:Girls Basketball MLCS @ Tenaya 3:45pm
DESCRIPTION:The girls will be dismissed early for this game. Please watch for updates.
URL:https://motherlodechristian.com/event/girls-basketball-mlcs-tenaya-345pm/
END:VEVENT
BEGIN:VEVENT
DTSTART;TZID=America/Los_Angeles:20251001T153000
DTEND;TZID=America/Los_Angeles:20251001T170000
DTSTAMP:20260423T234523
CREATED:20250911T224353Z
LAST-MODIFIED:20250911T224353Z
UID:5392-1759332600-1759338000@motherlodechristian.com
SUMMARY:Girls Basketball @ Jamestown 3:45
DESCRIPTION:
URL:https://motherlodechristian.com/event/girls-basketball-jamestown-345/
END:VEVENT
BEGIN:VEVENT
DTSTART;TZID=America/Los_Angeles:20251001T153000
DTEND;TZID=America/Los_Angeles:20251001T170000
DTSTAMP:20260423T234523
CREATED:20250910T145624Z
LAST-MODIFIED:20250910T150133Z
UID:5363-1759332600-1759338000@motherlodechristian.com
SUMMARY:Cross Country Avery Middle School Run  @ Avery  3:30pm
DESCRIPTION:Run starts at 3:30pm Coach will send information on dismissal time.
URL:https://motherlodechristian.com/event/cross-country-avery-330pm/
END:VEVENT
BEGIN:VEVENT
DTSTART;VALUE=DATE:20251001
DTEND;VALUE=DATE:20251004
DTSTAMP:20260423T234523
CREATED:20250730T165131Z
LAST-MODIFIED:20250730T165131Z
UID:5246-1759276800-1759535999@motherlodechristian.com
SUMMARY:Minimum Days - K-8th Parent-Teacher Conferences
DESCRIPTION:Parent-Teacher Conferences  – Early Release at 11:30a.m. for K- 8th Grades. \n  \n  \n 
URL:https://motherlodechristian.com/event/minimum-days-k-8th-parent-teacher-conferences/
END:VEVENT
BEGIN:VEVENT
DTSTART;TZID=America/Los_Angeles:20250930T153000
DTEND;TZID=America/Los_Angeles:20250930T170000
DTSTAMP:20260423T234523
CREATED:20250911T224314Z
LAST-MODIFIED:20250911T224314Z
UID:5390-1759246200-1759251600@motherlodechristian.com
SUMMARY:Girls Basketball @ Columbia 3:45pm
DESCRIPTION:
URL:https://motherlodechristian.com/event/girls-basketball-columbia-345pm/
END:VEVENT
BEGIN:VEVENT
DTSTART;VALUE=DATE:20250930
DTEND;VALUE=DATE:20251001
DTSTAMP:20260423T234523
CREATED:20250925T155909Z
LAST-MODIFIED:20250925T155909Z
UID:5422-1759190400-1759276799@motherlodechristian.com
SUMMARY:Picture Day 3rd - 8th Grade
DESCRIPTION:
URL:https://motherlodechristian.com/event/picture-day-3rd-8th-grade/
END:VEVENT
BEGIN:VEVENT
DTSTART;VALUE=DATE:20250926
DTEND;VALUE=DATE:20250927
DTSTAMP:20260423T234523
CREATED:20250730T164750Z
LAST-MODIFIED:20250730T164750Z
UID:5244-1758844800-1758931199@motherlodechristian.com
SUMMARY:1st Progress Report Ends
DESCRIPTION:
URL:https://motherlodechristian.com/event/1st-progress-report-ends/
END:VEVENT
BEGIN:VEVENT
DTSTART;TZID=America/Los_Angeles:20250925T153000
DTEND;TZID=America/Los_Angeles:20250925T170000
DTSTAMP:20260423T234523
CREATED:20250911T224229Z
LAST-MODIFIED:20250911T224229Z
UID:5388-1758814200-1758819600@motherlodechristian.com
SUMMARY:Girls Basketball @ MLCS 3:45
DESCRIPTION:MLCS vs Curtis Creek
URL:https://motherlodechristian.com/event/girls-basketball-mlcs-345-2/
END:VEVENT
BEGIN:VEVENT
DTSTART;TZID=America/Los_Angeles:20250924T153000
DTEND;TZID=America/Los_Angeles:20250924T170000
DTSTAMP:20260423T234523
CREATED:20250911T224148Z
LAST-MODIFIED:20250911T224148Z
UID:5386-1758727800-1758733200@motherlodechristian.com
SUMMARY:Girls Basketball@ MLCS 3:45
DESCRIPTION:MLCS vs Belleview
URL:https://motherlodechristian.com/event/girls-basketball-mlcs-345/
END:VEVENT
BEGIN:VEVENT
DTSTART;TZID=America/Los_Angeles:20250923T153000
DTEND;TZID=America/Los_Angeles:20250923T170000
DTSTAMP:20260423T234523
CREATED:20250911T224430Z
LAST-MODIFIED:20250915T154542Z
UID:5394-1758641400-1758646800@motherlodechristian.com
SUMMARY:Girls Basketball @ Summerville 3:45pm
DESCRIPTION:
URL:https://motherlodechristian.com/event/girls-basketball-summerville-345pm/
END:VEVENT
BEGIN:VEVENT
DTSTART;TZID=America/Los_Angeles:20250922T153000
DTEND;TZID=America/Los_Angeles:20250922T170000
DTSTAMP:20260423T234523
CREATED:20250911T224045Z
LAST-MODIFIED:20250911T224045Z
UID:5384-1758555000-1758560400@motherlodechristian.com
SUMMARY:Girls Basketball @ Curtis Creek 3:45pm
DESCRIPTION:
URL:https://motherlodechristian.com/event/girls-basketball-curtis-creek-345pm/
END:VEVENT
BEGIN:VEVENT
DTSTART;TZID=America/Los_Angeles:20250922T100000
DTEND;TZID=America/Los_Angeles:20250922T140000
DTSTAMP:20260423T234523
CREATED:20250905T151924Z
LAST-MODIFIED:20250905T151924Z
UID:5359-1758535200-1758549600@motherlodechristian.com
SUMMARY:Kinder Field Trip
DESCRIPTION:The Kinders will be going to Aspen Meadows Pack Station to learn about animals.
URL:https://motherlodechristian.com/event/kinder-field-trip-7/
END:VEVENT
BEGIN:VEVENT
DTSTART;TZID=America/Los_Angeles:20250918T080000
DTEND;TZID=America/Los_Angeles:20250919T110000
DTSTAMP:20260423T234523
CREATED:20250730T164521Z
LAST-MODIFIED:20250730T164521Z
UID:5242-1758182400-1758279600@motherlodechristian.com
SUMMARY:Picture Days: Preschool - 8th Grade
DESCRIPTION:Fall Picture Days are currently scheduled for the 18th and 19th for Preschool – 8th grades right after school starts and go to approximately 11a.m. both days.
URL:https://motherlodechristian.com/event/picture-days-preschool-8th-grade/
END:VEVENT
BEGIN:VEVENT
DTSTART;TZID=America/Los_Angeles:20250917T153000
DTEND;TZID=America/Los_Angeles:20250917T170000
DTSTAMP:20260423T234523
CREATED:20250910T145452Z
LAST-MODIFIED:20250910T150048Z
UID:5361-1758123000-1758128400@motherlodechristian.com
SUMMARY:Cross Country Rapp's Run @ Sonora Ele. 3:30pm
DESCRIPTION:
URL:https://motherlodechristian.com/event/cross-country-sonora-ele-330pm/
END:VEVENT
BEGIN:VEVENT
DTSTART;TZID=America/Los_Angeles:20250916T153000
DTEND;TZID=America/Los_Angeles:20250916T170000
DTSTAMP:20260423T234523
CREATED:20250911T223958Z
LAST-MODIFIED:20250911T223958Z
UID:5382-1758036600-1758042000@motherlodechristian.com
SUMMARY:Girls Basketball @ Sonora 3:45pm
DESCRIPTION:
URL:https://motherlodechristian.com/event/girls-basketball-sonora-345pm/
END:VEVENT
BEGIN:VEVENT
DTSTART;TZID=America/Los_Angeles:20250909T163000
DTEND;TZID=America/Los_Angeles:20250909T173000
DTSTAMP:20260423T234523
CREATED:20250804T220156Z
LAST-MODIFIED:20250804T220156Z
UID:5315-1757435400-1757439000@motherlodechristian.com
SUMMARY:MLCS Board Meeting @ 4:30pm
DESCRIPTION:The MLCS Board Meets the second Tuesday of the month. Open Session starts at 4:30pm in the MLCS Chapel and is followed by closed session after a brief break. \nAll are invited to join us.
URL:https://motherlodechristian.com/event/mlcs-board-meeting-430pm/
END:VEVENT
BEGIN:VEVENT
DTSTART;VALUE=DATE:20250901
DTEND;VALUE=DATE:20250902
DTSTAMP:20260423T234523
CREATED:20250730T163441Z
LAST-MODIFIED:20250730T163441Z
UID:5240-1756684800-1756771199@motherlodechristian.com
SUMMARY:Labor Day - No School K-8th grades
DESCRIPTION:
URL:https://motherlodechristian.com/event/labor-day-no-school-k-8th-grades/
END:VEVENT
BEGIN:VEVENT
DTSTART;TZID=America/Los_Angeles:20250828T180000
DTEND;TZID=America/Los_Angeles:20250828T193000
DTSTAMP:20260423T234523
CREATED:20250730T163346Z
LAST-MODIFIED:20250730T163346Z
UID:5238-1756404000-1756409400@motherlodechristian.com
SUMMARY:K- 8th Grade Back to School Night
DESCRIPTION:K – 8th Back to School Night starts at 6p.m. \nWe look forward to seeing you there.
URL:https://motherlodechristian.com/event/k-8th-grade-back-to-school-night/
END:VEVENT
BEGIN:VEVENT
DTSTART;TZID=America/Los_Angeles:20250820T080000
DTEND;TZID=America/Los_Angeles:20250820T153000
DTSTAMP:20260423T234523
CREATED:20250730T163209Z
LAST-MODIFIED:20250730T163209Z
UID:5236-1755676800-1755703800@motherlodechristian.com
SUMMARY:First Day of School
DESCRIPTION:First Day of School…. first bell rings at 8:05a.m. and late bell rings at 8:10a.m \nSchool is out at 3p.m. daily. All student’s much be picked up by 3:30p.m. and after 3:20p.m. student’s go to the office. \n 
URL:https://motherlodechristian.com/event/first-day-of-school-3/
END:VEVENT
BEGIN:VEVENT
DTSTART;TZID=America/Los_Angeles:20250819T090000
DTEND;TZID=America/Los_Angeles:20250819T110000
DTSTAMP:20260423T234523
CREATED:20250730T162711Z
LAST-MODIFIED:20250730T162711Z
UID:5234-1755594000-1755601200@motherlodechristian.com
SUMMARY:Meet the Teacher
DESCRIPTION:Come meet your teacher 9a.m. – 11a.m. \n 
URL:https://motherlodechristian.com/event/meet-the-teacher-2/
END:VEVENT
BEGIN:VEVENT
DTSTART;TZID=America/Los_Angeles:20250812T163000
DTEND;TZID=America/Los_Angeles:20250812T173000
DTSTAMP:20260423T234523
CREATED:20250804T220040Z
LAST-MODIFIED:20250804T220040Z
UID:5313-1755016200-1755019800@motherlodechristian.com
SUMMARY:Board Meeting @4:30pm
DESCRIPTION:The MLCS Board Meets the second Tuesday of the month. Open Session starts at 4:30pm in the MLCS Chapel and is followed by closed session after a brief break. \nAll are invited to join us.
URL:https://motherlodechristian.com/event/board-meeting-430pm/
END:VEVENT
BEGIN:VEVENT
DTSTART;TZID=UTC:20250610T163000
DTEND;TZID=UTC:20250610T173000
DTSTAMP:20260423T234523
CREATED:20240905T042316Z
LAST-MODIFIED:20240905T042316Z
UID:4679-1749573000-1749576600@motherlodechristian.com
SUMMARY:MLCS Board Meeting 4:30p.m.
DESCRIPTION:The MLCS Board meets the 2nd Tuesday of every month in the Chapel.  Open Session starts at 4:30p.m. \nClosed Session will start at approximately 5:30p.m. \nEveryone is encouraged to come\, and agendas are emailed out to families before the scheduled meeting. \nPrevious Minutes can also be found on the website under “About”\, then click on “Board”.
URL:https://motherlodechristian.com/event/mlcs-board-meeting-430p-m-10/
END:VEVENT
END:VCALENDAR