BEGIN:VCALENDAR
VERSION:2.0
PRODID:-//Motherlode Christian School - ECPv6.15.20//NONSGML v1.0//EN
CALSCALE:GREGORIAN
METHOD:PUBLISH
X-ORIGINAL-URL:https://motherlodechristian.com
X-WR-CALDESC:Events for Motherlode Christian School
REFRESH-INTERVAL;VALUE=DURATION:PT1H
X-Robots-Tag:noindex
X-PUBLISHED-TTL:PT1H
BEGIN:VTIMEZONE
TZID:UTC
BEGIN:STANDARD
TZOFFSETFROM:+0000
TZOFFSETTO:+0000
TZNAME:UTC
DTSTART:20230101T000000
END:STANDARD
END:VTIMEZONE
BEGIN:VTIMEZONE
TZID:America/Los_Angeles
BEGIN:DAYLIGHT
TZOFFSETFROM:-0800
TZOFFSETTO:-0700
TZNAME:PDT
DTSTART:20240310T100000
END:DAYLIGHT
BEGIN:STANDARD
TZOFFSETFROM:-0700
TZOFFSETTO:-0800
TZNAME:PST
DTSTART:20241103T090000
END:STANDARD
BEGIN:DAYLIGHT
TZOFFSETFROM:-0800
TZOFFSETTO:-0700
TZNAME:PDT
DTSTART:20250309T100000
END:DAYLIGHT
BEGIN:STANDARD
TZOFFSETFROM:-0700
TZOFFSETTO:-0800
TZNAME:PST
DTSTART:20251102T090000
END:STANDARD
BEGIN:DAYLIGHT
TZOFFSETFROM:-0800
TZOFFSETTO:-0700
TZNAME:PDT
DTSTART:20260308T100000
END:DAYLIGHT
BEGIN:STANDARD
TZOFFSETFROM:-0700
TZOFFSETTO:-0800
TZNAME:PST
DTSTART:20261101T090000
END:STANDARD
END:VTIMEZONE
BEGIN:VEVENT
DTSTART;VALUE=DATE:20241220
DTEND;VALUE=DATE:20241221
DTSTAMP:20260425T045336
CREATED:20240903T225435Z
LAST-MODIFIED:20240903T225435Z
UID:4581-1734652800-1734739199@motherlodechristian.com
SUMMARY:K- 8th Early Release @ 11:30a.m.
DESCRIPTION:Early Release for K- 8th grades at 11:30a.m. and the start of Christmas vacation begins.
URL:https://motherlodechristian.com/event/k-8th-early-release-1130a-m/
END:VEVENT
BEGIN:VEVENT
DTSTART;VALUE=DATE:20241223
DTEND;VALUE=DATE:20250107
DTSTAMP:20260425T045336
CREATED:20240903T225756Z
LAST-MODIFIED:20240903T225756Z
UID:4583-1734912000-1736207999@motherlodechristian.com
SUMMARY:Christmas Vacation K-8th
DESCRIPTION:Enjoy the Christmas break and have a Happy New Year! See you back on Tuesday\, January 7th.  \nJanuary 6th is a Teacher /Staff  In-Service Day – No School  
URL:https://motherlodechristian.com/event/christmas-vacation-k-8th/
END:VEVENT
BEGIN:VEVENT
DTSTART;VALUE=DATE:20250110
DTEND;VALUE=DATE:20250111
DTSTAMP:20260425T045336
CREATED:20240903T230208Z
LAST-MODIFIED:20240903T230308Z
UID:4585-1736467200-1736553599@motherlodechristian.com
SUMMARY:2nd Trimester Progress Report Period  Ends.
DESCRIPTION:2nd Trimester Progress Report Period  Ends.
URL:https://motherlodechristian.com/event/2nd-trimester-progress-report-period-ends/
END:VEVENT
BEGIN:VEVENT
DTSTART;TZID=UTC:20250114T140000
DTEND;TZID=UTC:20250114T150000
DTSTAMP:20260425T045336
CREATED:20240905T044250Z
LAST-MODIFIED:20240905T044250Z
UID:4692-1736863200-1736866800@motherlodechristian.com
SUMMARY:PTF Meeting 2p.m.
DESCRIPTION:PTF meets every 2nd Tuesday of the month at 2p.m. \nGet to know the school\, other families and be a part of making a difference here at MLCS.
URL:https://motherlodechristian.com/event/ptf-meeting-2p-m-5/
END:VEVENT
BEGIN:VEVENT
DTSTART;TZID=UTC:20250114T163000
DTEND;TZID=UTC:20250114T173000
DTSTAMP:20260425T045336
CREATED:20240905T041902Z
LAST-MODIFIED:20240905T041902Z
UID:4669-1736872200-1736875800@motherlodechristian.com
SUMMARY:MLCS Board Meeting 4:30p.m.
DESCRIPTION:The MLCS Board meets the 2nd Tuesday of every month in the Chapel.  Open Session starts at 4:30p.m. \nClosed Session will start at approximately 5:30p.m. \nEveryone is encouraged to come\, and agendas are emailed out to families before the scheduled meeting. \nPrevious Minutes can also be found on the website under “About”\, then click on “Board”.
URL:https://motherlodechristian.com/event/mlcs-board-meeting-430p-m-5/
END:VEVENT
BEGIN:VEVENT
DTSTART;VALUE=DATE:20250117
DTEND;VALUE=DATE:20250125
DTSTAMP:20260425T045336
CREATED:20250113T192658Z
LAST-MODIFIED:20250113T192946Z
UID:4850-1737072000-1737763199@motherlodechristian.com
SUMMARY:6th Grade Boys Preseason BB Tournament
DESCRIPTION:6th Grade Boys Preseason BB Tournament will be held at Columbia Elementary. Coach Wright and the team coaches will keep you informed of the Tournament schedule and game times. \nThere will be fees for entry to the games.
URL:https://motherlodechristian.com/event/6th-grade-boys-preseason-bb-tournament/
END:VEVENT
BEGIN:VEVENT
DTSTART;VALUE=DATE:20250117
DTEND;VALUE=DATE:20250125
DTSTAMP:20260425T045336
CREATED:20250113T192843Z
LAST-MODIFIED:20250113T192843Z
UID:4852-1737072000-1737763199@motherlodechristian.com
SUMMARY:8th Grade Boys Preseason BB Tournament
DESCRIPTION:8th Grade Boys Preseason BB Tournament will be held at Sonora Elementary. Coach Wright and the team coaches will keep you informed of game times and the schedule. \nThere will be game entry fees.
URL:https://motherlodechristian.com/event/8th-grade-boys-preseason-bb-tournament/
END:VEVENT
BEGIN:VEVENT
DTSTART;VALUE=DATE:20250120
DTEND;VALUE=DATE:20250121
DTSTAMP:20260425T045336
CREATED:20240903T230350Z
LAST-MODIFIED:20240924T010042Z
UID:4588-1737331200-1737417599@motherlodechristian.com
SUMMARY:NO School K-8th Martin Luther King Day
DESCRIPTION:
URL:https://motherlodechristian.com/event/martin-luther-king-day-no-school-k-8th/
END:VEVENT
BEGIN:VEVENT
DTSTART;TZID=America/Los_Angeles:20250127T153000
DTEND;TZID=America/Los_Angeles:20250127T180000
DTSTAMP:20260425T045336
CREATED:20250113T193221Z
LAST-MODIFIED:20250116T165025Z
UID:4855-1737991800-1738000800@motherlodechristian.com
SUMMARY:6th & 7th Grade Boys Basketball Game
DESCRIPTION:6th & 7th Grade Boys Basketball Game at Jamestown Ele.  6th grade plays at 3:45p.m. and 7th grade at 4:45p.m.
URL:https://motherlodechristian.com/event/6th-8th-grade-boys-basketball-game/
END:VEVENT
BEGIN:VEVENT
DTSTART;TZID=America/Los_Angeles:20250128T100000
DTEND;TZID=America/Los_Angeles:20250128T130000
DTSTAMP:20260425T045336
CREATED:20241212T171011Z
LAST-MODIFIED:20241212T171011Z
UID:4831-1738058400-1738069200@motherlodechristian.com
SUMMARY:Ice Skating - K/2nd
DESCRIPTION:Kinder and 2nd grade Ice Skating field trip ! A fun winter activity.
URL:https://motherlodechristian.com/event/ice-skating-k-2nd/
END:VEVENT
BEGIN:VEVENT
DTSTART;TZID=America/Los_Angeles:20250130T153000
DTEND;TZID=America/Los_Angeles:20250130T180000
DTSTAMP:20260425T045336
CREATED:20250113T193321Z
LAST-MODIFIED:20250116T164951Z
UID:4857-1738251000-1738260000@motherlodechristian.com
SUMMARY:6th & 7th Grade Boys Basketball Game
DESCRIPTION:6th & 7th Grade Boys Basketball Game at MLCS.  6th grade plays at 3:45p.m. and 7th grade at 4:45p.m.
URL:https://motherlodechristian.com/event/6th-8th-grade-boys-basketball-game-2/
END:VEVENT
BEGIN:VEVENT
DTSTART;TZID=America/Los_Angeles:20250131T133000
DTEND;TZID=America/Los_Angeles:20250131T145000
DTSTAMP:20260425T045336
CREATED:20250113T162222Z
LAST-MODIFIED:20250113T162403Z
UID:4848-1738330200-1738335000@motherlodechristian.com
SUMMARY:Spanish Class Field Trip
DESCRIPTION:The 8th grade Spanish class will be going on a field trip to The Taqueria to use the Spanish they have learned.
URL:https://motherlodechristian.com/event/spanish-class-field-trip/
END:VEVENT
BEGIN:VEVENT
DTSTART;TZID=America/Los_Angeles:20250204T083000
DTEND;TZID=America/Los_Angeles:20250204T113000
DTSTAMP:20260425T045336
CREATED:20250124T165719Z
LAST-MODIFIED:20250203T215627Z
UID:4926-1738657800-1738668600@motherlodechristian.com
SUMMARY:3rd Grade Field Trip
DESCRIPTION:Third Grade is going to the “Heart Health” with Adventist Health.
URL:https://motherlodechristian.com/event/3rd-grade-field-trip-2/
END:VEVENT
BEGIN:VEVENT
DTSTART;TZID=America/Los_Angeles:20250204T153000
DTEND;TZID=America/Los_Angeles:20250204T170000
DTSTAMP:20260425T045336
CREATED:20250113T193503Z
LAST-MODIFIED:20250116T164707Z
UID:4859-1738683000-1738688400@motherlodechristian.com
SUMMARY:7th Grade Boys Basketball Game
DESCRIPTION:7th Grade Boys Basketball Game at Belleview Ele.  Game starts at 3:45p.m.
URL:https://motherlodechristian.com/event/8th-grade-boys-basketball-game/
END:VEVENT
BEGIN:VEVENT
DTSTART;TZID=America/Los_Angeles:20250204T153000
DTEND;TZID=America/Los_Angeles:20250204T170000
DTSTAMP:20260425T045336
CREATED:20250116T164907Z
LAST-MODIFIED:20250116T164907Z
UID:4918-1738683000-1738688400@motherlodechristian.com
SUMMARY:6th Grade Boys Basketball
DESCRIPTION:6th Grade Boys Basketball @ MLCS with a 3:45 game time.
URL:https://motherlodechristian.com/event/6th-grade-boys-basketball/
END:VEVENT
BEGIN:VEVENT
DTSTART;TZID=America/Los_Angeles:20250205T134500
DTEND;TZID=America/Los_Angeles:20250205T150000
DTSTAMP:20260425T045336
CREATED:20250124T165925Z
LAST-MODIFIED:20250124T165925Z
UID:4928-1738763100-1738767600@motherlodechristian.com
SUMMARY:Kinder Field Trip
DESCRIPTION:The Kinder will be walking to Post Office to mail Valentine’s cards.
URL:https://motherlodechristian.com/event/kinder-field-trip-5/
END:VEVENT
BEGIN:VEVENT
DTSTART;TZID=America/Los_Angeles:20250206T153000
DTEND;TZID=America/Los_Angeles:20250206T180000
DTSTAMP:20260425T045336
CREATED:20250113T193700Z
LAST-MODIFIED:20250116T164553Z
UID:4861-1738855800-1738864800@motherlodechristian.com
SUMMARY:6th and 7th Grade Boys Basketball Game
DESCRIPTION:6th and 7th Grade Boys Basketball Game at MLCS.    6th grade game starts at 3:45p.m. and 7th grade at 4:45p.m.
URL:https://motherlodechristian.com/event/6th-and-8th-grade-boys-basketball-game/
END:VEVENT
BEGIN:VEVENT
DTSTART;TZID=America/Los_Angeles:20250207T100000
DTEND;TZID=America/Los_Angeles:20250207T120000
DTSTAMP:20260425T045336
CREATED:20250117T194021Z
LAST-MODIFIED:20250117T194021Z
UID:4923-1738922400-1738929600@motherlodechristian.com
SUMMARY:1st Grade Field Trip
DESCRIPTION:The 1st grade will be going to Elevate to conclude their bones/muscles unit.
URL:https://motherlodechristian.com/event/1st-grade-field-trip-6/
END:VEVENT
BEGIN:VEVENT
DTSTART;VALUE=DATE:20250210
DTEND;VALUE=DATE:20250211
DTSTAMP:20260425T045336
CREATED:20240903T230705Z
LAST-MODIFIED:20240924T010143Z
UID:4590-1739145600-1739231999@motherlodechristian.com
SUMMARY:NO School K-8th Lincoln's Day
DESCRIPTION:
URL:https://motherlodechristian.com/event/lincolns-day-no-school-k-8th/
END:VEVENT
BEGIN:VEVENT
DTSTART;TZID=America/Los_Angeles:20250211T100000
DTEND;TZID=America/Los_Angeles:20250211T130000
DTSTAMP:20260425T045336
CREATED:20250114T191046Z
LAST-MODIFIED:20250114T191046Z
UID:4877-1739268000-1739278800@motherlodechristian.com
SUMMARY:Kinder Field Trip
DESCRIPTION:The Kinder will be going to Avalon to spread cheer to the patients \, followed by a lunch in the park.
URL:https://motherlodechristian.com/event/kinder-field-trip-4/
END:VEVENT
BEGIN:VEVENT
DTSTART;TZID=UTC:20250211T140000
DTEND;TZID=UTC:20250211T150000
DTSTAMP:20260425T045336
CREATED:20240905T044335Z
LAST-MODIFIED:20240905T044335Z
UID:4694-1739282400-1739286000@motherlodechristian.com
SUMMARY:PTF Meeting 2p.m.
DESCRIPTION:PTF meets every 2nd Tuesday of the month at 2p.m. \nGet to know the school\, other families and be a part of making a difference here at MLCS.
URL:https://motherlodechristian.com/event/ptf-meeting-2p-m-6/
END:VEVENT
BEGIN:VEVENT
DTSTART;TZID=America/Los_Angeles:20250211T153000
DTEND;TZID=America/Los_Angeles:20250211T180000
DTSTAMP:20260425T045336
CREATED:20250113T193819Z
LAST-MODIFIED:20250116T164519Z
UID:4863-1739287800-1739296800@motherlodechristian.com
SUMMARY:6th and 7th Grade Boys Basketball Game
DESCRIPTION:6th and 7th Grade Boys Basketball Game at Gold Rush.   6th grade game starts at 3:45p.m. and 7th grade at 4:45p.m.
URL:https://motherlodechristian.com/event/6th-and-8th-grade-boys-basketball-game-2/
END:VEVENT
BEGIN:VEVENT
DTSTART;TZID=UTC:20250211T163000
DTEND;TZID=UTC:20250211T173000
DTSTAMP:20260425T045336
CREATED:20240905T041953Z
LAST-MODIFIED:20240905T041953Z
UID:4671-1739291400-1739295000@motherlodechristian.com
SUMMARY:MLCS Board Meeting 4:30p.m.
DESCRIPTION:The MLCS Board meets the 2nd Tuesday of every month in the Chapel.  Open Session starts at 4:30p.m. \nClosed Session will start at approximately 5:30p.m. \nEveryone is encouraged to come\, and agendas are emailed out to families before the scheduled meeting. \nPrevious Minutes can also be found on the website under “About”\, then click on “Board”.
URL:https://motherlodechristian.com/event/mlcs-board-meeting-430p-m-6/
END:VEVENT
BEGIN:VEVENT
DTSTART;TZID=America/Los_Angeles:20250212T153000
DTEND;TZID=America/Los_Angeles:20250212T180000
DTSTAMP:20260425T045336
CREATED:20250113T194005Z
LAST-MODIFIED:20250116T164438Z
UID:4866-1739374200-1739383200@motherlodechristian.com
SUMMARY:6th and 7th Grade Boys Basketball Game
DESCRIPTION:6th and 7th Grade Boys Basketball Game at MLCS   6th grade game starts at 3:45p.m. and 7th grade at 4:45p.m.
URL:https://motherlodechristian.com/event/6th-and-8th-grade-boys-basketball-game-3/
END:VEVENT
BEGIN:VEVENT
DTSTART;TZID=America/Los_Angeles:20250213T153000
DTEND;TZID=America/Los_Angeles:20250213T174500
DTSTAMP:20260425T045336
CREATED:20250130T193923Z
LAST-MODIFIED:20250130T193923Z
UID:4934-1739460600-1739468700@motherlodechristian.com
SUMMARY:Boys Basketball 7th Grade
DESCRIPTION:7th Grade Boys Basketball @MLCS  3:45 game time.
URL:https://motherlodechristian.com/event/boys-basketball-7th-grade/
END:VEVENT
BEGIN:VEVENT
DTSTART;VALUE=DATE:20250214
DTEND;VALUE=DATE:20250215
DTSTAMP:20260425T045336
CREATED:20240903T231001Z
LAST-MODIFIED:20240903T231001Z
UID:4592-1739491200-1739577599@motherlodechristian.com
SUMMARY:PTF Balloon -a- Gram Preschool - 8th grades
DESCRIPTION:Forms will be sent home for you to purchase your balloons! This event is for Preschool – 8th grades….. And we can always use parent helpers on this day.
URL:https://motherlodechristian.com/event/ptf-balloon-a-gram-preschool-8th-grades/
END:VEVENT
BEGIN:VEVENT
DTSTART;VALUE=DATE:20250217
DTEND;VALUE=DATE:20250218
DTSTAMP:20260425T045336
CREATED:20240903T231043Z
LAST-MODIFIED:20240924T010316Z
UID:4594-1739750400-1739836799@motherlodechristian.com
SUMMARY:NO School K-8th President's Day
DESCRIPTION:
URL:https://motherlodechristian.com/event/presidents-day-no-school-k-8th/
END:VEVENT
BEGIN:VEVENT
DTSTART;TZID=America/Los_Angeles:20250218T153000
DTEND;TZID=America/Los_Angeles:20250218T180000
DTSTAMP:20260425T045336
CREATED:20250113T194104Z
LAST-MODIFIED:20250116T164349Z
UID:4868-1739892600-1739901600@motherlodechristian.com
SUMMARY:6th and 7th Grade Boys Basketball Game
DESCRIPTION:6th and 7th Grade Boys Basketball Game at MLCS   6th grade game starts at 3:45p.m. and 7th grade at 4:45p.m.
URL:https://motherlodechristian.com/event/6th-and-8th-grade-boys-basketball-game-4/
END:VEVENT
BEGIN:VEVENT
DTSTART;TZID=America/Los_Angeles:20250220T153000
DTEND;TZID=America/Los_Angeles:20250220T180000
DTSTAMP:20260425T045336
CREATED:20250113T194244Z
LAST-MODIFIED:20250116T164304Z
UID:4870-1740065400-1740074400@motherlodechristian.com
SUMMARY:6th and 7th Grade Boys Basketball Game
DESCRIPTION:6th and 7th Grade Boys Basketball Game @ Sonora Ele.  6th grade at 3:45p.m. and 7th grade at 4:45p.m.
URL:https://motherlodechristian.com/event/6th-and-7th-grade-boys-basketball-game-5/
END:VEVENT
BEGIN:VEVENT
DTSTART;VALUE=DATE:20250224
DTEND;VALUE=DATE:20250302
DTSTAMP:20260425T045336
CREATED:20250113T194354Z
LAST-MODIFIED:20250116T165459Z
UID:4872-1740355200-1740873599@motherlodechristian.com
SUMMARY:Post Season 6th and 7th Grade Boys Basketball Tournament
DESCRIPTION:Coaches will give information when it’s available.
URL:https://motherlodechristian.com/event/post-season-6th-and-8th-grade-boys-basketball-tournament/
END:VEVENT
END:VCALENDAR