BEGIN:VCALENDAR
VERSION:2.0
PRODID:-//Motherlode Christian School - ECPv6.15.20//NONSGML v1.0//EN
CALSCALE:GREGORIAN
METHOD:PUBLISH
X-WR-CALNAME:Motherlode Christian School
X-ORIGINAL-URL:https://motherlodechristian.com
X-WR-CALDESC:Events for Motherlode Christian School
REFRESH-INTERVAL;VALUE=DURATION:PT1H
X-Robots-Tag:noindex
X-PUBLISHED-TTL:PT1H
BEGIN:VTIMEZONE
TZID:UTC
BEGIN:STANDARD
TZOFFSETFROM:+0000
TZOFFSETTO:+0000
TZNAME:UTC
DTSTART:20220101T000000
END:STANDARD
END:VTIMEZONE
BEGIN:VEVENT
DTSTART;VALUE=DATE:20240214
DTEND;VALUE=DATE:20240215
DTSTAMP:20260425T032240
CREATED:20230608T014013Z
LAST-MODIFIED:20230608T014013Z
UID:3713-1707868800-1707955199@motherlodechristian.com
SUMMARY:PTF Balloon-Grams
DESCRIPTION:PTF Balloon-a-Grams for Preschool thru 8th grades.
URL:https://motherlodechristian.com/event/ptf-balloon-grams/
END:VEVENT
BEGIN:VEVENT
DTSTART;TZID=UTC:20240213T163000
DTEND;TZID=UTC:20240213T173000
DTSTAMP:20260425T032240
CREATED:20231028T014302Z
LAST-MODIFIED:20231028T014302Z
UID:4092-1707841800-1707845400@motherlodechristian.com
SUMMARY:Board Meeting
DESCRIPTION:MLCS Board Meeting- open session at 4:30pm in the Chapel. \nPlease come and join us.
URL:https://motherlodechristian.com/event/board-meeting-6/
END:VEVENT
BEGIN:VEVENT
DTSTART;TZID=UTC:20240213T154500
DTEND;TZID=UTC:20240213T190000
DTSTAMP:20260425T032240
CREATED:20240123T011407Z
LAST-MODIFIED:20240123T011407Z
UID:4143-1707839100-1707850800@motherlodechristian.com
SUMMARY:Boys Basketball 6th & 7th grade
DESCRIPTION:Columbia @ MLCS 6th & 7th grades. \nGame time – 3:45 / 4:45 .
URL:https://motherlodechristian.com/event/boys-basketball-6th-7th-grade/
END:VEVENT
BEGIN:VEVENT
DTSTART;VALUE=DATE:20240212
DTEND;VALUE=DATE:20240213
DTSTAMP:20260425T032240
CREATED:20230608T013831Z
LAST-MODIFIED:20230608T013831Z
UID:3711-1707696000-1707782399@motherlodechristian.com
SUMMARY:No School K-8th - Lincoln's Birthday
DESCRIPTION:
URL:https://motherlodechristian.com/event/no-school-k-8th-lincolns-birthday/
END:VEVENT
BEGIN:VEVENT
DTSTART;TZID=UTC:20240208T151500
DTEND;TZID=UTC:20240208T160000
DTSTAMP:20260425T032240
CREATED:20240124T004838Z
LAST-MODIFIED:20240124T004838Z
UID:4150-1707405300-1707408000@motherlodechristian.com
SUMMARY:5th & 6th Grade Parent Science Camp Meeting
DESCRIPTION:             5th & 6th Grade Hume Lake Science Camp Parent Informational Meeting! We will meet in the MLCS Chapel. \nWe will discuss everything from finances and traveling arrangements to cabin setups\, communication modes\, and packing preparations.                                                                                                            Please do your best to attend this meeting.
URL:https://motherlodechristian.com/event/5th-6th-grade-parent-science-camp-meeting/
END:VEVENT
BEGIN:VEVENT
DTSTART;TZID=UTC:20240207T154500
DTEND;TZID=UTC:20240207T190000
DTSTAMP:20260425T032240
CREATED:20240123T011235Z
LAST-MODIFIED:20240123T011235Z
UID:4141-1707320700-1707332400@motherlodechristian.com
SUMMARY:Boys Basketball 6th\, 7th & 8th Grades
DESCRIPTION:MLCS @ Soulsbyville 6th\, 7th and 8th grades. \nGame times- 3:45 / 4:45 / 5:45.
URL:https://motherlodechristian.com/event/boys-basketball-6th-7th-8th-grades/
END:VEVENT
BEGIN:VEVENT
DTSTART;TZID=UTC:20240205T154500
DTEND;TZID=UTC:20240205T190000
DTSTAMP:20260425T032240
CREATED:20240123T011046Z
LAST-MODIFIED:20240123T011046Z
UID:4139-1707147900-1707159600@motherlodechristian.com
SUMMARY:Boys Basketball 6th\, 7th & 8th grade
DESCRIPTION:Curtis Creek @ MLCS  6th\, 7th and 8th grades. \nGame times – 3:45 / 4:45 / 5:45
URL:https://motherlodechristian.com/event/boys-basketball-6th-7th-8th-grade/
END:VEVENT
BEGIN:VEVENT
DTSTART;TZID=UTC:20240202T154500
DTEND;TZID=UTC:20240202T170000
DTSTAMP:20260425T032240
CREATED:20240130T005303Z
LAST-MODIFIED:20240130T005303Z
UID:4157-1706888700-1706893200@motherlodechristian.com
SUMMARY:Boys Basketball - 8th Grade only
DESCRIPTION:8th Grade Boys Basketball @ MLCS with start time at 3:45pm
URL:https://motherlodechristian.com/event/boys-basketball-8th-grade-only-4/
END:VEVENT
BEGIN:VEVENT
DTSTART;TZID=UTC:20240201T154500
DTEND;TZID=UTC:20240201T164500
DTSTAMP:20260425T032240
CREATED:20240130T005125Z
LAST-MODIFIED:20240130T005125Z
UID:4155-1706802300-1706805900@motherlodechristian.com
SUMMARY:Boys Basketball - 7th Grade Only
DESCRIPTION:7th Grade Boys Basketball at MLCS @ 3:45pm start time.
URL:https://motherlodechristian.com/event/boys-basketball-7th-grade-only/
END:VEVENT
BEGIN:VEVENT
DTSTART;TZID=UTC:20240125T154500
DTEND;TZID=UTC:20240125T170000
DTSTAMP:20260425T032241
CREATED:20240123T010422Z
LAST-MODIFIED:20240123T010422Z
UID:4135-1706197500-1706202000@motherlodechristian.com
SUMMARY:7th Grade Boys Basketball Game
DESCRIPTION:MLCS @ Sonora 7th grade only at 3:45p.m.
URL:https://motherlodechristian.com/event/7th-grade-boys-basketball-game/
END:VEVENT
BEGIN:VEVENT
DTSTART;TZID=UTC:20240122T154500
DTEND;TZID=UTC:20240122T180000
DTSTAMP:20260425T032241
CREATED:20240123T010118Z
LAST-MODIFIED:20240123T010118Z
UID:4131-1705938300-1705946400@motherlodechristian.com
SUMMARY:Boys Basketball 6th & 8th
DESCRIPTION:Tenya @ MLCS 6th & 8th grade only. \nGame times 3:45/ 4:45p.m.
URL:https://motherlodechristian.com/event/boys-basketball-6th-8th/
END:VEVENT
BEGIN:VEVENT
DTSTART;VALUE=DATE:20240115
DTEND;VALUE=DATE:20240116
DTSTAMP:20260425T032241
CREATED:20230608T013734Z
LAST-MODIFIED:20230608T013734Z
UID:3709-1705276800-1705363199@motherlodechristian.com
SUMMARY:No School K-8th - Martin Luther King Day
DESCRIPTION:
URL:https://motherlodechristian.com/event/no-school-k-8th-martin-luther-king-day/
END:VEVENT
BEGIN:VEVENT
DTSTART;VALUE=DATE:20240112
DTEND;VALUE=DATE:20240113
DTSTAMP:20260425T032241
CREATED:20230608T013608Z
LAST-MODIFIED:20230608T013608Z
UID:3707-1705017600-1705103999@motherlodechristian.com
SUMMARY:2nd Trimester Progress Report Grading Ends
DESCRIPTION:K-8th Progress Report grading ends.
URL:https://motherlodechristian.com/event/2nd-trimester-progress-report-grading-ends-2/
END:VEVENT
BEGIN:VEVENT
DTSTART;TZID=UTC:20240109T163000
DTEND;TZID=UTC:20240109T173000
DTSTAMP:20260425T032241
CREATED:20231028T014229Z
LAST-MODIFIED:20231028T014229Z
UID:4090-1704817800-1704821400@motherlodechristian.com
SUMMARY:Board Meeting
DESCRIPTION:MLCS Board Meeting- open session at 4:30pm in the Chapel. \nPlease come and join us.
URL:https://motherlodechristian.com/event/board-meeting-5/
END:VEVENT
BEGIN:VEVENT
DTSTART;VALUE=DATE:20240108
DTEND;VALUE=DATE:20240109
DTSTAMP:20260425T032241
CREATED:20230608T013357Z
LAST-MODIFIED:20230608T013357Z
UID:3705-1704672000-1704758399@motherlodechristian.com
SUMMARY:No School K-8th - Teacher/Staff In Service Day
DESCRIPTION:
URL:https://motherlodechristian.com/event/no-school-k-8th-teacher-staff-in-service-day/
END:VEVENT
BEGIN:VEVENT
DTSTART;VALUE=DATE:20231225
DTEND;VALUE=DATE:20240106
DTSTAMP:20260425T032241
CREATED:20230608T013020Z
LAST-MODIFIED:20230608T013020Z
UID:3703-1703462400-1704499199@motherlodechristian.com
SUMMARY:No School - K-8th Grade Christmas Vacation
DESCRIPTION:
URL:https://motherlodechristian.com/event/no-school-k-8th-grade-christmas-vacation/
END:VEVENT
BEGIN:VEVENT
DTSTART;VALUE=DATE:20231222
DTEND;VALUE=DATE:20231223
DTSTAMP:20260425T032241
CREATED:20230608T012911Z
LAST-MODIFIED:20230608T012911Z
UID:3701-1703203200-1703289599@motherlodechristian.com
SUMMARY:Early Release K-8th grade at 11:30a.m.
DESCRIPTION:11:30a.m. Early Release for K-8th grade.
URL:https://motherlodechristian.com/event/early-release-k-8th-grade-at-1130a-m/
END:VEVENT
BEGIN:VEVENT
DTSTART;TZID=UTC:20231221T180000
DTEND;TZID=UTC:20231221T200000
DTSTAMP:20260425T032241
CREATED:20230608T012748Z
LAST-MODIFIED:20230608T012748Z
UID:3699-1703181600-1703188800@motherlodechristian.com
SUMMARY:Christmas Program 6p.m.
DESCRIPTION:MLCS Christmas Program in the Gym – Preschool and K-8th Grade.
URL:https://motherlodechristian.com/event/christmas-program-6p-m/
END:VEVENT
BEGIN:VEVENT
DTSTART;TZID=UTC:20231212T163000
DTEND;TZID=UTC:20231212T173000
DTSTAMP:20260425T032241
CREATED:20231028T014149Z
LAST-MODIFIED:20231028T014149Z
UID:4088-1702398600-1702402200@motherlodechristian.com
SUMMARY:Board Meeting
DESCRIPTION:MLCS Board Meeting- open session at 4:30pm in the Chapel. \nPlease come and join us.
URL:https://motherlodechristian.com/event/board-meeting-4/
END:VEVENT
BEGIN:VEVENT
DTSTART;VALUE=DATE:20231128
DTEND;VALUE=DATE:20231129
DTSTAMP:20260425T032241
CREATED:20231109T010246Z
LAST-MODIFIED:20231109T010246Z
UID:4107-1701129600-1701215999@motherlodechristian.com
SUMMARY:5th Grade Ships Trip
DESCRIPTION:5th Grade Ships Trip….. Get ready to enjoy learning about being a sailor.
URL:https://motherlodechristian.com/event/5th-grade-ships-trip/
END:VEVENT
BEGIN:VEVENT
DTSTART;VALUE=DATE:20231120
DTEND;VALUE=DATE:20231125
DTSTAMP:20260425T032241
CREATED:20230608T012513Z
LAST-MODIFIED:20230608T012513Z
UID:3697-1700438400-1700870399@motherlodechristian.com
SUMMARY:No School K-8th Grade -  Thanksgiving Break
DESCRIPTION:
URL:https://motherlodechristian.com/event/no-school-k-8th-grade-thanksgiving-break/
END:VEVENT
BEGIN:VEVENT
DTSTART;VALUE=DATE:20231117
DTEND;VALUE=DATE:20231118
DTSTAMP:20260425T032241
CREATED:20230608T011718Z
LAST-MODIFIED:20230608T012345Z
UID:3692-1700179200-1700265599@motherlodechristian.com
SUMMARY:K-8th All School Thanksgiving w/Early Dismissal 1:30p.m.
DESCRIPTION:All school Thanksgiving Feast in the Gym for K-8th with an Early Release at 1:30p.m. \n 
URL:https://motherlodechristian.com/event/k-8th-all-school-thanksgiving-w-early-dismissal-130p-m/
END:VEVENT
BEGIN:VEVENT
DTSTART;TZID=UTC:20231114T163000
DTEND;TZID=UTC:20231114T173000
DTSTAMP:20260425T032241
CREATED:20231028T014105Z
LAST-MODIFIED:20231028T014105Z
UID:4086-1699979400-1699983000@motherlodechristian.com
SUMMARY:Board Meeting
DESCRIPTION:MLCS Board Meeting- open session at 4:30pm in the Chapel. \nPlease come and join us.
URL:https://motherlodechristian.com/event/board-meeting-3/
END:VEVENT
BEGIN:VEVENT
DTSTART;VALUE=DATE:20231110
DTEND;VALUE=DATE:20231111
DTSTAMP:20260425T032241
CREATED:20230608T011119Z
LAST-MODIFIED:20230608T011119Z
UID:3690-1699574400-1699660799@motherlodechristian.com
SUMMARY:No School - Veteran's Day
DESCRIPTION:
URL:https://motherlodechristian.com/event/no-school-veterans-day/
END:VEVENT
BEGIN:VEVENT
DTSTART;VALUE=DATE:20231108
DTEND;VALUE=DATE:20231109
DTSTAMP:20260425T032241
CREATED:20230608T011023Z
LAST-MODIFIED:20230608T011023Z
UID:3688-1699401600-1699487999@motherlodechristian.com
SUMMARY:End of 1st Trimester K-8th
DESCRIPTION:
URL:https://motherlodechristian.com/event/end-of-1st-trimester-k-8th/
END:VEVENT
BEGIN:VEVENT
DTSTART;VALUE=DATE:20231106
DTEND;VALUE=DATE:20231110
DTSTAMP:20260425T032241
CREATED:20231027T235323Z
LAST-MODIFIED:20231028T003952Z
UID:4081-1699228800-1699574399@motherlodechristian.com
SUMMARY:Operation Christmas Child Shoeboxes
DESCRIPTION:Collection week for the shoeboxes is November 6th through the 9th! \nNo school on November 10th so please turn in by the 9th.
URL:https://motherlodechristian.com/event/operation-christmas-child-shoeboxes/
END:VEVENT
BEGIN:VEVENT
DTSTART;TZID=UTC:20231103T143000
DTEND;TZID=UTC:20231103T183000
DTSTAMP:20260425T032241
CREATED:20230907T014513Z
LAST-MODIFIED:20230907T014513Z
UID:4053-1699021800-1699036200@motherlodechristian.com
SUMMARY:Cross Country - Tri-County Meet
DESCRIPTION:Tri-County Cross Country Meet @ Frogtown in Angels Camp 2:30
URL:https://motherlodechristian.com/event/cross-country-tri-county-meet/
END:VEVENT
BEGIN:VEVENT
DTSTART;VALUE=DATE:20231101
DTEND;VALUE=DATE:20231102
DTSTAMP:20260425T032241
CREATED:20230608T010759Z
LAST-MODIFIED:20230608T010759Z
UID:3684-1698796800-1698883199@motherlodechristian.com
SUMMARY:No School - Teacher/Staff In-Service Day
DESCRIPTION:
URL:https://motherlodechristian.com/event/no-school-teacher-staff-in-service-day/
END:VEVENT
BEGIN:VEVENT
DTSTART;VALUE=DATE:20231027
DTEND;VALUE=DATE:20231028
DTSTAMP:20260425T032241
CREATED:20230608T010006Z
LAST-MODIFIED:20230608T010150Z
UID:3682-1698364800-1698451199@motherlodechristian.com
SUMMARY:Picture Retakes - Preschool thru 8th Grade
DESCRIPTION:Pictures will be taken first thing in the morning.
URL:https://motherlodechristian.com/event/picture-retakes-preschool-thru-8th-grade/
END:VEVENT
BEGIN:VEVENT
DTSTART;TZID=UTC:20231025T153000
DTEND;TZID=UTC:20231025T183000
DTSTAMP:20260425T032241
CREATED:20230907T014410Z
LAST-MODIFIED:20230907T014410Z
UID:4051-1698247800-1698258600@motherlodechristian.com
SUMMARY:Cross Country - Tuolumne County Meet
DESCRIPTION:Tuolumne County Cross County Meet – Wildcat Ranch 3:30
URL:https://motherlodechristian.com/event/cross-country-tuolumne-county-meet/
END:VEVENT
END:VCALENDAR