BEGIN:VCALENDAR
VERSION:2.0
PRODID:-//Motherlode Christian School - ECPv6.15.20//NONSGML v1.0//EN
CALSCALE:GREGORIAN
METHOD:PUBLISH
X-WR-CALNAME:Motherlode Christian School
X-ORIGINAL-URL:https://motherlodechristian.com
X-WR-CALDESC:Events for Motherlode Christian School
REFRESH-INTERVAL;VALUE=DURATION:PT1H
X-Robots-Tag:noindex
X-PUBLISHED-TTL:PT1H
BEGIN:VTIMEZONE
TZID:UTC
BEGIN:STANDARD
TZOFFSETFROM:+0000
TZOFFSETTO:+0000
TZNAME:UTC
DTSTART:20220101T000000
END:STANDARD
END:VTIMEZONE
BEGIN:VEVENT
DTSTART;TZID=UTC:20230412T154500
DTEND;TZID=UTC:20230412T184500
DTSTAMP:20260425T203703
CREATED:20230309T010249Z
LAST-MODIFIED:20230309T010249Z
UID:3562-1681314300-1681325100@motherlodechristian.com
SUMMARY:Girls Volleyball 6th\, 7th & 8th
DESCRIPTION:Girls VB 6th at 3:45pm\,  7th at 4:45pm  & 8th at 5:45pm MLCS @ Summerville Ele.
URL:https://motherlodechristian.com/event/girls-volleyball-6th-7th-8th-2/
END:VEVENT
BEGIN:VEVENT
DTSTART;TZID=UTC:20230411T154500
DTEND;TZID=UTC:20230411T184500
DTSTAMP:20260425T203703
CREATED:20230309T010011Z
LAST-MODIFIED:20230309T010011Z
UID:3560-1681227900-1681238700@motherlodechristian.com
SUMMARY:Girls Volleyball 6th\, 7th & 8th
DESCRIPTION:Girls VB  6th at 3:45pm \, 7th at 4:45pm  & 8th at 5:45pm   Sonora B @ MLCS
URL:https://motherlodechristian.com/event/girls-volleyball-6th-7th-8th/
END:VEVENT
BEGIN:VEVENT
DTSTART;TZID=UTC:20230407T080000
DTEND;TZID=UTC:20230410T170000
DTSTAMP:20260425T203703
CREATED:20220806T050500Z
LAST-MODIFIED:20220806T050500Z
UID:2835-1680854400-1681146000@motherlodechristian.com
SUMMARY:Easter Weekend - No School
DESCRIPTION:No school for Good Friday and Monday after Easter – K-8th grade
URL:https://motherlodechristian.com/event/easter-weekend-no-school/
END:VEVENT
BEGIN:VEVENT
DTSTART;TZID=UTC:20230405T154500
DTEND;TZID=UTC:20230405T174500
DTSTAMP:20260425T203703
CREATED:20230309T005720Z
LAST-MODIFIED:20230316T234314Z
UID:3558-1680709500-1680716700@motherlodechristian.com
SUMMARY:Girls Volleyball 8th & 7th
DESCRIPTION:Girls VB – 8th grade at 3:45pm   Gold Rush @ MLCS \n7th grade at 4:45pm  Waldorf @ MLCS
URL:https://motherlodechristian.com/event/girls-volleyball-8th-only/
END:VEVENT
BEGIN:VEVENT
DTSTART;TZID=UTC:20230403T154500
DTEND;TZID=UTC:20230403T184500
DTSTAMP:20260425T203703
CREATED:20230309T005519Z
LAST-MODIFIED:20230316T234142Z
UID:3556-1680536700-1680547500@motherlodechristian.com
SUMMARY:Girls Volleyball
DESCRIPTION:Girls VB Game-  7th 3:45pm & 8th 4:45pm  Tenya @ MLCS \n6th grade game at 5:45pm  Waldorf @ MLCS
URL:https://motherlodechristian.com/event/girls-volleyball-7th-8th/
END:VEVENT
BEGIN:VEVENT
DTSTART;VALUE=DATE:20230327
DTEND;VALUE=DATE:20230401
DTSTAMP:20260425T203703
CREATED:20220806T050345Z
LAST-MODIFIED:20220806T050345Z
UID:2833-1679875200-1680307199@motherlodechristian.com
SUMMARY:Spring Break - No School
DESCRIPTION:Spring Break – No School K-8th grade
URL:https://motherlodechristian.com/event/spring-break-no-school/
END:VEVENT
BEGIN:VEVENT
DTSTART;VALUE=DATE:20230321
DTEND;VALUE=DATE:20230322
DTSTAMP:20260425T203703
CREATED:20230309T012531Z
LAST-MODIFIED:20230309T012531Z
UID:3574-1679356800-1679443199@motherlodechristian.com
SUMMARY:K-8th Ski Day & Regular School day for non-skiers
DESCRIPTION:K-8th grade Ski Day at Dodge Ridge and it will also be a regular School day for students not skiing.
URL:https://motherlodechristian.com/event/k-8th-ski-day-regular-school-day-for-non-skiers/
END:VEVENT
BEGIN:VEVENT
DTSTART;VALUE=DATE:20230320
DTEND;VALUE=DATE:20230325
DTSTAMP:20260425T203703
CREATED:20220810T032101Z
LAST-MODIFIED:20220810T032101Z
UID:2921-1679270400-1679702399@motherlodechristian.com
SUMMARY:Teacher Appreciation Week
DESCRIPTION:
URL:https://motherlodechristian.com/event/teacher-appreciation-week/
END:VEVENT
BEGIN:VEVENT
DTSTART;VALUE=DATE:20230320
DTEND;VALUE=DATE:20230325
DTSTAMP:20260425T203703
CREATED:20220810T001728Z
LAST-MODIFIED:20230309T012100Z
UID:2909-1679270400-1679702399@motherlodechristian.com
SUMMARY:Girl's Volleyball Preseason Tournament 6th Grade @ MLCS / 7th & 8th @ Sonora Ele
DESCRIPTION:Girl’s Volleyball Preseason Tournament  6th grade only 3/20-3/24  @ MLCS \n7th & 8th Grade Tournament will be at Sonora Ele. – more information will go home once received with players.
URL:https://motherlodechristian.com/event/girls-volleyball-preseason-tournament/
END:VEVENT
BEGIN:VEVENT
DTSTART;TZID=UTC:20230317T080000
DTEND;TZID=UTC:20230317T113000
DTSTAMP:20260425T203703
CREATED:20220806T050248Z
LAST-MODIFIED:20220806T050248Z
UID:2831-1679040000-1679052600@motherlodechristian.com
SUMMARY:Grandparent's Day- Early Release
DESCRIPTION:Grandparent’s Day with a Early Release for K-8th grade at 11:30am
URL:https://motherlodechristian.com/event/grandparents-day-early-release/
END:VEVENT
BEGIN:VEVENT
DTSTART;TZID=UTC:20230314T153000
DTEND;TZID=UTC:20230314T163000
DTSTAMP:20260425T203703
CREATED:20220810T032922Z
LAST-MODIFIED:20220810T032922Z
UID:2940-1678807800-1678811400@motherlodechristian.com
SUMMARY:Parent Teacher Fellowship Meeting
DESCRIPTION:
URL:https://motherlodechristian.com/event/parent-teacher-fellowship-meeting-8/
END:VEVENT
BEGIN:VEVENT
DTSTART;TZID=UTC:20230314T074500
DTEND;TZID=UTC:20230314T150000
DTSTAMP:20260425T203703
CREATED:20230215T004413Z
LAST-MODIFIED:20230215T004413Z
UID:3519-1678779900-1678806000@motherlodechristian.com
SUMMARY:5th Grade Field Trip
DESCRIPTION:Meet at school at 7:45 leave by 8am.  State Capital and then possible Train Museum. \nStudent need to bring sack lunch. \nMore info will be sent home with students or by email. \n 
URL:https://motherlodechristian.com/event/5th-grade-field-trip/
END:VEVENT
BEGIN:VEVENT
DTSTART;TZID=UTC:20230308T163000
DTEND;TZID=UTC:20230308T173000
DTSTAMP:20260425T203703
CREATED:20220806T040835Z
LAST-MODIFIED:20230204T054200Z
UID:2777-1678293000-1678296600@motherlodechristian.com
SUMMARY:MLCS Board Meeting
DESCRIPTION:MLCS Board Meeting @4:30pm. \nOpen Session 4:30pm-5:30pm. Followed by closed session meeting.  Agendas are emailed before each meeting\, and we welcome all visitors.
URL:https://motherlodechristian.com/event/mlcs-board-meeting-7/
END:VEVENT
BEGIN:VEVENT
DTSTART;VALUE=DATE:20230228
DTEND;VALUE=DATE:20230301
DTSTAMP:20260425T203703
CREATED:20220806T045907Z
LAST-MODIFIED:20220806T045907Z
UID:2824-1677542400-1677628799@motherlodechristian.com
SUMMARY:2nd Trimester Grading Ends
DESCRIPTION:
URL:https://motherlodechristian.com/event/2nd-trimester-grading-ends/
END:VEVENT
BEGIN:VEVENT
DTSTART;VALUE=DATE:20230227
DTEND;VALUE=DATE:20230228
DTSTAMP:20260425T203703
CREATED:20220810T001602Z
LAST-MODIFIED:20220810T001602Z
UID:2907-1677456000-1677542399@motherlodechristian.com
SUMMARY:Girl's Volleyball begins
DESCRIPTION:Volleyball practice days and time TBA  along with game schedule.
URL:https://motherlodechristian.com/event/girls-volleyball-begins/
END:VEVENT
BEGIN:VEVENT
DTSTART;VALUE=DATE:20230224
DTEND;VALUE=DATE:20230226
DTSTAMP:20260425T203703
CREATED:20220806T045830Z
LAST-MODIFIED:20220806T045830Z
UID:2821-1677196800-1677369599@motherlodechristian.com
SUMMARY:Annual MLCS Jubilee Fundraiser /K-8th Early release 11:30am
DESCRIPTION:MLCS Jubilee Fundraiser – Early Release K-8th grade at 11:30am on Friday and Jubilee doors open at 4pm!  Come on down for our  7/8th grade dinner\, preview of Live Auction items\, Silent auction begins\, as well as book sale and pie booth.   Saturday doors open at 9am \nCan’t wait to see everyone at the Sonora Fairground’s Friday and Saturday!
URL:https://motherlodechristian.com/event/annual-mlcs-jubilee-fundraiser-k-8th-early-release-1130am/
END:VEVENT
BEGIN:VEVENT
DTSTART;VALUE=DATE:20230223
DTEND;VALUE=DATE:20230224
DTSTAMP:20260425T203703
CREATED:20230215T004848Z
LAST-MODIFIED:20230215T004848Z
UID:3523-1677110400-1677196799@motherlodechristian.com
SUMMARY:2nd Grade Field Trip
DESCRIPTION:Students will be going to the Post Office\, Library and park \nTimes TBA…. information will go home with students.
URL:https://motherlodechristian.com/event/2nd-grade-field-trip/
END:VEVENT
BEGIN:VEVENT
DTSTART;TZID=UTC:20230221T153000
DTEND;TZID=UTC:20230221T163000
DTSTAMP:20260425T203703
CREATED:20220810T032853Z
LAST-MODIFIED:20220810T032853Z
UID:2938-1676993400-1676997000@motherlodechristian.com
SUMMARY:Parent Teacher Fellowship Meeting
DESCRIPTION:
URL:https://motherlodechristian.com/event/parent-teacher-fellowship-meeting-7/
END:VEVENT
BEGIN:VEVENT
DTSTART;TZID=UTC:20230220T080000
DTEND;TZID=UTC:20230224T170000
DTSTAMP:20260425T203703
CREATED:20220810T001441Z
LAST-MODIFIED:20220810T001441Z
UID:2905-1676880000-1677258000@motherlodechristian.com
SUMMARY:Boy's Basketball Postseason Tournament
DESCRIPTION:Boy’s Basketball Postseason Tournament 2/20-2/24 . Game schedule and place TBA
URL:https://motherlodechristian.com/event/boys-basketball-postseason-tournament/
END:VEVENT
BEGIN:VEVENT
DTSTART;VALUE=DATE:20230220
DTEND;VALUE=DATE:20230221
DTSTAMP:20260425T203703
CREATED:20220806T045239Z
LAST-MODIFIED:20220806T045239Z
UID:2819-1676851200-1676937599@motherlodechristian.com
SUMMARY:No School
DESCRIPTION:President’s Day – No  School K-8th grade
URL:https://motherlodechristian.com/event/no-school-5/
END:VEVENT
BEGIN:VEVENT
DTSTART;TZID=UTC:20230217T154500
DTEND;TZID=UTC:20230217T170000
DTSTAMP:20260425T203703
CREATED:20230105T015651Z
LAST-MODIFIED:20230215T005244Z
UID:3340-1676648700-1676653200@motherlodechristian.com
SUMMARY:Boys Basketball 8th Grade Only
DESCRIPTION:Gold Rush @ MLCS – game time 3:45   8th Grade Only
URL:https://motherlodechristian.com/event/boys-basketball-8th-grade-only-6/
END:VEVENT
BEGIN:VEVENT
DTSTART;TZID=UTC:20230216T154500
DTEND;TZID=UTC:20230216T170000
DTSTAMP:20260425T203703
CREATED:20230105T015501Z
LAST-MODIFIED:20230215T005316Z
UID:3337-1676562300-1676566800@motherlodechristian.com
SUMMARY:Boys Basketball 8th Grade Only
DESCRIPTION:Belleview @ MLCS   – game time 3:45  8th Grade Only
URL:https://motherlodechristian.com/event/boys-basketball-8th-grade-only-5/
END:VEVENT
BEGIN:VEVENT
DTSTART;TZID=UTC:20230215T154500
DTEND;TZID=UTC:20230215T180000
DTSTAMP:20260425T203703
CREATED:20230105T015347Z
LAST-MODIFIED:20230105T015347Z
UID:3335-1676475900-1676484000@motherlodechristian.com
SUMMARY:Boys Basketball
DESCRIPTION:Jamestown @ MLCS – game times 3:45 and 4:45
URL:https://motherlodechristian.com/event/boys-basketball-5/
END:VEVENT
BEGIN:VEVENT
DTSTART;VALUE=DATE:20230214
DTEND;VALUE=DATE:20230215
DTSTAMP:20260425T203703
CREATED:20220806T045138Z
LAST-MODIFIED:20220806T045138Z
UID:2817-1676332800-1676419199@motherlodechristian.com
SUMMARY:PTF Balloon-a-Gram  Fundraiser
DESCRIPTION:PTF Balloon-a-Gram fundraiser – Preschool thru 8th grade.  Balloons will be delivered today!
URL:https://motherlodechristian.com/event/ptf-balloon-a-gram-fundraiser/
END:VEVENT
BEGIN:VEVENT
DTSTART;VALUE=DATE:20230213
DTEND;VALUE=DATE:20230214
DTSTAMP:20260425T203703
CREATED:20220806T044816Z
LAST-MODIFIED:20220806T044816Z
UID:2815-1676246400-1676332799@motherlodechristian.com
SUMMARY:No School
DESCRIPTION:Lincoln’s Day – No School  K-8th Grade
URL:https://motherlodechristian.com/event/no-school-4/
END:VEVENT
BEGIN:VEVENT
DTSTART;TZID=UTC:20230209T154500
DTEND;TZID=UTC:20230209T170000
DTSTAMP:20260425T203703
CREATED:20230105T015030Z
LAST-MODIFIED:20230105T015111Z
UID:3331-1675957500-1675962000@motherlodechristian.com
SUMMARY:Boys Basketball 8th Grade Only
DESCRIPTION:Twain Harte @ MLCS – game time 3:45   8th Grade Only.
URL:https://motherlodechristian.com/event/boys-basketball-8th-grade-only-3/
END:VEVENT
BEGIN:VEVENT
DTSTART;TZID=UTC:20230208T163000
DTEND;TZID=UTC:20230208T173000
DTSTAMP:20260425T203703
CREATED:20220806T040750Z
LAST-MODIFIED:20230204T054307Z
UID:2775-1675873800-1675877400@motherlodechristian.com
SUMMARY:MLCS Board Meeting
DESCRIPTION:MLCS Board Meeting @4:30pm. \nOpen Session 4:30pm-5:30pm. Followed by closed session meeting.  Agendas are emailed before each meeting\, and we welcome all visitors.
URL:https://motherlodechristian.com/event/mlcs-board-meeting-6/
END:VEVENT
BEGIN:VEVENT
DTSTART;TZID=UTC:20230207T154500
DTEND;TZID=UTC:20230207T180000
DTSTAMP:20260425T203703
CREATED:20230105T014934Z
LAST-MODIFIED:20230105T014934Z
UID:3329-1675784700-1675792800@motherlodechristian.com
SUMMARY:Boys Basketball
DESCRIPTION:MLCS @ Soulsbyville – game times 3:45 and 4:45.
URL:https://motherlodechristian.com/event/boys-basketball-4/
END:VEVENT
BEGIN:VEVENT
DTSTART;TZID=UTC:20230202T154500
DTEND;TZID=UTC:20230202T170000
DTSTAMP:20260425T203703
CREATED:20230105T014818Z
LAST-MODIFIED:20230105T014818Z
UID:3327-1675352700-1675357200@motherlodechristian.com
SUMMARY:Boys Basketball 8th Grade Only
DESCRIPTION:Columbia @ MLCS – game starts at 3:45   8th Grade Only
URL:https://motherlodechristian.com/event/boys-basketball-8th-grade-only-2/
END:VEVENT
BEGIN:VEVENT
DTSTART;TZID=UTC:20230201T154500
DTEND;TZID=UTC:20230201T180000
DTSTAMP:20260425T203703
CREATED:20230105T014642Z
LAST-MODIFIED:20230105T014642Z
UID:3325-1675266300-1675274400@motherlodechristian.com
SUMMARY:Boys Basketball
DESCRIPTION:MLCS @ Summerville – game times 3:45 and 4:45
URL:https://motherlodechristian.com/event/boys-basketball-3/
END:VEVENT
END:VCALENDAR