BEGIN:VCALENDAR
VERSION:2.0
PRODID:-//Motherlode Christian School - ECPv6.15.20//NONSGML v1.0//EN
CALSCALE:GREGORIAN
METHOD:PUBLISH
X-WR-CALNAME:Motherlode Christian School
X-ORIGINAL-URL:https://motherlodechristian.com
X-WR-CALDESC:Events for Motherlode Christian School
REFRESH-INTERVAL;VALUE=DURATION:PT1H
X-Robots-Tag:noindex
X-PUBLISHED-TTL:PT1H
BEGIN:VTIMEZONE
TZID:UTC
BEGIN:STANDARD
TZOFFSETFROM:+0000
TZOFFSETTO:+0000
TZNAME:UTC
DTSTART:20220101T000000
END:STANDARD
END:VTIMEZONE
BEGIN:VEVENT
DTSTART;VALUE=DATE:20231106
DTEND;VALUE=DATE:20231110
DTSTAMP:20260425T071236
CREATED:20231027T235323Z
LAST-MODIFIED:20231028T003952Z
UID:4081-1699228800-1699574399@motherlodechristian.com
SUMMARY:Operation Christmas Child Shoeboxes
DESCRIPTION:Collection week for the shoeboxes is November 6th through the 9th! \nNo school on November 10th so please turn in by the 9th.
URL:https://motherlodechristian.com/event/operation-christmas-child-shoeboxes/
END:VEVENT
BEGIN:VEVENT
DTSTART;TZID=UTC:20231103T143000
DTEND;TZID=UTC:20231103T183000
DTSTAMP:20260425T071236
CREATED:20230907T014513Z
LAST-MODIFIED:20230907T014513Z
UID:4053-1699021800-1699036200@motherlodechristian.com
SUMMARY:Cross Country - Tri-County Meet
DESCRIPTION:Tri-County Cross Country Meet @ Frogtown in Angels Camp 2:30
URL:https://motherlodechristian.com/event/cross-country-tri-county-meet/
END:VEVENT
BEGIN:VEVENT
DTSTART;VALUE=DATE:20231101
DTEND;VALUE=DATE:20231102
DTSTAMP:20260425T071236
CREATED:20230608T010759Z
LAST-MODIFIED:20230608T010759Z
UID:3684-1698796800-1698883199@motherlodechristian.com
SUMMARY:No School - Teacher/Staff In-Service Day
DESCRIPTION:
URL:https://motherlodechristian.com/event/no-school-teacher-staff-in-service-day/
END:VEVENT
BEGIN:VEVENT
DTSTART;VALUE=DATE:20231027
DTEND;VALUE=DATE:20231028
DTSTAMP:20260425T071236
CREATED:20230608T010006Z
LAST-MODIFIED:20230608T010150Z
UID:3682-1698364800-1698451199@motherlodechristian.com
SUMMARY:Picture Retakes - Preschool thru 8th Grade
DESCRIPTION:Pictures will be taken first thing in the morning.
URL:https://motherlodechristian.com/event/picture-retakes-preschool-thru-8th-grade/
END:VEVENT
BEGIN:VEVENT
DTSTART;TZID=UTC:20231025T153000
DTEND;TZID=UTC:20231025T183000
DTSTAMP:20260425T071236
CREATED:20230907T014410Z
LAST-MODIFIED:20230907T014410Z
UID:4051-1698247800-1698258600@motherlodechristian.com
SUMMARY:Cross Country - Tuolumne County Meet
DESCRIPTION:Tuolumne County Cross County Meet – Wildcat Ranch 3:30
URL:https://motherlodechristian.com/event/cross-country-tuolumne-county-meet/
END:VEVENT
BEGIN:VEVENT
DTSTART;TZID=UTC:20231025T093000
DTEND;TZID=UTC:20231025T110000
DTSTAMP:20260425T071236
CREATED:20231005T234840Z
LAST-MODIFIED:20231005T234840Z
UID:4071-1698226200-1698231600@motherlodechristian.com
SUMMARY:Evans / Warfield - Kinder Field Trip
DESCRIPTION:Evans/Warfield Kinder only Field Trip – walking to the Gardens/Pumpkin patch 9:30am – 11am.
URL:https://motherlodechristian.com/event/evans-warfield-kinder-field-trip/
END:VEVENT
BEGIN:VEVENT
DTSTART;TZID=UTC:20231025T090000
DTEND;TZID=UTC:20231025T230000
DTSTAMP:20260425T071236
CREATED:20231005T235325Z
LAST-MODIFIED:20231005T235325Z
UID:4075-1698224400-1698274800@motherlodechristian.com
SUMMARY:1st Grade Field Trip
DESCRIPTION:First Grade to Covers at 9am.
URL:https://motherlodechristian.com/event/1st-grade-field-trip-2/
END:VEVENT
BEGIN:VEVENT
DTSTART;TZID=UTC:20231025T083000
DTEND;TZID=UTC:20231025T143000
DTSTAMP:20260425T071236
CREATED:20231005T230048Z
LAST-MODIFIED:20231005T230048Z
UID:4063-1698222600-1698244200@motherlodechristian.com
SUMMARY:2nd Grade Field Trip
DESCRIPTION:Del Osso Farms –  8:30am departure and return at 2:30pm
URL:https://motherlodechristian.com/event/2nd-grade-field-trip-2/
END:VEVENT
BEGIN:VEVENT
DTSTART;TZID=UTC:20231024T100000
DTEND;TZID=UTC:20231024T130000
DTSTAMP:20260425T071236
CREATED:20231005T234129Z
LAST-MODIFIED:20231005T234129Z
UID:4067-1698141600-1698152400@motherlodechristian.com
SUMMARY:Evans/Warfield  Field Trip
DESCRIPTION:Evans K/1st  & Warfield – Field Trip to Indigeny 10am – 1pm .
URL:https://motherlodechristian.com/event/evans-warfield-field-trip/
END:VEVENT
BEGIN:VEVENT
DTSTART;VALUE=DATE:20231020
DTEND;VALUE=DATE:20231021
DTSTAMP:20260425T071236
CREATED:20230608T005849Z
LAST-MODIFIED:20230608T005849Z
UID:3680-1697760000-1697846399@motherlodechristian.com
SUMMARY:PTF Jog-A-Thon  / Early Dismissal K-8th at 11:30a.m.
DESCRIPTION:PTF Jog-A-Thon Preschool thru 8th Grade. \nRunning times TBA there will also be an Early Dismissal for K-8th Grades at 11;30a.m.
URL:https://motherlodechristian.com/event/ptf-jog-a-thon-early-dismissal-k-8th-at-1130a-m/
END:VEVENT
BEGIN:VEVENT
DTSTART;TZID=UTC:20231019T073000
DTEND;TZID=UTC:20231019T150000
DTSTAMP:20260425T071236
CREATED:20231005T225025Z
LAST-MODIFIED:20231005T225025Z
UID:4059-1697700600-1697727600@motherlodechristian.com
SUMMARY:3rd Grade Field Trip
DESCRIPTION:Yosemite Trip – depart at 7:30am and return at 3pm. \nGeology and nature study
URL:https://motherlodechristian.com/event/3rd-grade-field-trip/
END:VEVENT
BEGIN:VEVENT
DTSTART;TZID=UTC:20231018T153000
DTEND;TZID=UTC:20231018T183000
DTSTAMP:20260425T071236
CREATED:20230907T014302Z
LAST-MODIFIED:20230907T014302Z
UID:4049-1697643000-1697653800@motherlodechristian.com
SUMMARY:Cross Country - Black Creek Run
DESCRIPTION:Black Creek Run @ Copperopolis 3:30
URL:https://motherlodechristian.com/event/cross-country-black-creek-run/
END:VEVENT
BEGIN:VEVENT
DTSTART;TZID=UTC:20231016T153000
DTEND;TZID=UTC:20231020T193000
DTSTAMP:20260425T071236
CREATED:20230907T013047Z
LAST-MODIFIED:20230907T013047Z
UID:4040-1697470200-1697830200@motherlodechristian.com
SUMMARY:Girls Basketball Postseason Tournament
DESCRIPTION:Girls Basketball Postseason Tournament – 10/16  – 10/20   more information TBA
URL:https://motherlodechristian.com/event/girls-basketball-postseason-tournament/
END:VEVENT
BEGIN:VEVENT
DTSTART;TZID=UTC:20231012T154500
DTEND;TZID=UTC:20231012T180000
DTSTAMP:20260425T071236
CREATED:20230907T012756Z
LAST-MODIFIED:20230907T012756Z
UID:4038-1697125500-1697133600@motherlodechristian.com
SUMMARY:Girls Basketball
DESCRIPTION:Jamestown @ MLCS  6th grade at 3:45 and 7th/8th to follow
URL:https://motherlodechristian.com/event/girls-basketball-14/
END:VEVENT
BEGIN:VEVENT
DTSTART;TZID=UTC:20231012T100000
DTEND;TZID=UTC:20231012T130000
DTSTAMP:20260425T071236
CREATED:20231005T231058Z
LAST-MODIFIED:20231005T234427Z
UID:4065-1697104800-1697115600@motherlodechristian.com
SUMMARY:Evans  K/1 & Warfield  Field Trip
DESCRIPTION:Evans K/1st & Warfield –  Field Trip to Blue Oaks Farms 10am – 1pm
URL:https://motherlodechristian.com/event/kinder-field-trip-3/
END:VEVENT
BEGIN:VEVENT
DTSTART;TZID=UTC:20231011T154500
DTEND;TZID=UTC:20231011T183000
DTSTAMP:20260425T071236
CREATED:20230907T014140Z
LAST-MODIFIED:20230907T014140Z
UID:4047-1697039100-1697049000@motherlodechristian.com
SUMMARY:Cross Country- MLCS Cougar Run
DESCRIPTION:Cross Country Meet at Black Oak Pavilion in Tuolumne 3:30
URL:https://motherlodechristian.com/event/cross-country-mlcs-cougar-run/
END:VEVENT
BEGIN:VEVENT
DTSTART;TZID=UTC:20231009T154500
DTEND;TZID=UTC:20231009T180000
DTSTAMP:20260425T071236
CREATED:20230907T012659Z
LAST-MODIFIED:20230907T012659Z
UID:4036-1696866300-1696874400@motherlodechristian.com
SUMMARY:Girls Basketball
DESCRIPTION:MLCS @ Curtis Creek  6th grade at 3:45 with 7th/8th to follow \n 
URL:https://motherlodechristian.com/event/girls-basketball-13/
END:VEVENT
BEGIN:VEVENT
DTSTART;TZID=UTC:20231009T140000
DTEND;TZID=UTC:20231009T150000
DTSTAMP:20260425T071236
CREATED:20231005T225423Z
LAST-MODIFIED:20231005T225423Z
UID:4061-1696860000-1696863600@motherlodechristian.com
SUMMARY:Parent Teacher Fellowship Meeting
DESCRIPTION:PTF will meet at 2pm in the Art Room.  Hope to see you there. \n 
URL:https://motherlodechristian.com/event/parent-teacher-fellowship-meeting-11/
END:VEVENT
BEGIN:VEVENT
DTSTART;TZID=UTC:20231006T081500
DTEND;TZID=UTC:20231006T140000
DTSTAMP:20260425T071236
CREATED:20231005T235143Z
LAST-MODIFIED:20231006T003052Z
UID:4073-1696580100-1696600800@motherlodechristian.com
SUMMARY:4th Field Trip
DESCRIPTION:4th Grade to Big Trees – depart at 8:15 and return by 2pm
URL:https://motherlodechristian.com/event/4th-field-trip/
END:VEVENT
BEGIN:VEVENT
DTSTART;TZID=UTC:20231005T154500
DTEND;TZID=UTC:20231005T170000
DTSTAMP:20260425T071236
CREATED:20230907T012430Z
LAST-MODIFIED:20230907T012453Z
UID:4032-1696520700-1696525200@motherlodechristian.com
SUMMARY:Girls Basketball 7th/8th only
DESCRIPTION:Twain Harte @ MLCS  7th/8th only 3:45 start time.
URL:https://motherlodechristian.com/event/girls-basketball-12/
END:VEVENT
BEGIN:VEVENT
DTSTART;TZID=UTC:20231004T154500
DTEND;TZID=UTC:20231004T180000
DTSTAMP:20260425T071236
CREATED:20230907T012316Z
LAST-MODIFIED:20230907T012316Z
UID:4030-1696434300-1696442400@motherlodechristian.com
SUMMARY:Girls Basketball
DESCRIPTION:MLCS @ Summerville  6th grade at 3:45 and 7th/8th to follow
URL:https://motherlodechristian.com/event/girls-basketball-11/
END:VEVENT
BEGIN:VEVENT
DTSTART;TZID=UTC:20230928T154500
DTEND;TZID=UTC:20230928T180000
DTSTAMP:20260425T071236
CREATED:20230907T012216Z
LAST-MODIFIED:20230907T012216Z
UID:4028-1695915900-1695924000@motherlodechristian.com
SUMMARY:Girls Basketball
DESCRIPTION:Sonora @ MLCS  6th grade at 3:45 and 7th/8th to follow
URL:https://motherlodechristian.com/event/girls-basketball-10/
END:VEVENT
BEGIN:VEVENT
DTSTART;TZID=UTC:20230927T154500
DTEND;TZID=UTC:20230927T180000
DTSTAMP:20260425T071236
CREATED:20230907T012118Z
LAST-MODIFIED:20230907T012118Z
UID:4026-1695829500-1695837600@motherlodechristian.com
SUMMARY:Girls Basketball
DESCRIPTION:MLCS @ Belleview  6th grade game at 3:45 with 7th/8th to follow
URL:https://motherlodechristian.com/event/girls-basketball-9/
END:VEVENT
BEGIN:VEVENT
DTSTART;TZID=UTC:20230927T153000
DTEND;TZID=UTC:20230927T180000
DTSTAMP:20260425T071236
CREATED:20230907T014014Z
LAST-MODIFIED:20230907T014014Z
UID:4045-1695828600-1695837600@motherlodechristian.com
SUMMARY:Cross Country  - Avery Middle School Run
DESCRIPTION:Cross Country Meet in Avery 3:30
URL:https://motherlodechristian.com/event/cross-country-avery-middle-school-run/
END:VEVENT
BEGIN:VEVENT
DTSTART;VALUE=DATE:20230927
DTEND;VALUE=DATE:20230930
DTSTAMP:20260425T071236
CREATED:20230608T004931Z
LAST-MODIFIED:20230608T004931Z
UID:3677-1695772800-1696031999@motherlodechristian.com
SUMMARY:Parent Teacher Conferences - 11:30 Early Dismissal
DESCRIPTION:Parent Teacher Conferences for K-8th grade. Early Dismissal at 11:30.
URL:https://motherlodechristian.com/event/parent-teacher-conferences-1130-early-dismissal/
END:VEVENT
BEGIN:VEVENT
DTSTART;TZID=UTC:20230925T154500
DTEND;TZID=UTC:20230925T180000
DTSTAMP:20260425T071236
CREATED:20230907T012005Z
LAST-MODIFIED:20230907T012005Z
UID:4024-1695656700-1695664800@motherlodechristian.com
SUMMARY:Girls Basketball
DESCRIPTION:Soulsbyville @ MLCS \n6th grade girls @ 3:45  and 7th/8th to follow
URL:https://motherlodechristian.com/event/girls-basketball-8/
END:VEVENT
BEGIN:VEVENT
DTSTART;VALUE=DATE:20230922
DTEND;VALUE=DATE:20230923
DTSTAMP:20260425T071236
CREATED:20230608T004658Z
LAST-MODIFIED:20230608T004658Z
UID:3675-1695340800-1695427199@motherlodechristian.com
SUMMARY:Progress Report Grading ends
DESCRIPTION:1st Trimester Progress Report Grading period ends for K-8th grades.
URL:https://motherlodechristian.com/event/progress-report-grading-ends/
END:VEVENT
BEGIN:VEVENT
DTSTART;TZID=UTC:20230920T153000
DTEND;TZID=UTC:20230920T180000
DTSTAMP:20260425T071236
CREATED:20230907T013524Z
LAST-MODIFIED:20230907T013524Z
UID:4042-1695223800-1695232800@motherlodechristian.com
SUMMARY:Cross Country - Rapp's Run
DESCRIPTION:Rapp’s Run at Sonora Ele. 3:30pm
URL:https://motherlodechristian.com/event/cross-country-rapps-run/
END:VEVENT
BEGIN:VEVENT
DTSTART;TZID=UTC:20230918T154500
DTEND;TZID=UTC:20230918T170000
DTSTAMP:20260425T071236
CREATED:20230907T011819Z
LAST-MODIFIED:20230907T012552Z
UID:4022-1695051900-1695056400@motherlodechristian.com
SUMMARY:Girls Basketball 7th/8th only
DESCRIPTION:MLCS @ Tenaya  7th/8th only  3:45 start time.
URL:https://motherlodechristian.com/event/girls-basketball-7/
END:VEVENT
BEGIN:VEVENT
DTSTART;VALUE=DATE:20230915
DTEND;VALUE=DATE:20230916
DTSTAMP:20260425T071236
CREATED:20230608T004447Z
LAST-MODIFIED:20230608T005127Z
UID:3673-1694736000-1694822399@motherlodechristian.com
SUMMARY:School Picture Day - Preschool thru 8th Grade
DESCRIPTION:
URL:https://motherlodechristian.com/event/preschool-and-k-8th-grade-school-picture-day/
END:VEVENT
END:VCALENDAR