BEGIN:VCALENDAR
VERSION:2.0
PRODID:-//Motherlode Christian School - ECPv6.15.20//NONSGML v1.0//EN
CALSCALE:GREGORIAN
METHOD:PUBLISH
X-WR-CALNAME:Motherlode Christian School
X-ORIGINAL-URL:https://motherlodechristian.com
X-WR-CALDESC:Events for Motherlode Christian School
REFRESH-INTERVAL;VALUE=DURATION:PT1H
X-Robots-Tag:noindex
X-PUBLISHED-TTL:PT1H
BEGIN:VTIMEZONE
TZID:America/Los_Angeles
BEGIN:DAYLIGHT
TZOFFSETFROM:-0800
TZOFFSETTO:-0700
TZNAME:PDT
DTSTART:20240310T100000
END:DAYLIGHT
BEGIN:STANDARD
TZOFFSETFROM:-0700
TZOFFSETTO:-0800
TZNAME:PST
DTSTART:20241103T090000
END:STANDARD
BEGIN:DAYLIGHT
TZOFFSETFROM:-0800
TZOFFSETTO:-0700
TZNAME:PDT
DTSTART:20250309T100000
END:DAYLIGHT
BEGIN:STANDARD
TZOFFSETFROM:-0700
TZOFFSETTO:-0800
TZNAME:PST
DTSTART:20251102T090000
END:STANDARD
BEGIN:DAYLIGHT
TZOFFSETFROM:-0800
TZOFFSETTO:-0700
TZNAME:PDT
DTSTART:20260308T100000
END:DAYLIGHT
BEGIN:STANDARD
TZOFFSETFROM:-0700
TZOFFSETTO:-0800
TZNAME:PST
DTSTART:20261101T090000
END:STANDARD
END:VTIMEZONE
BEGIN:VTIMEZONE
TZID:UTC
BEGIN:STANDARD
TZOFFSETFROM:+0000
TZOFFSETTO:+0000
TZNAME:UTC
DTSTART:20240101T000000
END:STANDARD
END:VTIMEZONE
BEGIN:VEVENT
DTSTART;TZID=America/Los_Angeles:20250417T153000
DTEND;TZID=America/Los_Angeles:20250417T184500
DTSTAMP:20260424T075333
CREATED:20250320T163851Z
LAST-MODIFIED:20250320T163851Z
UID:5029-1744903800-1744915500@motherlodechristian.com
SUMMARY:Girls Volleyball 6th/7th/8th grades
DESCRIPTION:Girls Volleyball 6th/7th/8th grades Soulsbyville at MLCS. \nGame times are as follows: 6th 3:45pm / 7th 4:45pm  and 8th  5:45pm.
URL:https://motherlodechristian.com/event/girls-volleyball-6th-7th-8th-grades-2/
END:VEVENT
BEGIN:VEVENT
DTSTART;VALUE=DATE:20250417
DTEND;VALUE=DATE:20250418
DTSTAMP:20260424T075333
CREATED:20240903T232952Z
LAST-MODIFIED:20240924T010759Z
UID:4608-1744848000-1744934399@motherlodechristian.com
SUMMARY:Early Release K-8th @ 11:30a.m. - Parent Conferences As Needed
DESCRIPTION:Parent Conferences As Needed – Early Release K-8th @ 11:30a.m.
URL:https://motherlodechristian.com/event/parent-conferences-as-needed-early-release-k-8th-1130a-m/
END:VEVENT
BEGIN:VEVENT
DTSTART;TZID=America/Los_Angeles:20250415T153000
DTEND;TZID=America/Los_Angeles:20250415T184500
DTSTAMP:20260424T075333
CREATED:20250320T163505Z
LAST-MODIFIED:20250320T163505Z
UID:5026-1744731000-1744742700@motherlodechristian.com
SUMMARY:Girls Volleyball games 6th/7th/8th
DESCRIPTION:Girls Volleyball 6th/7th/8th grades play at Summerville Elementary. (Playing Blue Team). \nGame times are as follows: 6th 3:45pm / 7th 4:45pm  and 8th  5:45pm.
URL:https://motherlodechristian.com/event/girls-volleyball-games-6th-7th-8th/
END:VEVENT
BEGIN:VEVENT
DTSTART;TZID=America/Los_Angeles:20250414T153000
DTEND;TZID=America/Los_Angeles:20250414T164500
DTSTAMP:20260424T075333
CREATED:20250320T163231Z
LAST-MODIFIED:20250320T163632Z
UID:5024-1744644600-1744649100@motherlodechristian.com
SUMMARY:Girls Volleyball 7th Grade
DESCRIPTION:Girls Volleyball 7th grade only plays Soulsbyville B team at MLCS \nGame time as follows: 3:45pm.
URL:https://motherlodechristian.com/event/girls-volleyball-7th-grade/
END:VEVENT
BEGIN:VEVENT
DTSTART;VALUE=DATE:20250411
DTEND;VALUE=DATE:20250412
DTSTAMP:20260424T075333
CREATED:20240903T232811Z
LAST-MODIFIED:20240903T232811Z
UID:4606-1744329600-1744415999@motherlodechristian.com
SUMMARY:3rd Trimester Progress Report Grading Ends
DESCRIPTION:
URL:https://motherlodechristian.com/event/3rd-trimester-progress-report-grading-ends-2/
END:VEVENT
BEGIN:VEVENT
DTSTART;TZID=America/Los_Angeles:20250409T153000
DTEND;TZID=America/Los_Angeles:20250409T184500
DTSTAMP:20260424T075333
CREATED:20250320T163021Z
LAST-MODIFIED:20250320T163021Z
UID:5022-1744212600-1744224300@motherlodechristian.com
SUMMARY:Girls Volleyball 6th/7th/8th Grade games
DESCRIPTION:Girls Volleyball 6th/7th/8th grades at Twain Harte Elementary. \nGame times are as follows: 6th 3:45pm / 7th 4:45pm and 8th 5:45pm.
URL:https://motherlodechristian.com/event/girls-volleyball-6th-7th-8th-grade-games-2/
END:VEVENT
BEGIN:VEVENT
DTSTART;TZID=UTC:20250408T163000
DTEND;TZID=UTC:20250408T173000
DTSTAMP:20260424T075333
CREATED:20240905T042138Z
LAST-MODIFIED:20240905T042138Z
UID:4675-1744129800-1744133400@motherlodechristian.com
SUMMARY:MLCS Board Meeting 4:30p.m.
DESCRIPTION:The MLCS Board meets the 2nd Tuesday of every month in the Chapel.  Open Session starts at 4:30p.m. \nClosed Session will start at approximately 5:30p.m. \nEveryone is encouraged to come\, and agendas are emailed out to families before the scheduled meeting. \nPrevious Minutes can also be found on the website under “About”\, then click on “Board”.
URL:https://motherlodechristian.com/event/mlcs-board-meeting-430p-m-8/
END:VEVENT
BEGIN:VEVENT
DTSTART;TZID=UTC:20250408T140000
DTEND;TZID=UTC:20250408T150000
DTSTAMP:20260424T075333
CREATED:20240905T044500Z
LAST-MODIFIED:20240905T044500Z
UID:4698-1744120800-1744124400@motherlodechristian.com
SUMMARY:PTF Meeting 2p.m.
DESCRIPTION:PTF meets every 2nd Tuesday of the month at 2p.m. \nGet to know the school\, other families and be a part of making a difference here at MLCS.
URL:https://motherlodechristian.com/event/ptf-meeting-2p-m-8/
END:VEVENT
BEGIN:VEVENT
DTSTART;VALUE=DATE:20250331
DTEND;VALUE=DATE:20250405
DTSTAMP:20260424T075333
CREATED:20240903T232656Z
LAST-MODIFIED:20240903T232656Z
UID:4604-1743379200-1743811199@motherlodechristian.com
SUMMARY:Spring Break - NO School K-8th
DESCRIPTION:
URL:https://motherlodechristian.com/event/spring-break-no-school-k-8th/
END:VEVENT
BEGIN:VEVENT
DTSTART;TZID=America/Los_Angeles:20250328T090000
DTEND;TZID=America/Los_Angeles:20250328T143000
DTSTAMP:20260424T075333
CREATED:20250319T223039Z
LAST-MODIFIED:20250319T223039Z
UID:5016-1743152400-1743172200@motherlodechristian.com
SUMMARY:3rd Grade Field Trip
DESCRIPTION:the 3rd grade will be going to New Melones Lake to the release the trout they raised.
URL:https://motherlodechristian.com/event/3rd-grade-field-trip-3/
END:VEVENT
BEGIN:VEVENT
DTSTART;TZID=America/Los_Angeles:20250327T153000
DTEND;TZID=America/Los_Angeles:20250327T184500
DTSTAMP:20260424T075333
CREATED:20250320T162142Z
LAST-MODIFIED:20250320T162142Z
UID:5020-1743089400-1743101100@motherlodechristian.com
SUMMARY:Girls Volleyball 6th/7th/8th grade games
DESCRIPTION:Girls Volleyball 6th/7th/8th grades play Jamestown at MLCS. \nGame times are as follows: 6th 3:45pm / 7th 4:45pm  and 8th  5:45pm.
URL:https://motherlodechristian.com/event/girls-volleyball-6th-7th-8th-grade-games/
END:VEVENT
BEGIN:VEVENT
DTSTART;TZID=America/Los_Angeles:20250325T153000
DTEND;TZID=America/Los_Angeles:20250325T184500
DTSTAMP:20260424T075333
CREATED:20250320T162001Z
LAST-MODIFIED:20250320T162001Z
UID:5018-1742916600-1742928300@motherlodechristian.com
SUMMARY:Girls Volleyball 6th/7th/8th grades
DESCRIPTION:Girls Volleyball 6th/7th/8th grades play Curtis Creek at MLCS. \nGame times are as follows: 6th 3:45pm / 7th 4:45pm  and 8th  5:45pm
URL:https://motherlodechristian.com/event/girls-volleyball-6th-7th-8th-grades/
END:VEVENT
BEGIN:VEVENT
DTSTART;TZID=America/Los_Angeles:20250324T120000
DTEND;TZID=America/Los_Angeles:20250324T133000
DTSTAMP:20260424T075333
CREATED:20250305T165702Z
LAST-MODIFIED:20250305T165702Z
UID:5005-1742817600-1742823000@motherlodechristian.com
SUMMARY:Kinder Field Trip - gymnastics
DESCRIPTION:Kinder Field Trip – Gymnastics $10  fee and is a family friendly event.
URL:https://motherlodechristian.com/event/kinder-field-trip-gymnastics/
END:VEVENT
BEGIN:VEVENT
DTSTART;TZID=America/Los_Angeles:20250321T063000
DTEND;TZID=America/Los_Angeles:20250321T153000
DTSTAMP:20260424T075333
CREATED:20241223T200018Z
LAST-MODIFIED:20241223T200138Z
UID:4837-1742538600-1742571000@motherlodechristian.com
SUMMARY:4th Grade Field Trip
DESCRIPTION:The 4th Grade will be going to San Juan Bautista on 3/21. \nWe will leave the school at 6:30am and plan on being back by 3:30pm.
URL:https://motherlodechristian.com/event/4th-grade-field-trip-3/
END:VEVENT
BEGIN:VEVENT
DTSTART;VALUE=DATE:20250314
DTEND;VALUE=DATE:20250315
DTSTAMP:20260424T075333
CREATED:20240903T232603Z
LAST-MODIFIED:20240924T010427Z
UID:4602-1741910400-1741996799@motherlodechristian.com
SUMMARY:Early Release Grandparents' Day K-8th
DESCRIPTION:Grandparents’ Day & Early Release K-8th grade’s\, Time to be announced.
URL:https://motherlodechristian.com/event/grandparents-day-early-release-k-8th/
END:VEVENT
BEGIN:VEVENT
DTSTART;TZID=America/Los_Angeles:20250313T090000
DTEND;TZID=America/Los_Angeles:20250313T110000
DTSTAMP:20260424T075333
CREATED:20250311T162816Z
LAST-MODIFIED:20250311T162816Z
UID:5007-1741856400-1741863600@motherlodechristian.com
SUMMARY:8th Grade Field Trip
DESCRIPTION:The 8th Graders will be going to My Act to see “Anything Goes” .  This is part of their fine arts learning.
URL:https://motherlodechristian.com/event/8th-grade-field-trip-2/
END:VEVENT
BEGIN:VEVENT
DTSTART;TZID=UTC:20250311T163000
DTEND;TZID=UTC:20250311T173000
DTSTAMP:20260424T075333
CREATED:20240905T042044Z
LAST-MODIFIED:20240905T042044Z
UID:4673-1741710600-1741714200@motherlodechristian.com
SUMMARY:MLCS Board Meeting 4:30p.m.
DESCRIPTION:The MLCS Board meets the 2nd Tuesday of every month in the Chapel.  Open Session starts at 4:30p.m. \nClosed Session will start at approximately 5:30p.m. \nEveryone is encouraged to come\, and agendas are emailed out to families before the scheduled meeting. \nPrevious Minutes can also be found on the website under “About”\, then click on “Board”.
URL:https://motherlodechristian.com/event/mlcs-board-meeting-430p-m-7/
END:VEVENT
BEGIN:VEVENT
DTSTART;TZID=UTC:20250311T140000
DTEND;TZID=UTC:20250311T150000
DTSTAMP:20260424T075333
CREATED:20240924T010540Z
LAST-MODIFIED:20240924T010540Z
UID:4741-1741701600-1741705200@motherlodechristian.com
SUMMARY:PTF 2-3pm
DESCRIPTION:
URL:https://motherlodechristian.com/event/ptf-2-3pm/
END:VEVENT
BEGIN:VEVENT
DTSTART;VALUE=DATE:20250305
DTEND;VALUE=DATE:20250306
DTSTAMP:20260424T075333
CREATED:20240903T231209Z
LAST-MODIFIED:20250220T172555Z
UID:4596-1741132800-1741219199@motherlodechristian.com
SUMMARY:2nd Trimester Grading Period Ends
DESCRIPTION:
URL:https://motherlodechristian.com/event/2nd-trimester-grading-period-ends/
END:VEVENT
BEGIN:VEVENT
DTSTART;VALUE=DATE:20250303
DTEND;VALUE=DATE:20250304
DTSTAMP:20260424T075333
CREATED:20250220T172340Z
LAST-MODIFIED:20250220T172340Z
UID:4993-1740960000-1741046399@motherlodechristian.com
SUMMARY:No school - All School Ski Day K-8th
DESCRIPTION:All school Ski Day for K-8th grade and Teacher In Service Day.
URL:https://motherlodechristian.com/event/no-school-all-school-ski-day-k-8th-2/
END:VEVENT
BEGIN:VEVENT
DTSTART;VALUE=DATE:20250303
DTEND;VALUE=DATE:20250304
DTSTAMP:20260424T075333
CREATED:20240903T232313Z
LAST-MODIFIED:20240903T232313Z
UID:4600-1740960000-1741046399@motherlodechristian.com
SUMMARY:No School - All School Ski Day K-8th
DESCRIPTION:No School – Teacher / Staff In-Service Day and All School Ski Day at Dodge Ridge!
URL:https://motherlodechristian.com/event/no-school-all-school-ski-day-k-8th/
END:VEVENT
BEGIN:VEVENT
DTSTART;VALUE=DATE:20250228
DTEND;VALUE=DATE:20250302
DTSTAMP:20260424T075333
CREATED:20240903T232125Z
LAST-MODIFIED:20240903T232125Z
UID:4598-1740700800-1740873599@motherlodechristian.com
SUMMARY:MLCS Jubilee - Early Release at 11:30 a.m. K- 8th
DESCRIPTION:MLCS Annual Winter Jubilee 2/28 – 3/1  with Friday 2/28 an Early Release @ 11:30a.m. for K-8th .  \n*** Free Admission ***                                                                                                                                                                                                                                                                                                                                                                      Fri February 28th & Sat March 1st\, 2025                                                                                                                                                                                                                                                                                                                                      Mother Lode Fairgrounds\, Sonora                                                                                                                                                                                                                                                                                                                                  Preview: Dinner & Book Sale Friday 4-9 pm                                                                                                                                                                                                                                                                                                                        Silent Auction Bidding Starts Friday Evening                                                                                                                                                                                                                                                                                                                    Delicious Pies\, Salad Bar & Hot Foods                                                                                                                                                                                                                                                                                                                                        Game Room for Children                                                                                                                                                                                                                                                                                                                                                          Buildings Open at 9:00 am Saturday / Live Auction Begins 11:30 AM Saturday
URL:https://motherlodechristian.com/event/mlcs-jubilee-early-release-at-1130-a-m-k-8th/
END:VEVENT
BEGIN:VEVENT
DTSTART;VALUE=DATE:20250224
DTEND;VALUE=DATE:20250302
DTSTAMP:20260424T075333
CREATED:20250113T194354Z
LAST-MODIFIED:20250116T165459Z
UID:4872-1740355200-1740873599@motherlodechristian.com
SUMMARY:Post Season 6th and 7th Grade Boys Basketball Tournament
DESCRIPTION:Coaches will give information when it’s available.
URL:https://motherlodechristian.com/event/post-season-6th-and-8th-grade-boys-basketball-tournament/
END:VEVENT
BEGIN:VEVENT
DTSTART;TZID=America/Los_Angeles:20250220T153000
DTEND;TZID=America/Los_Angeles:20250220T180000
DTSTAMP:20260424T075333
CREATED:20250113T194244Z
LAST-MODIFIED:20250116T164304Z
UID:4870-1740065400-1740074400@motherlodechristian.com
SUMMARY:6th and 7th Grade Boys Basketball Game
DESCRIPTION:6th and 7th Grade Boys Basketball Game @ Sonora Ele.  6th grade at 3:45p.m. and 7th grade at 4:45p.m.
URL:https://motherlodechristian.com/event/6th-and-7th-grade-boys-basketball-game-5/
END:VEVENT
BEGIN:VEVENT
DTSTART;TZID=America/Los_Angeles:20250218T153000
DTEND;TZID=America/Los_Angeles:20250218T180000
DTSTAMP:20260424T075333
CREATED:20250113T194104Z
LAST-MODIFIED:20250116T164349Z
UID:4868-1739892600-1739901600@motherlodechristian.com
SUMMARY:6th and 7th Grade Boys Basketball Game
DESCRIPTION:6th and 7th Grade Boys Basketball Game at MLCS   6th grade game starts at 3:45p.m. and 7th grade at 4:45p.m.
URL:https://motherlodechristian.com/event/6th-and-8th-grade-boys-basketball-game-4/
END:VEVENT
BEGIN:VEVENT
DTSTART;VALUE=DATE:20250217
DTEND;VALUE=DATE:20250218
DTSTAMP:20260424T075333
CREATED:20240903T231043Z
LAST-MODIFIED:20240924T010316Z
UID:4594-1739750400-1739836799@motherlodechristian.com
SUMMARY:NO School K-8th President's Day
DESCRIPTION:
URL:https://motherlodechristian.com/event/presidents-day-no-school-k-8th/
END:VEVENT
BEGIN:VEVENT
DTSTART;VALUE=DATE:20250214
DTEND;VALUE=DATE:20250215
DTSTAMP:20260424T075333
CREATED:20240903T231001Z
LAST-MODIFIED:20240903T231001Z
UID:4592-1739491200-1739577599@motherlodechristian.com
SUMMARY:PTF Balloon -a- Gram Preschool - 8th grades
DESCRIPTION:Forms will be sent home for you to purchase your balloons! This event is for Preschool – 8th grades….. And we can always use parent helpers on this day.
URL:https://motherlodechristian.com/event/ptf-balloon-a-gram-preschool-8th-grades/
END:VEVENT
BEGIN:VEVENT
DTSTART;TZID=America/Los_Angeles:20250213T153000
DTEND;TZID=America/Los_Angeles:20250213T174500
DTSTAMP:20260424T075333
CREATED:20250130T193923Z
LAST-MODIFIED:20250130T193923Z
UID:4934-1739460600-1739468700@motherlodechristian.com
SUMMARY:Boys Basketball 7th Grade
DESCRIPTION:7th Grade Boys Basketball @MLCS  3:45 game time.
URL:https://motherlodechristian.com/event/boys-basketball-7th-grade/
END:VEVENT
BEGIN:VEVENT
DTSTART;TZID=America/Los_Angeles:20250212T153000
DTEND;TZID=America/Los_Angeles:20250212T180000
DTSTAMP:20260424T075333
CREATED:20250113T194005Z
LAST-MODIFIED:20250116T164438Z
UID:4866-1739374200-1739383200@motherlodechristian.com
SUMMARY:6th and 7th Grade Boys Basketball Game
DESCRIPTION:6th and 7th Grade Boys Basketball Game at MLCS   6th grade game starts at 3:45p.m. and 7th grade at 4:45p.m.
URL:https://motherlodechristian.com/event/6th-and-8th-grade-boys-basketball-game-3/
END:VEVENT
BEGIN:VEVENT
DTSTART;TZID=UTC:20250211T163000
DTEND;TZID=UTC:20250211T173000
DTSTAMP:20260424T075333
CREATED:20240905T041953Z
LAST-MODIFIED:20240905T041953Z
UID:4671-1739291400-1739295000@motherlodechristian.com
SUMMARY:MLCS Board Meeting 4:30p.m.
DESCRIPTION:The MLCS Board meets the 2nd Tuesday of every month in the Chapel.  Open Session starts at 4:30p.m. \nClosed Session will start at approximately 5:30p.m. \nEveryone is encouraged to come\, and agendas are emailed out to families before the scheduled meeting. \nPrevious Minutes can also be found on the website under “About”\, then click on “Board”.
URL:https://motherlodechristian.com/event/mlcs-board-meeting-430p-m-6/
END:VEVENT
END:VCALENDAR