BEGIN:VCALENDAR
VERSION:2.0
PRODID:-//Motherlode Christian School - ECPv6.15.20//NONSGML v1.0//EN
CALSCALE:GREGORIAN
METHOD:PUBLISH
X-WR-CALNAME:Motherlode Christian School
X-ORIGINAL-URL:https://motherlodechristian.com
X-WR-CALDESC:Events for Motherlode Christian School
REFRESH-INTERVAL;VALUE=DURATION:PT1H
X-Robots-Tag:noindex
X-PUBLISHED-TTL:PT1H
BEGIN:VTIMEZONE
TZID:UTC
BEGIN:STANDARD
TZOFFSETFROM:+0000
TZOFFSETTO:+0000
TZNAME:UTC
DTSTART:20230101T000000
END:STANDARD
END:VTIMEZONE
BEGIN:VEVENT
DTSTART;TZID=UTC:20240813T163000
DTEND;TZID=UTC:20240813T173000
DTSTAMP:20260424T165217
CREATED:20231028T014816Z
LAST-MODIFIED:20231028T014816Z
UID:4104-1723566600-1723570200@motherlodechristian.com
SUMMARY:Board Meeting
DESCRIPTION:MLCS Board Meeting- open session at 4:30pm in the Chapel. \nPlease come and join us.
URL:https://motherlodechristian.com/event/board-meeting-12/
END:VEVENT
BEGIN:VEVENT
DTSTART;VALUE=DATE:20240821
DTEND;VALUE=DATE:20240822
DTSTAMP:20260424T165217
CREATED:20240828T042915Z
LAST-MODIFIED:20240828T042915Z
UID:4452-1724198400-1724284799@motherlodechristian.com
SUMMARY:First Day of School
DESCRIPTION:
URL:https://motherlodechristian.com/event/first-day-of-school-2/
END:VEVENT
BEGIN:VEVENT
DTSTART;TZID=UTC:20240829T180000
DTEND;TZID=UTC:20240829T193000
DTSTAMP:20260424T165217
CREATED:20240828T043208Z
LAST-MODIFIED:20240828T043208Z
UID:4454-1724954400-1724959800@motherlodechristian.com
SUMMARY:K-3rd Grade Back to School Night
DESCRIPTION:6:00-6:25:  Presentation #1 in Classrooms. Go directly to your child’s classroom to meet with the teacher for a run-down on the\ngoals\, special events\, and “need-to-know” protocol for your child’s grade this year. \n6:30-7:00:  All K-3 parents meet in the Chapel for whole school info – and a little fun! \n7:05-7:30:  Presentation #2: Teachers repeat their presentations a second time so that parents with multiple siblings can attend\ntwo different class sessions.
URL:https://motherlodechristian.com/event/k-3rd-grade-back-to-school-night-2/
END:VEVENT
END:VCALENDAR