BEGIN:VCALENDAR
VERSION:2.0
PRODID:-//Motherlode Christian School - ECPv6.15.20//NONSGML v1.0//EN
CALSCALE:GREGORIAN
METHOD:PUBLISH
X-ORIGINAL-URL:https://motherlodechristian.com
X-WR-CALDESC:Events for Motherlode Christian School
REFRESH-INTERVAL;VALUE=DURATION:PT1H
X-Robots-Tag:noindex
X-PUBLISHED-TTL:PT1H
BEGIN:VTIMEZONE
TZID:America/Los_Angeles
BEGIN:DAYLIGHT
TZOFFSETFROM:-0800
TZOFFSETTO:-0700
TZNAME:PDT
DTSTART:20240310T100000
END:DAYLIGHT
BEGIN:STANDARD
TZOFFSETFROM:-0700
TZOFFSETTO:-0800
TZNAME:PST
DTSTART:20241103T090000
END:STANDARD
BEGIN:DAYLIGHT
TZOFFSETFROM:-0800
TZOFFSETTO:-0700
TZNAME:PDT
DTSTART:20250309T100000
END:DAYLIGHT
BEGIN:STANDARD
TZOFFSETFROM:-0700
TZOFFSETTO:-0800
TZNAME:PST
DTSTART:20251102T090000
END:STANDARD
BEGIN:DAYLIGHT
TZOFFSETFROM:-0800
TZOFFSETTO:-0700
TZNAME:PDT
DTSTART:20260308T100000
END:DAYLIGHT
BEGIN:STANDARD
TZOFFSETFROM:-0700
TZOFFSETTO:-0800
TZNAME:PST
DTSTART:20261101T090000
END:STANDARD
END:VTIMEZONE
BEGIN:VEVENT
DTSTART;VALUE=DATE:20251107
DTEND;VALUE=DATE:20251108
DTSTAMP:20260423T161150
CREATED:20250730T165752Z
LAST-MODIFIED:20250730T165752Z
UID:5254-1762473600-1762559999@motherlodechristian.com
SUMMARY:End of 1st Trimester K-8th
DESCRIPTION:
URL:https://motherlodechristian.com/event/end-of-1st-trimester-k-8th-2/
END:VEVENT
BEGIN:VEVENT
DTSTART;TZID=America/Los_Angeles:20251107T143000
DTEND;TZID=America/Los_Angeles:20251107T170000
DTSTAMP:20260423T161150
CREATED:20250910T150458Z
LAST-MODIFIED:20250910T150710Z
UID:5375-1762525800-1762534800@motherlodechristian.com
SUMMARY:Cross Country Tri-County Finals Meet @ Frogtown 2:30pm
DESCRIPTION:Coach will send information on dismissal time.
URL:https://motherlodechristian.com/event/cross-country-tri-county-finals-meet-frogtown-230pm/
END:VEVENT
BEGIN:VEVENT
DTSTART;VALUE=DATE:20251111
DTEND;VALUE=DATE:20251112
DTSTAMP:20260423T161150
CREATED:20250730T165842Z
LAST-MODIFIED:20250730T165842Z
UID:5256-1762819200-1762905599@motherlodechristian.com
SUMMARY:No School - Veteran's Day K-8th Grade
DESCRIPTION:
URL:https://motherlodechristian.com/event/no-school-veterans-day-k-8th-grade/
END:VEVENT
BEGIN:VEVENT
DTSTART;TZID=America/Los_Angeles:20251118T100000
DTEND;TZID=America/Los_Angeles:20251118T130000
DTSTAMP:20260423T161150
CREATED:20251113T173205Z
LAST-MODIFIED:20251113T173205Z
UID:5439-1763460000-1763470800@motherlodechristian.com
SUMMARY:3rd Grade Field Trip
DESCRIPTION:The Third grade will be going to Knight’s Ferry for the salmon run and study the ecosystem.
URL:https://motherlodechristian.com/event/3rd-grade-field-trip-6/
END:VEVENT
BEGIN:VEVENT
DTSTART;TZID=America/Los_Angeles:20251118T163000
DTEND;TZID=America/Los_Angeles:20251118T173000
DTSTAMP:20260423T161150
CREATED:20250814T173432Z
LAST-MODIFIED:20250814T173432Z
UID:5343-1763483400-1763487000@motherlodechristian.com
SUMMARY:MLCS Board Meeting 4:30pm
DESCRIPTION:The MLCS Board meets at 4:30 for open session in the MLCS Chapel and then after a short break is closed session. \nAll are encouraged to attend.
URL:https://motherlodechristian.com/event/mlcs-board-meeting-430pm-10/
END:VEVENT
BEGIN:VEVENT
DTSTART;TZID=America/Los_Angeles:20251119T090000
DTEND;TZID=America/Los_Angeles:20251119T140000
DTSTAMP:20260423T161150
CREATED:20251104T164213Z
LAST-MODIFIED:20251104T164213Z
UID:5436-1763542800-1763560800@motherlodechristian.com
SUMMARY:4th Grade Field Trip
DESCRIPTION:Local History … information will go home.
URL:https://motherlodechristian.com/event/4th-grade-field-trip-5/
END:VEVENT
BEGIN:VEVENT
DTSTART;TZID=America/Los_Angeles:20251121T080000
DTEND;TZID=America/Los_Angeles:20251121T130000
DTSTAMP:20260423T161150
CREATED:20250730T170038Z
LAST-MODIFIED:20250730T170038Z
UID:5258-1763712000-1763730000@motherlodechristian.com
SUMMARY:Early 1p.m. Dismissal K-8th Thanksgiving Meal
DESCRIPTION:Our K-8th grade All School Thanksgiving Meal will be held in the MLCS Gym and we will have an Early Dismissal at 1p.m.
URL:https://motherlodechristian.com/event/early-1p-m-dismissal-k-8th-thanksgiving-meal/
END:VEVENT
BEGIN:VEVENT
DTSTART;VALUE=DATE:20251124
DTEND;VALUE=DATE:20251129
DTSTAMP:20260423T161150
CREATED:20250730T170122Z
LAST-MODIFIED:20250730T170122Z
UID:5260-1763942400-1764374399@motherlodechristian.com
SUMMARY:No School K-8th Thanksgiving Break
DESCRIPTION:
URL:https://motherlodechristian.com/event/no-school-k-8th-thanksgiving-break-2/
END:VEVENT
END:VCALENDAR