BEGIN:VCALENDAR
VERSION:2.0
PRODID:-//Motherlode Christian School - ECPv6.15.20//NONSGML v1.0//EN
CALSCALE:GREGORIAN
METHOD:PUBLISH
X-ORIGINAL-URL:https://motherlodechristian.com
X-WR-CALDESC:Events for Motherlode Christian School
REFRESH-INTERVAL;VALUE=DURATION:PT1H
X-Robots-Tag:noindex
X-PUBLISHED-TTL:PT1H
BEGIN:VTIMEZONE
TZID:America/Los_Angeles
BEGIN:DAYLIGHT
TZOFFSETFROM:-0800
TZOFFSETTO:-0700
TZNAME:PDT
DTSTART:20240310T100000
END:DAYLIGHT
BEGIN:STANDARD
TZOFFSETFROM:-0700
TZOFFSETTO:-0800
TZNAME:PST
DTSTART:20241103T090000
END:STANDARD
BEGIN:DAYLIGHT
TZOFFSETFROM:-0800
TZOFFSETTO:-0700
TZNAME:PDT
DTSTART:20250309T100000
END:DAYLIGHT
BEGIN:STANDARD
TZOFFSETFROM:-0700
TZOFFSETTO:-0800
TZNAME:PST
DTSTART:20251102T090000
END:STANDARD
BEGIN:DAYLIGHT
TZOFFSETFROM:-0800
TZOFFSETTO:-0700
TZNAME:PDT
DTSTART:20260308T100000
END:DAYLIGHT
BEGIN:STANDARD
TZOFFSETFROM:-0700
TZOFFSETTO:-0800
TZNAME:PST
DTSTART:20261101T090000
END:STANDARD
BEGIN:DAYLIGHT
TZOFFSETFROM:-0800
TZOFFSETTO:-0700
TZNAME:PDT
DTSTART:20270314T100000
END:DAYLIGHT
BEGIN:STANDARD
TZOFFSETFROM:-0700
TZOFFSETTO:-0800
TZNAME:PST
DTSTART:20271107T090000
END:STANDARD
END:VTIMEZONE
BEGIN:VEVENT
DTSTART;TZID=America/Los_Angeles:20251205T080000
DTEND;TZID=America/Los_Angeles:20251205T183000
DTSTAMP:20260423T143622
CREATED:20251027T154037Z
LAST-MODIFIED:20251027T154037Z
UID:5432-1764921600-1764959400@motherlodechristian.com
SUMMARY:6th Grade Field Trip - Rosicrucian Egyptian Museum
DESCRIPTION:
URL:https://motherlodechristian.com/event/6th-grade-field-trip-rosicrucian-egyptian-museum/
END:VEVENT
BEGIN:VEVENT
DTSTART;TZID=America/Los_Angeles:20251209T163000
DTEND;TZID=America/Los_Angeles:20251209T173000
DTSTAMP:20260423T143622
CREATED:20250804T220726Z
LAST-MODIFIED:20250804T220726Z
UID:5321-1765297800-1765301400@motherlodechristian.com
SUMMARY:MLCS Board Meeting @4:30pm
DESCRIPTION:The MLCS Board Meets the second Tuesday of the month. Open Session starts at 4:30pm in the MLCS Chapel and is followed by closed session after a brief break. \nAll are invited to join us.
URL:https://motherlodechristian.com/event/mlcs-board-meeting-430pm-4/
END:VEVENT
BEGIN:VEVENT
DTSTART;TZID=America/Los_Angeles:20251218T180000
DTEND;TZID=America/Los_Angeles:20251218T200000
DTSTAMP:20260423T143622
CREATED:20250730T170249Z
LAST-MODIFIED:20250730T170249Z
UID:5262-1766080800-1766088000@motherlodechristian.com
SUMMARY:Christmas Program
DESCRIPTION:Our Christmas Program will be held in the MLCS Gym and start at 6p.m.
URL:https://motherlodechristian.com/event/christmas-program/
END:VEVENT
BEGIN:VEVENT
DTSTART;VALUE=DATE:20251219
DTEND;VALUE=DATE:20251220
DTSTAMP:20260423T143622
CREATED:20250730T170350Z
LAST-MODIFIED:20250730T170350Z
UID:5264-1766102400-1766188799@motherlodechristian.com
SUMMARY:Early Dismissal K-8th 11:30a.m.
DESCRIPTION:
URL:https://motherlodechristian.com/event/early-dismissal-k-8th-1130a-m/
END:VEVENT
BEGIN:VEVENT
DTSTART;VALUE=DATE:20251222
DTEND;VALUE=DATE:20260106
DTSTAMP:20260423T143622
CREATED:20250730T170735Z
LAST-MODIFIED:20250730T170735Z
UID:5266-1766361600-1767657599@motherlodechristian.com
SUMMARY:No School K-8th Christmas Vacation
DESCRIPTION:No School K-8th Christmas Vacation: December 22nd – January 2nd and No School for Staff In-Service Day on Monday\, January 5th. \nWe will see Student’s back on campus on January 6th!
URL:https://motherlodechristian.com/event/no-school-k-8th-christmas-vacation/
END:VEVENT
END:VCALENDAR